BEGIN:VCALENDAR
VERSION:2.0
PRODID:-//いちはら子ども未来館 - ECPv6.8.3//NONSGML v1.0//EN
CALSCALE:GREGORIAN
METHOD:PUBLISH
X-ORIGINAL-URL:https://www.we-hall.jp
X-WR-CALDESC:いちはら子ども未来館 のイベント
REFRESH-INTERVAL;VALUE=DURATION:PT1H
X-Robots-Tag:noindex
X-PUBLISHED-TTL:PT1H
BEGIN:VTIMEZONE
TZID:Asia/Tokyo
BEGIN:STANDARD
TZOFFSETFROM:+0900
TZOFFSETTO:+0900
TZNAME:JST
DTSTART:20260101T000000
END:STANDARD
END:VTIMEZONE
BEGIN:VEVENT
DTSTART;TZID=Asia/Tokyo:20260429T100000
DTEND;TZID=Asia/Tokyo:20260429T160000
DTSTAMP:20260422T062302
CREATED:20260225T090855Z
LAST-MODIFIED:20260225T090855Z
UID:10008839-1777456800-1777478400@www.we-hall.jp
SUMMARY:わくわくキングダムウィーク
DESCRIPTION:毎日楽しい8日間！のんびり派もアクティブ派もゴールデンウィークはweほーるにおまかせ。weほーるの窓ガラスをデコレーションするウィンドウアート🎨や、雨が降っても室内で元気に遊べるおなじみの「体育室であそぼう」など、weほーるはワクワクがいっぱい！家族の初夏の思い出づくりにweほーるを活用してね🎵お出かけの途中の休憩にもぴったりです。 \n\n\n\n\nイベントの詳細はこちら
URL:https://www.we-hall.jp/event/%e3%82%8f%e3%81%8f%e3%82%8f%e3%81%8f%e3%82%ad%e3%83%b3%e3%82%b0%e3%83%80%e3%83%a0%e3%82%a6%e3%82%a3%e3%83%bc%e3%82%af/2026-04-29/
CATEGORIES:わくわくキングダム,今日の未来館
ATTACH;FMTTYPE=image/jpeg:https://www.we-hall.jp/wp-content/uploads/2024/03/noimg_yoko.jpg
END:VEVENT
BEGIN:VEVENT
DTSTART;TZID=Asia/Tokyo:20260430T100000
DTEND;TZID=Asia/Tokyo:20260430T160000
DTSTAMP:20260422T062302
CREATED:20260225T090855Z
LAST-MODIFIED:20260225T090855Z
UID:10008840-1777543200-1777564800@www.we-hall.jp
SUMMARY:わくわくキングダムウィーク
DESCRIPTION:毎日楽しい8日間！のんびり派もアクティブ派もゴールデンウィークはweほーるにおまかせ。weほーるの窓ガラスをデコレーションするウィンドウアート🎨や、雨が降っても室内で元気に遊べるおなじみの「体育室であそぼう」など、weほーるはワクワクがいっぱい！家族の初夏の思い出づくりにweほーるを活用してね🎵お出かけの途中の休憩にもぴったりです。 \n\n\n\n\nイベントの詳細はこちら
URL:https://www.we-hall.jp/event/%e3%82%8f%e3%81%8f%e3%82%8f%e3%81%8f%e3%82%ad%e3%83%b3%e3%82%b0%e3%83%80%e3%83%a0%e3%82%a6%e3%82%a3%e3%83%bc%e3%82%af/2026-04-30/
CATEGORIES:わくわくキングダム,今日の未来館
ATTACH;FMTTYPE=image/jpeg:https://www.we-hall.jp/wp-content/uploads/2024/03/noimg_yoko.jpg
END:VEVENT
BEGIN:VEVENT
DTSTART;TZID=Asia/Tokyo:20260501T100000
DTEND;TZID=Asia/Tokyo:20260501T160000
DTSTAMP:20260422T062302
CREATED:20260225T090855Z
LAST-MODIFIED:20260225T090855Z
UID:10008841-1777629600-1777651200@www.we-hall.jp
SUMMARY:わくわくキングダムウィーク
DESCRIPTION:毎日楽しい8日間！のんびり派もアクティブ派もゴールデンウィークはweほーるにおまかせ。weほーるの窓ガラスをデコレーションするウィンドウアート🎨や、雨が降っても室内で元気に遊べるおなじみの「体育室であそぼう」など、weほーるはワクワクがいっぱい！家族の初夏の思い出づくりにweほーるを活用してね🎵お出かけの途中の休憩にもぴったりです。 \n\n\n\n\nイベントの詳細はこちら
URL:https://www.we-hall.jp/event/%e3%82%8f%e3%81%8f%e3%82%8f%e3%81%8f%e3%82%ad%e3%83%b3%e3%82%b0%e3%83%80%e3%83%a0%e3%82%a6%e3%82%a3%e3%83%bc%e3%82%af/2026-05-01/
CATEGORIES:わくわくキングダム,今日の未来館
ATTACH;FMTTYPE=image/jpeg:https://www.we-hall.jp/wp-content/uploads/2024/03/noimg_yoko.jpg
END:VEVENT
BEGIN:VEVENT
DTSTART;TZID=Asia/Tokyo:20260502T100000
DTEND;TZID=Asia/Tokyo:20260502T160000
DTSTAMP:20260422T062302
CREATED:20260225T090855Z
LAST-MODIFIED:20260225T090855Z
UID:10008842-1777716000-1777737600@www.we-hall.jp
SUMMARY:わくわくキングダムウィーク
DESCRIPTION:毎日楽しい8日間！のんびり派もアクティブ派もゴールデンウィークはweほーるにおまかせ。weほーるの窓ガラスをデコレーションするウィンドウアート🎨や、雨が降っても室内で元気に遊べるおなじみの「体育室であそぼう」など、weほーるはワクワクがいっぱい！家族の初夏の思い出づくりにweほーるを活用してね🎵お出かけの途中の休憩にもぴったりです。 \n\n\n\n\nイベントの詳細はこちら
URL:https://www.we-hall.jp/event/%e3%82%8f%e3%81%8f%e3%82%8f%e3%81%8f%e3%82%ad%e3%83%b3%e3%82%b0%e3%83%80%e3%83%a0%e3%82%a6%e3%82%a3%e3%83%bc%e3%82%af/2026-05-02/
CATEGORIES:わくわくキングダム,今日の未来館
ATTACH;FMTTYPE=image/jpeg:https://www.we-hall.jp/wp-content/uploads/2024/03/noimg_yoko.jpg
END:VEVENT
BEGIN:VEVENT
DTSTART;TZID=Asia/Tokyo:20260503T100000
DTEND;TZID=Asia/Tokyo:20260503T160000
DTSTAMP:20260422T062302
CREATED:20260225T090855Z
LAST-MODIFIED:20260225T090855Z
UID:10008843-1777802400-1777824000@www.we-hall.jp
SUMMARY:わくわくキングダムウィーク
DESCRIPTION:毎日楽しい8日間！のんびり派もアクティブ派もゴールデンウィークはweほーるにおまかせ。weほーるの窓ガラスをデコレーションするウィンドウアート🎨や、雨が降っても室内で元気に遊べるおなじみの「体育室であそぼう」など、weほーるはワクワクがいっぱい！家族の初夏の思い出づくりにweほーるを活用してね🎵お出かけの途中の休憩にもぴったりです。 \n\n\n\n\nイベントの詳細はこちら
URL:https://www.we-hall.jp/event/%e3%82%8f%e3%81%8f%e3%82%8f%e3%81%8f%e3%82%ad%e3%83%b3%e3%82%b0%e3%83%80%e3%83%a0%e3%82%a6%e3%82%a3%e3%83%bc%e3%82%af/2026-05-03/
CATEGORIES:わくわくキングダム,今日の未来館
ATTACH;FMTTYPE=image/jpeg:https://www.we-hall.jp/wp-content/uploads/2024/03/noimg_yoko.jpg
END:VEVENT
BEGIN:VEVENT
DTSTART;TZID=Asia/Tokyo:20260504T100000
DTEND;TZID=Asia/Tokyo:20260504T160000
DTSTAMP:20260422T062302
CREATED:20260225T090855Z
LAST-MODIFIED:20260225T090855Z
UID:10008844-1777888800-1777910400@www.we-hall.jp
SUMMARY:わくわくキングダムウィーク
DESCRIPTION:毎日楽しい8日間！のんびり派もアクティブ派もゴールデンウィークはweほーるにおまかせ。weほーるの窓ガラスをデコレーションするウィンドウアート🎨や、雨が降っても室内で元気に遊べるおなじみの「体育室であそぼう」など、weほーるはワクワクがいっぱい！家族の初夏の思い出づくりにweほーるを活用してね🎵お出かけの途中の休憩にもぴったりです。 \n\n\n\n\nイベントの詳細はこちら
URL:https://www.we-hall.jp/event/%e3%82%8f%e3%81%8f%e3%82%8f%e3%81%8f%e3%82%ad%e3%83%b3%e3%82%b0%e3%83%80%e3%83%a0%e3%82%a6%e3%82%a3%e3%83%bc%e3%82%af/2026-05-04/
CATEGORIES:わくわくキングダム,今日の未来館
ATTACH;FMTTYPE=image/jpeg:https://www.we-hall.jp/wp-content/uploads/2024/03/noimg_yoko.jpg
END:VEVENT
BEGIN:VEVENT
DTSTART;TZID=Asia/Tokyo:20260505T100000
DTEND;TZID=Asia/Tokyo:20260505T160000
DTSTAMP:20260422T062302
CREATED:20260225T090855Z
LAST-MODIFIED:20260225T090855Z
UID:10008845-1777975200-1777996800@www.we-hall.jp
SUMMARY:わくわくキングダムウィーク
DESCRIPTION:毎日楽しい8日間！のんびり派もアクティブ派もゴールデンウィークはweほーるにおまかせ。weほーるの窓ガラスをデコレーションするウィンドウアート🎨や、雨が降っても室内で元気に遊べるおなじみの「体育室であそぼう」など、weほーるはワクワクがいっぱい！家族の初夏の思い出づくりにweほーるを活用してね🎵お出かけの途中の休憩にもぴったりです。 \n\n\n\n\nイベントの詳細はこちら
URL:https://www.we-hall.jp/event/%e3%82%8f%e3%81%8f%e3%82%8f%e3%81%8f%e3%82%ad%e3%83%b3%e3%82%b0%e3%83%80%e3%83%a0%e3%82%a6%e3%82%a3%e3%83%bc%e3%82%af/2026-05-05/
CATEGORIES:わくわくキングダム,今日の未来館
ATTACH;FMTTYPE=image/jpeg:https://www.we-hall.jp/wp-content/uploads/2024/03/noimg_yoko.jpg
END:VEVENT
BEGIN:VEVENT
DTSTART;TZID=Asia/Tokyo:20260506T100000
DTEND;TZID=Asia/Tokyo:20260506T160000
DTSTAMP:20260422T062302
CREATED:20260225T090855Z
LAST-MODIFIED:20260225T090855Z
UID:10008846-1778061600-1778083200@www.we-hall.jp
SUMMARY:わくわくキングダムウィーク
DESCRIPTION:毎日楽しい8日間！のんびり派もアクティブ派もゴールデンウィークはweほーるにおまかせ。weほーるの窓ガラスをデコレーションするウィンドウアート🎨や、雨が降っても室内で元気に遊べるおなじみの「体育室であそぼう」など、weほーるはワクワクがいっぱい！家族の初夏の思い出づくりにweほーるを活用してね🎵お出かけの途中の休憩にもぴったりです。 \n\n\n\n\nイベントの詳細はこちら
URL:https://www.we-hall.jp/event/%e3%82%8f%e3%81%8f%e3%82%8f%e3%81%8f%e3%82%ad%e3%83%b3%e3%82%b0%e3%83%80%e3%83%a0%e3%82%a6%e3%82%a3%e3%83%bc%e3%82%af/2026-05-06/
CATEGORIES:わくわくキングダム,今日の未来館
ATTACH;FMTTYPE=image/jpeg:https://www.we-hall.jp/wp-content/uploads/2024/03/noimg_yoko.jpg
END:VEVENT
END:VCALENDAR