BEGIN:VCALENDAR
VERSION:2.0
PRODID:-//いちはら子ども未来館 - ECPv6.8.3//NONSGML v1.0//EN
CALSCALE:GREGORIAN
METHOD:PUBLISH
X-ORIGINAL-URL:https://www.we-hall.jp
X-WR-CALDESC:いちはら子ども未来館 のイベント
REFRESH-INTERVAL;VALUE=DURATION:PT1H
X-Robots-Tag:noindex
X-PUBLISHED-TTL:PT1H
BEGIN:VTIMEZONE
TZID:Asia/Tokyo
BEGIN:STANDARD
TZOFFSETFROM:+0900
TZOFFSETTO:+0900
TZNAME:JST
DTSTART:20260101T000000
END:STANDARD
END:VTIMEZONE
BEGIN:VEVENT
DTSTART;TZID=Asia/Tokyo:20260426T090000
DTEND;TZID=Asia/Tokyo:20260426T170000
DTSTAMP:20260426T115735
CREATED:20260318T094713Z
LAST-MODIFIED:20260320T013713Z
UID:10008969-1777194000-1777222800@www.we-hall.jp
SUMMARY:のりものひろば
DESCRIPTION:いろんなのりものをweほーるで走らせよう！ \n\n\n\nたたみ敷きの大きなお部屋に電車や車のおもちゃをたくさん用意してお待ちしております！ \n\n\n\n時間いっぱいあそんでください！ \n\n\n\n※申込不要、出入り自由！
URL:https://www.we-hall.jp/event/%e3%81%ae%e3%82%8a%e3%82%82%e3%81%ae%e3%81%b2%e3%82%8d%e3%81%b0-36/2026-04-26/
CATEGORIES:ちびっこプラザ,今日の未来館
ATTACH;FMTTYPE=image/jpeg:https://www.we-hall.jp/wp-content/uploads/2025/06/41a2aca1ea8a8b99d574fe150565be01-1.jpg
END:VEVENT
BEGIN:VEVENT
DTSTART;TZID=Asia/Tokyo:20260426T100000
DTEND;TZID=Asia/Tokyo:20260426T113000
DTSTAMP:20260426T115735
CREATED:20260318T100600Z
LAST-MODIFIED:20260318T100601Z
UID:10008918-1777197600-1777203000@www.we-hall.jp
SUMMARY:ハッピーガーデン～障がいある子もない子も一緒に遊ぼ～
DESCRIPTION:今月は「風船マットにのってみよう！」をします。 \n\n\n\n不思議なマットの上に乗って転がったり歩いてみたりしてみよう！
URL:https://www.we-hall.jp/event/%e3%83%8f%e3%83%83%e3%83%94%e3%83%bc%e3%82%ac%e3%83%bc%e3%83%87%e3%83%b3%ef%bd%9e%e9%9a%9c%e3%81%8c%e3%81%84%e3%81%82%e3%82%8b%e5%ad%90%e3%82%82%e3%81%aa%e3%81%84%e5%ad%90%e3%82%82%e4%b8%80%e7%b7%92/2026-04-26/
CATEGORIES:ちびっこプラザ,今日の未来館
ATTACH;FMTTYPE=image/jpeg:https://www.we-hall.jp/wp-content/uploads/2026/03/31463816_s.jpg
END:VEVENT
BEGIN:VEVENT
DTSTART;TZID=Asia/Tokyo:20260427T103000
DTEND;TZID=Asia/Tokyo:20260427T110000
DTSTAMP:20260426T115735
CREATED:20260318T023503Z
LAST-MODIFIED:20260318T023503Z
UID:10008895-1777285800-1777287600@www.we-hall.jp
SUMMARY:お誕生会
DESCRIPTION:4月生まれの未就学児向けの内容でお祝いします。 \n\n\n\nweほーるからお誕生カードをプレゼント♪ \n\n\n\n選び取りカードやフォトスポット撮影など親子で楽しめる内容でお祝いします。
URL:https://www.we-hall.jp/event/%e3%81%8a%e8%aa%95%e7%94%9f%e4%bc%9a-22/
CATEGORIES:ちびっこプラザ,今日の未来館
ATTACH;FMTTYPE=image/png:https://www.we-hall.jp/wp-content/uploads/2026/03/aaff3a285799fc0938733c0135256f2c.png
END:VEVENT
BEGIN:VEVENT
DTSTART;TZID=Asia/Tokyo:20260429T090000
DTEND;TZID=Asia/Tokyo:20260429T170000
DTSTAMP:20260426T115735
CREATED:20260318T094713Z
LAST-MODIFIED:20260320T013713Z
UID:10008970-1777453200-1777482000@www.we-hall.jp
SUMMARY:のりものひろば
DESCRIPTION:いろんなのりものをweほーるで走らせよう！ \n\n\n\nたたみ敷きの大きなお部屋に電車や車のおもちゃをたくさん用意してお待ちしております！ \n\n\n\n時間いっぱいあそんでください！ \n\n\n\n※申込不要、出入り自由！
URL:https://www.we-hall.jp/event/%e3%81%ae%e3%82%8a%e3%82%82%e3%81%ae%e3%81%b2%e3%82%8d%e3%81%b0-36/2026-04-29/
CATEGORIES:ちびっこプラザ,今日の未来館
ATTACH;FMTTYPE=image/jpeg:https://www.we-hall.jp/wp-content/uploads/2025/06/41a2aca1ea8a8b99d574fe150565be01-1.jpg
END:VEVENT
BEGIN:VEVENT
DTSTART;TZID=Asia/Tokyo:20260430T090000
DTEND;TZID=Asia/Tokyo:20260430T170000
DTSTAMP:20260426T115735
CREATED:20260318T094713Z
LAST-MODIFIED:20260320T013713Z
UID:10008971-1777539600-1777568400@www.we-hall.jp
SUMMARY:のりものひろば
DESCRIPTION:いろんなのりものをweほーるで走らせよう！ \n\n\n\nたたみ敷きの大きなお部屋に電車や車のおもちゃをたくさん用意してお待ちしております！ \n\n\n\n時間いっぱいあそんでください！ \n\n\n\n※申込不要、出入り自由！
URL:https://www.we-hall.jp/event/%e3%81%ae%e3%82%8a%e3%82%82%e3%81%ae%e3%81%b2%e3%82%8d%e3%81%b0-36/2026-04-30/
CATEGORIES:ちびっこプラザ,今日の未来館
ATTACH;FMTTYPE=image/jpeg:https://www.we-hall.jp/wp-content/uploads/2025/06/41a2aca1ea8a8b99d574fe150565be01-1.jpg
END:VEVENT
END:VCALENDAR