BEGIN:VCALENDAR
VERSION:2.0
PRODID:-//いちはら子ども未来館 - ECPv6.8.3//NONSGML v1.0//EN
CALSCALE:GREGORIAN
METHOD:PUBLISH
X-ORIGINAL-URL:https://www.we-hall.jp
X-WR-CALDESC:いちはら子ども未来館 のイベント
REFRESH-INTERVAL;VALUE=DURATION:PT1H
X-Robots-Tag:noindex
X-PUBLISHED-TTL:PT1H
BEGIN:VTIMEZONE
TZID:Asia/Tokyo
BEGIN:STANDARD
TZOFFSETFROM:+0900
TZOFFSETTO:+0900
TZNAME:JST
DTSTART:20260101T000000
END:STANDARD
END:VTIMEZONE
BEGIN:VEVENT
DTSTART;TZID=Asia/Tokyo:20260420T100000
DTEND;TZID=Asia/Tokyo:20260420T113000
DTSTAMP:20260426T102352
CREATED:20260318T091851Z
LAST-MODIFIED:20260318T091852Z
UID:10008914-1776679200-1776684600@www.we-hall.jp
SUMMARY:なかよし工作「うさぎシェイカー」
DESCRIPTION:容器にメニューの中から選んだ材料を入れてうさぎシェイカーを完成させよう！ \n\n\n\n完成したらどんな音がするかな？親子で一緒につくってみよう！
URL:https://www.we-hall.jp/event/%e3%81%aa%e3%81%8b%e3%82%88%e3%81%97%e5%b7%a5%e4%bd%9c%e3%80%8c%e3%81%86%e3%81%95%e3%81%8e%e3%82%b7%e3%82%a7%e3%82%a4%e3%82%ab%e3%83%bc%e3%80%8d/2026-04-20/
CATEGORIES:ちびっこプラザ,今日の未来館
ATTACH;FMTTYPE=image/jpeg:https://www.we-hall.jp/wp-content/uploads/2026/03/2c7788af36f006398ba6dd59b139b4c9-scaled.jpeg
END:VEVENT
END:VCALENDAR