BEGIN:VCALENDAR
VERSION:2.0
PRODID:-//いちはら子ども未来館 - ECPv6.8.3//NONSGML v1.0//EN
CALSCALE:GREGORIAN
METHOD:PUBLISH
X-ORIGINAL-URL:https://www.we-hall.jp
X-WR-CALDESC:いちはら子ども未来館 のイベント
REFRESH-INTERVAL;VALUE=DURATION:PT1H
X-Robots-Tag:noindex
X-PUBLISHED-TTL:PT1H
BEGIN:VTIMEZONE
TZID:Asia/Tokyo
BEGIN:STANDARD
TZOFFSETFROM:+0900
TZOFFSETTO:+0900
TZNAME:JST
DTSTART:20260101T000000
END:STANDARD
END:VTIMEZONE
BEGIN:VEVENT
DTSTART;TZID=Asia/Tokyo:20260414T100000
DTEND;TZID=Asia/Tokyo:20260414T110000
DTSTAMP:20260426T083620
CREATED:20260318T014900Z
LAST-MODIFIED:20260318T014901Z
UID:10008891-1776160800-1776164400@www.we-hall.jp
SUMMARY:ちびっこサーキット
DESCRIPTION:この時間はミニサーキットが出現！ \n\n\n\n親子・お友だちと一緒に楽しくあそぼう♪ \n\n\n\n※開催時間中はクライミングが一時休止となります \n\n\n\n※乗用玩具の台数に限りがありますので譲り合ってお楽しみください
URL:https://www.we-hall.jp/event/%e3%81%a1%e3%81%b3%e3%81%a3%e3%81%93%e3%82%b5%e3%83%bc%e3%82%ad%e3%83%83%e3%83%88/
CATEGORIES:ちびっこプラザ,今日の未来館
ATTACH;FMTTYPE=image/jpeg:https://www.we-hall.jp/wp-content/uploads/2026/03/159ed87cca2980658dd71508df6ccdca-scaled.jpeg
END:VEVENT
END:VCALENDAR