BEGIN:VCALENDAR
VERSION:2.0
PRODID:-//いちはら子ども未来館 - ECPv6.8.3//NONSGML v1.0//EN
CALSCALE:GREGORIAN
METHOD:PUBLISH
X-WR-CALNAME:いちはら子ども未来館
X-ORIGINAL-URL:https://www.we-hall.jp
X-WR-CALDESC:いちはら子ども未来館 のイベント
REFRESH-INTERVAL;VALUE=DURATION:PT1H
X-Robots-Tag:noindex
X-PUBLISHED-TTL:PT1H
BEGIN:VTIMEZONE
TZID:Asia/Tokyo
BEGIN:STANDARD
TZOFFSETFROM:+0900
TZOFFSETTO:+0900
TZNAME:JST
DTSTART:20260101T000000
END:STANDARD
END:VTIMEZONE
BEGIN:VEVENT
DTSTART;TZID=Asia/Tokyo:20260408T090000
DTEND;TZID=Asia/Tokyo:20260408T170000
DTSTAMP:20260426T115858
CREATED:20260327T035507Z
LAST-MODIFIED:20260327T041548Z
UID:10009010-1775638800-1775667600@www.we-hall.jp
SUMMARY:ホールであそぼ（午前９時から）
DESCRIPTION:未就学児のためにホールを無料開放しています。親子でのびのび遊びまわれます。 \n\n\n\n・ホール内にある遊具でお遊びください（数に限りがあります）。・遊具の持ち込みは不可。・その他、会場内の注意事項をお守りください。会場内設置の遊具は、①フットホッケー（足でけって遊ぶホッケー）②缶ぽっくり（プラスチック製）③バドミントンセットです。 \n\n\n\n※保護者同伴のみご入室いただけます。※小学生以上の方は、保護者および未就学児を同伴している場合のみ入室可能です。　その際は、未就学児が遊べるよう、利用の範囲やプレーをゆるやかにするなどの配慮をお願いします。※利用方法や遊具の使用方法などについて、お守りいただけない場合は退室していただく場合があります。
URL:https://www.we-hall.jp/event/%e3%83%9b%e3%83%bc%e3%83%ab%e3%81%a7%e3%81%82%e3%81%9d%e3%81%bc%e3%81%86%ef%bc%88%e5%8d%88%e5%89%8d%ef%bc%99%e6%99%82%e3%81%8b%e3%82%89%ef%bc%89-4/
CATEGORIES:ちびっこプラザ,今日の未来館
ATTACH;FMTTYPE=image/jpeg:https://www.we-hall.jp/wp-content/uploads/2024/10/84c2e6b0d0731188dcf1d875391d7d89.jpg
END:VEVENT
BEGIN:VEVENT
DTSTART;TZID=Asia/Tokyo:20260408T140000
DTEND;TZID=Asia/Tokyo:20260408T160000
DTSTAMP:20260426T115858
CREATED:20260318T013444Z
LAST-MODIFIED:20260318T013444Z
UID:10008889-1775656800-1775664000@www.we-hall.jp
SUMMARY:おえかきひろば
DESCRIPTION:大きなシートの上で自由にお絵かきを楽しもう！ \n\n\n\n※30分に1度シートのリセットタイムを設けます
URL:https://www.we-hall.jp/event/%e3%81%8a%e3%81%88%e3%81%8b%e3%81%8d%e3%81%b2%e3%82%8d%e3%81%b0/
CATEGORIES:ちびっこプラザ,プレゼーションテラス,今日の未来館
ATTACH;FMTTYPE=image/jpeg:https://www.we-hall.jp/wp-content/uploads/2026/03/090cc02e473050560d7a622b3fb27095-scaled.jpg
END:VEVENT
END:VCALENDAR