BEGIN:VCALENDAR
VERSION:2.0
PRODID:-//いちはら子ども未来館 - ECPv6.8.3//NONSGML v1.0//EN
CALSCALE:GREGORIAN
METHOD:PUBLISH
X-ORIGINAL-URL:https://www.we-hall.jp
X-WR-CALDESC:いちはら子ども未来館 のイベント
REFRESH-INTERVAL;VALUE=DURATION:PT1H
X-Robots-Tag:noindex
X-PUBLISHED-TTL:PT1H
BEGIN:VTIMEZONE
TZID:Asia/Tokyo
BEGIN:STANDARD
TZOFFSETFROM:+0900
TZOFFSETTO:+0900
TZNAME:JST
DTSTART:20260101T000000
END:STANDARD
END:VTIMEZONE
BEGIN:VEVENT
DTSTART;TZID=Asia/Tokyo:20260523T100000
DTEND;TZID=Asia/Tokyo:20260523T120000
DTSTAMP:20260425T203104
CREATED:20260406T112239Z
LAST-MODIFIED:20260406T112239Z
UID:10009037-1779530400-1779537600@www.we-hall.jp
SUMMARY:ウッドファクトリー
DESCRIPTION:板や木材を使って自由に作品を作ってみよう！木材のご用意がありますので、自由に組み合わせて工作してください。 \n\n\n\n※くぎ、ねじ、トンカチ、のこぎり、電動ドライバー、グルーガン等の工具が使用できます。※お子さまだけでもご参加いただけますが、特に低年齢のお子さまには保護者が同伴くださいますようお願いいたします。
URL:https://www.we-hall.jp/event/%e3%82%a6%e3%83%83%e3%83%89%e3%83%95%e3%82%a1%e3%82%af%e3%83%88%e3%83%aa%e3%83%bc-48/2026-05-23/
CATEGORIES:プレゼーションテラス,わくわくキングダム,今日の未来館
ATTACH;FMTTYPE=image/jpeg:https://www.we-hall.jp/wp-content/uploads/2024/06/2807317_l-scaled.jpg
END:VEVENT
BEGIN:VEVENT
DTSTART;TZID=Asia/Tokyo:20260523T130000
DTEND;TZID=Asia/Tokyo:20260523T170000
DTSTAMP:20260425T203104
CREATED:20260406T113414Z
LAST-MODIFIED:20260406T113415Z
UID:10009040-1779541200-1779555600@www.we-hall.jp
SUMMARY:プログラミングであそぼう
DESCRIPTION:楽しく学べるキットを使って、プログラミングを体験しよう！ \n\n\n\n\n\n\n\n申込\n\n\n\n不要。当日直接会場へ
URL:https://www.we-hall.jp/event/%e3%83%97%e3%83%ad%e3%82%b0%e3%83%a9%e3%83%9f%e3%83%b3%e3%82%b0%e3%81%a7%e3%81%82%e3%81%9d%e3%81%bc%e3%81%86-63/2026-05-23/
CATEGORIES:プレゼーションテラス,わくわくキングダム,今日の未来館
ATTACH;FMTTYPE=image/jpeg:https://www.we-hall.jp/wp-content/uploads/2026/02/9c2e7e847b55c0ac72427daa7156de1b-scaled.jpeg
END:VEVENT
END:VCALENDAR