BEGIN:VCALENDAR
VERSION:2.0
PRODID:-//いちはら子ども未来館 - ECPv6.8.3//NONSGML v1.0//EN
CALSCALE:GREGORIAN
METHOD:PUBLISH
X-WR-CALNAME:いちはら子ども未来館
X-ORIGINAL-URL:https://www.we-hall.jp
X-WR-CALDESC:いちはら子ども未来館 のイベント
REFRESH-INTERVAL;VALUE=DURATION:PT1H
X-Robots-Tag:noindex
X-PUBLISHED-TTL:PT1H
BEGIN:VTIMEZONE
TZID:Asia/Tokyo
BEGIN:STANDARD
TZOFFSETFROM:+0900
TZOFFSETTO:+0900
TZNAME:JST
DTSTART:20260101T000000
END:STANDARD
END:VTIMEZONE
BEGIN:VEVENT
DTSTART;TZID=Asia/Tokyo:20260509T100000
DTEND;TZID=Asia/Tokyo:20260509T120000
DTSTAMP:20260425T010257
CREATED:20260406T112239Z
LAST-MODIFIED:20260406T112239Z
UID:10009036-1778320800-1778328000@www.we-hall.jp
SUMMARY:ウッドファクトリー
DESCRIPTION:板や木材を使って自由に作品を作ってみよう！木材のご用意がありますので、自由に組み合わせて工作してください。 \n\n\n\n※くぎ、ねじ、トンカチ、のこぎり、電動ドライバー、グルーガン等の工具が使用できます。※お子さまだけでもご参加いただけますが、特に低年齢のお子さまには保護者が同伴くださいますようお願いいたします。
URL:https://www.we-hall.jp/event/%e3%82%a6%e3%83%83%e3%83%89%e3%83%95%e3%82%a1%e3%82%af%e3%83%88%e3%83%aa%e3%83%bc-48/2026-05-09/
CATEGORIES:プレゼーションテラス,わくわくキングダム,今日の未来館
ATTACH;FMTTYPE=image/jpeg:https://www.we-hall.jp/wp-content/uploads/2024/06/2807317_l-scaled.jpg
END:VEVENT
BEGIN:VEVENT
DTSTART;TZID=Asia/Tokyo:20260509T130000
DTEND;TZID=Asia/Tokyo:20260509T140000
DTSTAMP:20260425T010257
CREATED:20260403T002659Z
LAST-MODIFIED:20260403T004441Z
UID:10009027-1778331600-1778335200@www.we-hall.jp
SUMMARY:イングリッシュ・ラボ
DESCRIPTION:身近な英語を楽しみながら学ぼう。今回のテーマは「天気・季節」です。（保護者の同伴は不可となります） \n\n\n\n\n\n\n\n定員\n\n\n\n20名（先着順） \n\n\n\n申込\n\n\n\n事前申込制　4月5日（日）から窓口・電話にて受付 \n\n\n\n講師\n\n\n\n守田早生里
URL:https://www.we-hall.jp/event/%e3%82%a4%e3%83%b3%e3%82%b0%e3%83%aa%e3%83%83%e3%82%b7%e3%83%a5%e3%83%bb%e3%83%a9%e3%83%9c-22/
CATEGORIES:わくわくキングダム,今日の未来館
ATTACH;FMTTYPE=image/jpeg:https://www.we-hall.jp/wp-content/uploads/2025/07/2a164cba4118ec9fc00b790bdb5c1c9b-scaled.jpg
END:VEVENT
BEGIN:VEVENT
DTSTART;TZID=Asia/Tokyo:20260509T130000
DTEND;TZID=Asia/Tokyo:20260509T170000
DTSTAMP:20260425T010257
CREATED:20260406T113414Z
LAST-MODIFIED:20260406T113415Z
UID:10009039-1778331600-1778346000@www.we-hall.jp
SUMMARY:プログラミングであそぼう
DESCRIPTION:楽しく学べるキットを使って、プログラミングを体験しよう！ \n\n\n\n\n\n\n\n申込\n\n\n\n不要。当日直接会場へ
URL:https://www.we-hall.jp/event/%e3%83%97%e3%83%ad%e3%82%b0%e3%83%a9%e3%83%9f%e3%83%b3%e3%82%b0%e3%81%a7%e3%81%82%e3%81%9d%e3%81%bc%e3%81%86-63/2026-05-09/
CATEGORIES:プレゼーションテラス,わくわくキングダム,今日の未来館
ATTACH;FMTTYPE=image/jpeg:https://www.we-hall.jp/wp-content/uploads/2026/02/9c2e7e847b55c0ac72427daa7156de1b-scaled.jpeg
END:VEVENT
END:VCALENDAR