BEGIN:VCALENDAR
VERSION:2.0
PRODID:-//いちはら子ども未来館 - ECPv6.8.3//NONSGML v1.0//EN
CALSCALE:GREGORIAN
METHOD:PUBLISH
X-ORIGINAL-URL:https://www.we-hall.jp
X-WR-CALDESC:いちはら子ども未来館 のイベント
REFRESH-INTERVAL;VALUE=DURATION:PT1H
X-Robots-Tag:noindex
X-PUBLISHED-TTL:PT1H
BEGIN:VTIMEZONE
TZID:Asia/Tokyo
BEGIN:STANDARD
TZOFFSETFROM:+0900
TZOFFSETTO:+0900
TZNAME:JST
DTSTART:20260101T000000
END:STANDARD
END:VTIMEZONE
BEGIN:VEVENT
DTSTART;TZID=Asia/Tokyo:20260426T100000
DTEND;TZID=Asia/Tokyo:20260426T113000
DTSTAMP:20260424T072701
CREATED:20260302T024303Z
LAST-MODIFIED:20260302T024304Z
UID:10008886-1777197600-1777203000@www.we-hall.jp
SUMMARY:サイエンス・ラボ
DESCRIPTION:実験や観察を通して科学の不思議や面白さを体験。今回のテーマは「オリジナルバスボム作り」です。 \n\n\n\n身近な材料を使って、シュワシュワ反応するバスボムを手作りします。材料を混ぜることで起きる変化（化学反応）を観察しながら、色や香りなども工夫して”自分だけのバスボム”を完成させます。作ったバスボムは持ち帰りOKです。 \n\n\n\n\n\n\n\n定員\n\n\n\n20名（先着順） \n\n\n\n申込\n\n\n\n事前申込制　3月5日（木）から窓口・電話にて受付 \n\n\n\n講師\n\n\n\n平野智史（株式会社warmoria）
URL:https://www.we-hall.jp/event/%e3%82%b5%e3%82%a4%e3%82%a8%e3%83%b3%e3%82%b9%e3%83%bb%e3%83%a9%e3%83%9c-19/
CATEGORIES:わくわくキングダム,今日の未来館
ATTACH;FMTTYPE=image/jpeg:https://www.we-hall.jp/wp-content/uploads/2026/03/f54a73c4c8ef0fb060f816c6dd5d9e81-scaled.jpg
END:VEVENT
BEGIN:VEVENT
DTSTART;TZID=Asia/Tokyo:20260426T130000
DTEND;TZID=Asia/Tokyo:20260426T170000
DTSTAMP:20260424T072701
CREATED:20260226T020351Z
LAST-MODIFIED:20260226T020351Z
UID:10008860-1777208400-1777222800@www.we-hall.jp
SUMMARY:ゲームひろば
DESCRIPTION:4月からスタートする新しいプログラムです。いろんなゲームを対戦プレイで楽しもう！
URL:https://www.we-hall.jp/event/%e3%82%b2%e3%83%bc%e3%83%a0%e3%81%b2%e3%82%8d%e3%81%b0/2026-04-26/
CATEGORIES:プレゼーションテラス,わくわくキングダム,今日の未来館
ATTACH;FMTTYPE=image/jpeg:https://www.we-hall.jp/wp-content/uploads/2026/02/4492f8b1d4509769183b8006478073e5.jpg
END:VEVENT
END:VCALENDAR