BEGIN:VCALENDAR
VERSION:2.0
PRODID:-//いちはら子ども未来館 - ECPv6.8.3//NONSGML v1.0//EN
CALSCALE:GREGORIAN
METHOD:PUBLISH
X-ORIGINAL-URL:https://www.we-hall.jp
X-WR-CALDESC:いちはら子ども未来館 のイベント
REFRESH-INTERVAL;VALUE=DURATION:PT1H
X-Robots-Tag:noindex
X-PUBLISHED-TTL:PT1H
BEGIN:VTIMEZONE
TZID:Asia/Tokyo
BEGIN:STANDARD
TZOFFSETFROM:+0900
TZOFFSETTO:+0900
TZNAME:JST
DTSTART:20260101T000000
END:STANDARD
END:VTIMEZONE
BEGIN:VEVENT
DTSTART;TZID=Asia/Tokyo:20260419T090000
DTEND;TZID=Asia/Tokyo:20260419T170000
DTSTAMP:20260423T200928
CREATED:20260327T025814Z
LAST-MODIFIED:20260327T030435Z
UID:10008881-1776589200-1776618000@www.we-hall.jp
SUMMARY:体育室であそぼう（午前９時から）
DESCRIPTION:主に小学生個人向けの体育室無料開放です。バドミントンや卓球、ゴムボールなど、広々とした体育室でのびのび遊べます。 \n\n\n\n☆申込不要、出入り自由☆ラケットやボールなどのスポーツ用品・遊具はお貸出し品があります（持込不可）☆室内履きをお持ちの方は、ご持参ください。 \n\n\n\n【注意事項】 \n\n\n\n①スポーツ用品・遊具の持ち込み利用は禁止しています。　会場内で遊べる用品・遊具は１階総合受付でお貸出ししている物に限ります。②道具（遊具）の破損が多くなっています。ご自身が使用した物は、使用が終わるまで丁寧に　使用することを心掛け、使用後は元あった場所に必ずお戻しください。また、使用中にあやまって壊した、または壊れた等については、すみやかに施設スタッフに　申し出をおこない、そのまま放置しないようお願いいたします。③各種目の遊べる場所を指定しています。会場の案内板をご確認の上、指定の場所であそんでください。④遊べる場所は占有できません。譲り合ってあそんでください。⑤保護者の方は、お子様の見守りをお願いいたします。⑥大人の方のみで利用する目的での入場はお断りいたします。⑦利用方法について、施設スタッフによる再三の注意にも関わらずお守りいただけない場合は、その時点で貸出を中止し、会場からご退出いただきます。⑧利用方法は、予告なく変更になる場合があります。施設スタッフからのご案内、会場内の掲示等を確認の上、ご利用ください。
URL:https://www.we-hall.jp/event/%e4%bd%93%e8%82%b2%e5%ae%a4%e3%81%a7%e3%81%82%e3%81%9d%e3%81%bc%e3%81%86%ef%bc%889%e6%99%82%ef%bd%9e17%e6%99%82%ef%bc%89-7/
CATEGORIES:わくわくキングダム,今日の未来館
ATTACH;FMTTYPE=image/jpeg:https://www.we-hall.jp/wp-content/uploads/2024/09/24989165_l-scaled.jpg
END:VEVENT
BEGIN:VEVENT
DTSTART;TZID=Asia/Tokyo:20260419T130000
DTEND;TZID=Asia/Tokyo:20260419T170000
DTSTAMP:20260423T200928
CREATED:20260226T020351Z
LAST-MODIFIED:20260226T020351Z
UID:10008859-1776603600-1776618000@www.we-hall.jp
SUMMARY:ゲームひろば
DESCRIPTION:4月からスタートする新しいプログラムです。いろんなゲームを対戦プレイで楽しもう！
URL:https://www.we-hall.jp/event/%e3%82%b2%e3%83%bc%e3%83%a0%e3%81%b2%e3%82%8d%e3%81%b0/2026-04-19/
CATEGORIES:プレゼーションテラス,わくわくキングダム,今日の未来館
ATTACH;FMTTYPE=image/jpeg:https://www.we-hall.jp/wp-content/uploads/2026/02/4492f8b1d4509769183b8006478073e5.jpg
END:VEVENT
END:VCALENDAR