BEGIN:VCALENDAR
VERSION:2.0
PRODID:-//いちはら子ども未来館 - ECPv6.8.3//NONSGML v1.0//EN
CALSCALE:GREGORIAN
METHOD:PUBLISH
X-ORIGINAL-URL:https://www.we-hall.jp
X-WR-CALDESC:いちはら子ども未来館 のイベント
REFRESH-INTERVAL;VALUE=DURATION:PT1H
X-Robots-Tag:noindex
X-PUBLISHED-TTL:PT1H
BEGIN:VTIMEZONE
TZID:Asia/Tokyo
BEGIN:STANDARD
TZOFFSETFROM:+0900
TZOFFSETTO:+0900
TZNAME:JST
DTSTART:20260101T000000
END:STANDARD
END:VTIMEZONE
BEGIN:VEVENT
DTSTART;TZID=Asia/Tokyo:20260323T153000
DTEND;TZID=Asia/Tokyo:20260323T170000
DTSTAMP:20260425T092715
CREATED:20260127T100649Z
LAST-MODIFIED:20260127T100649Z
UID:10008793-1774279800-1774285200@www.we-hall.jp
SUMMARY:プログラミングであそぼう
DESCRIPTION:楽しく学べるキットを使って、プログラミングを体験しよう！ \n\n\n\n\n\n\n\n申込\n\n\n\n不要。当日直接会場へ
URL:https://www.we-hall.jp/event/%e3%83%97%e3%83%ad%e3%82%b0%e3%83%a9%e3%83%9f%e3%83%b3%e3%82%b0%e3%81%a7%e3%81%82%e3%81%9d%e3%81%bc%e3%81%86-61/2026-03-23/
CATEGORIES:プレゼーションテラス,わくわくキングダム,今日の未来館
ATTACH;FMTTYPE=image/jpeg:https://www.we-hall.jp/wp-content/uploads/2025/05/2fac2eae1fdf73f91955a13ca3b22d80-scaled.jpg
END:VEVENT
BEGIN:VEVENT
DTSTART;TZID=Asia/Tokyo:20260323T160000
DTEND;TZID=Asia/Tokyo:20260327T170000
DTSTAMP:20260425T092715
CREATED:20260217T150000Z
LAST-MODIFIED:20260219T014452Z
UID:10008829-1774281600-1774630800@www.we-hall.jp
SUMMARY:3/23～3/27体育室LED照明工事
DESCRIPTION:令和8年2月18日付体育室のLED照明改修工事を実施いたします。3月23日(月)～27日(金)まで、終日ご利用ただけません。
URL:https://www.we-hall.jp/event/3-23%ef%bd%9e3-27%e4%bd%93%e8%82%b2%e5%ae%a4led%e7%85%a7%e6%98%8e%e5%b7%a5%e4%ba%8b/
CATEGORIES:わくわくキングダム,今日の未来館
ATTACH;FMTTYPE=image/jpeg:https://www.we-hall.jp/wp-content/uploads/2024/03/noimg_yoko.jpg
END:VEVENT
END:VCALENDAR