BEGIN:VCALENDAR
VERSION:2.0
PRODID:-//いちはら子ども未来館 - ECPv6.8.3//NONSGML v1.0//EN
CALSCALE:GREGORIAN
METHOD:PUBLISH
X-ORIGINAL-URL:https://www.we-hall.jp
X-WR-CALDESC:いちはら子ども未来館 のイベント
REFRESH-INTERVAL;VALUE=DURATION:PT1H
X-Robots-Tag:noindex
X-PUBLISHED-TTL:PT1H
BEGIN:VTIMEZONE
TZID:Asia/Tokyo
BEGIN:STANDARD
TZOFFSETFROM:+0900
TZOFFSETTO:+0900
TZNAME:JST
DTSTART:20260101T000000
END:STANDARD
END:VTIMEZONE
BEGIN:VEVENT
DTSTART;TZID=Asia/Tokyo:20260314T100000
DTEND;TZID=Asia/Tokyo:20260314T120000
DTSTAMP:20260425T130701
CREATED:20260127T101439Z
LAST-MODIFIED:20260306T114820Z
UID:10008798-1773482400-1773489600@www.we-hall.jp
SUMMARY:ウッドファクトリー
DESCRIPTION:板や木材を使って自由に作品を作ってみよう！木材のご用意がありますので、自由に組み合わせて工作してください。 \n\n\n\n※くぎ、ねじ、トンカチ、のこぎり、電動ドライバー、グルーガン等の工具が使用できます。※お子さまだけでもご参加いただけますが、特に低年齢のお子さまには保護者が同伴くださいますようお願いいたします。 \n\n\n\n\n\n\n\n\n\n申込\n\n\n\n不要。当日直接会場へ
URL:https://www.we-hall.jp/event/%e3%82%a6%e3%83%83%e3%83%89%e3%83%95%e3%82%a1%e3%82%af%e3%83%88%e3%83%aa%e3%83%bc-44/
CATEGORIES:プレゼーションテラス,わくわくキングダム,今日の未来館
ATTACH;FMTTYPE=image/jpeg:https://www.we-hall.jp/wp-content/uploads/2024/06/2807317_l-scaled.jpg
LOCATION:
END:VEVENT
BEGIN:VEVENT
DTSTART;TZID=Asia/Tokyo:20260314T130000
DTEND;TZID=Asia/Tokyo:20260314T140000
DTSTAMP:20260425T130701
CREATED:20260121T040620Z
LAST-MODIFIED:20260121T040620Z
UID:10008779-1773493200-1773496800@www.we-hall.jp
SUMMARY:イングリッシュ・ラボ
DESCRIPTION:身近な英語を楽しみながら学ぼう。（保護者の同伴は不可となります） \n\n\n\n\n\n\n\n定員\n\n\n\n20名（先着順） \n\n\n\n申込\n\n\n\n事前申込制　2月5日（木）から窓口・電話にて受付
URL:https://www.we-hall.jp/event/%e3%82%a4%e3%83%b3%e3%82%b0%e3%83%aa%e3%83%83%e3%82%b7%e3%83%a5%e3%83%bb%e3%83%a9%e3%83%9c-20/
CATEGORIES:わくわくキングダム,今日の未来館
ATTACH;FMTTYPE=image/jpeg:https://www.we-hall.jp/wp-content/uploads/2025/07/2a164cba4118ec9fc00b790bdb5c1c9b-scaled.jpg
END:VEVENT
END:VCALENDAR