BEGIN:VCALENDAR
VERSION:2.0
PRODID:-//いちはら子ども未来館 - ECPv6.8.3//NONSGML v1.0//EN
CALSCALE:GREGORIAN
METHOD:PUBLISH
X-ORIGINAL-URL:https://www.we-hall.jp
X-WR-CALDESC:いちはら子ども未来館 のイベント
REFRESH-INTERVAL;VALUE=DURATION:PT1H
X-Robots-Tag:noindex
X-PUBLISHED-TTL:PT1H
BEGIN:VTIMEZONE
TZID:Asia/Tokyo
BEGIN:STANDARD
TZOFFSETFROM:+0900
TZOFFSETTO:+0900
TZNAME:JST
DTSTART:20250101T000000
END:STANDARD
END:VTIMEZONE
BEGIN:VEVENT
DTSTART;TZID=Asia/Tokyo:20250427T100000
DTEND;TZID=Asia/Tokyo:20250427T120000
DTSTAMP:20260426T051359
CREATED:20250312T235546Z
LAST-MODIFIED:20250312T235547Z
UID:10007541-1745748000-1745755200@www.we-hall.jp
SUMMARY:サイエンス・ラボ（午前の部）
DESCRIPTION:科学の専門家と一緒に実験や観察を通して、サイエンスの楽しさを体験できます。今回のテーマは「チョコレート火山」です。 \n\n\n\n\n\n\n\n申込方法・定員\n\n\n\n電話・窓口にて2025年3月５日より受付開始 \n\n\n\n対象：小学1～6年生定員：20人（先着順）
URL:https://www.we-hall.jp/event/%e3%82%b5%e3%82%a4%e3%82%a8%e3%83%b3%e3%82%b9%e3%83%bb%e3%83%a9%e3%83%9c%ef%bc%88%e5%8d%88%e5%89%8d%e3%81%ae%e9%83%a8%ef%bc%89/
CATEGORIES:わくわくキングダム,今日の未来館
ATTACH;FMTTYPE=image/jpeg:https://www.we-hall.jp/wp-content/uploads/2024/10/c22250cdf9c9a0d3362271d8c1c1831d-scaled.jpg
END:VEVENT
BEGIN:VEVENT
DTSTART;TZID=Asia/Tokyo:20250427T130000
DTEND;TZID=Asia/Tokyo:20250427T160000
DTSTAMP:20260426T051359
CREATED:20250330T045232Z
LAST-MODIFIED:20250426T104343Z
UID:10007668-1745758800-1745769600@www.we-hall.jp
SUMMARY:アートファクトリー
DESCRIPTION:様々な画材を使って、自由にアート作品を作ります。
URL:https://www.we-hall.jp/event/%e3%82%a2%e3%83%bc%e3%83%88%e3%83%95%e3%82%a1%e3%82%af%e3%83%88%e3%83%aa%e3%83%bc-31/
CATEGORIES:プレゼーションテラス,わくわくキングダム,今日の未来館
ATTACH;FMTTYPE=image/jpeg:https://www.we-hall.jp/wp-content/uploads/2024/10/b6f183015aa3cc177d3a33c971d9de9e-scaled.jpg
END:VEVENT
BEGIN:VEVENT
DTSTART;TZID=Asia/Tokyo:20250427T133000
DTEND;TZID=Asia/Tokyo:20250427T153000
DTSTAMP:20260426T051359
CREATED:20250312T234417Z
LAST-MODIFIED:20250312T234634Z
UID:10007540-1745760600-1745767800@www.we-hall.jp
SUMMARY:サイエンス・ラボ（午後の部）
DESCRIPTION:科学の専門家と一緒に実験や観察を通して、サイエンスの楽しさを体験できます。今回のテーマは「チョコレート火山」です。 \n\n\n\n\n\n\n\n申込方法・定員\n\n\n\n電話・窓口にて2025年3月５日より受付開始 \n\n\n\n対象：小学1～6年生定員：20人（先着順）
URL:https://www.we-hall.jp/event/%e3%82%b5%e3%82%a4%e3%82%a8%e3%83%b3%e3%82%b9%e3%83%bb%e3%83%a9%e3%83%9c%ef%bc%88%e5%8d%88%e5%be%8c%e3%81%ae%e9%83%a8%ef%bc%89/
CATEGORIES:わくわくキングダム,今日の未来館
ATTACH;FMTTYPE=image/jpeg:https://www.we-hall.jp/wp-content/uploads/2024/10/c22250cdf9c9a0d3362271d8c1c1831d-scaled.jpg
END:VEVENT
END:VCALENDAR