BEGIN:VCALENDAR
VERSION:2.0
PRODID:-//いちはら子ども未来館 - ECPv6.8.3//NONSGML v1.0//EN
CALSCALE:GREGORIAN
METHOD:PUBLISH
X-WR-CALNAME:いちはら子ども未来館
X-ORIGINAL-URL:https://www.we-hall.jp
X-WR-CALDESC:いちはら子ども未来館 のイベント
REFRESH-INTERVAL;VALUE=DURATION:PT1H
X-Robots-Tag:noindex
X-PUBLISHED-TTL:PT1H
BEGIN:VTIMEZONE
TZID:Asia/Tokyo
BEGIN:STANDARD
TZOFFSETFROM:+0900
TZOFFSETTO:+0900
TZNAME:JST
DTSTART:20250101T000000
END:STANDARD
END:VTIMEZONE
BEGIN:VEVENT
DTSTART;TZID=Asia/Tokyo:20250326T130000
DTEND;TZID=Asia/Tokyo:20250326T200000
DTSTAMP:20260426T120114
CREATED:20250224T150000Z
LAST-MODIFIED:20250301T012238Z
UID:10007506-1742994000-1743019200@www.we-hall.jp
SUMMARY:ティーンズスポーツ（午後１時から）
DESCRIPTION:バスケットボール、バドミントン、卓球など屋内スポーツを楽しめます。 \n\n\n\nご利者様の声から、10月より以下の通りにルール変更を行っております。ご理解・ご協力のほどよろしくお願いいたします。 \n\n\n\n・主な種目：卓球、バドミントン、バレーボール、バスケットボール・用具は、１階総合受付にてお貸し出しいたします。お貸出しの際は、貸出申込書の記入が必要です。用具等の持ち込みは可。 \n\n\n\n※バスケットボール、バレーボールのお貸し出しはございません。 \n\n\n\n※バレーボールコート（ネット）のご用意はございません。 \n\n\n\n※使用できるバスケットボールゴールは、１つだけです。また、バスケットボール用の専用コートではございません。他の種目もプレイできる環境になっています。譲り合ってご利用ください。 \n\n\n\n※更衣室、シャワー室の設備はございません。更衣または制汗スプレーなどの噴霧は共用部（廊下等）で行わないようお願いいたします。
URL:https://www.we-hall.jp/event/%e3%83%86%e3%82%a3%e3%83%bc%e3%83%b3%e3%82%ba%e3%82%b9%e3%83%9d%e3%83%bc%e3%83%84%ef%bc%88%e5%8d%88%e5%be%8c%ef%bc%91%e6%99%82%e3%81%8b%e3%82%89%ef%bc%89/
CATEGORIES:わくわくキングダム,今日の未来館
ATTACH;FMTTYPE=image/jpeg:https://www.we-hall.jp/wp-content/uploads/2024/04/6bc48cbfde4c77b25c6296dedb92044d.jpg
END:VEVENT
END:VCALENDAR