BEGIN:VCALENDAR
VERSION:2.0
PRODID:-//いちはら子ども未来館 - ECPv6.8.3//NONSGML v1.0//EN
CALSCALE:GREGORIAN
METHOD:PUBLISH
X-WR-CALNAME:いちはら子ども未来館
X-ORIGINAL-URL:https://www.we-hall.jp
X-WR-CALDESC:いちはら子ども未来館 のイベント
REFRESH-INTERVAL;VALUE=DURATION:PT1H
X-Robots-Tag:noindex
X-PUBLISHED-TTL:PT1H
BEGIN:VTIMEZONE
TZID:Asia/Tokyo
BEGIN:STANDARD
TZOFFSETFROM:+0900
TZOFFSETTO:+0900
TZNAME:JST
DTSTART:20250101T000000
END:STANDARD
END:VTIMEZONE
BEGIN:VEVENT
DTSTART;TZID=Asia/Tokyo:20250215T100000
DTEND;TZID=Asia/Tokyo:20250215T160000
DTSTAMP:20260423T125826
CREATED:20250131T150000Z
LAST-MODIFIED:20250308T070919Z
UID:10007522-1739613600-1739635200@www.we-hall.jp
SUMMARY:スポーツチャレンジパーク（１日目）
DESCRIPTION:1Fプレゼンテーションテラスボッチャ・ボールを投げてどれだけ的の近くにおけるかを競うゲーム10:00～16:002F体育室体育室であそぼう・卓球やバドミントンなどのスポーツを楽しもうみんなdeチャレンジ「大なわとび」　※実施時間（30分間）　　11:00、12:15、14:30親子で楽しくリズム体操（14:30～15:30）10:00～16:002F多目的室バランスボールエクササイズ20分間程度の体験時間を設けております。（入替制）小さなお子さまも体験できます。※（休止時間）12:30～13:3010:00～16:003F多目的ホール健康測定コーナー・ストラックアウト・握力測定・背筋測定・立ち幅跳び・パターゴルフ10:00～16:00ホワイエモルック・棒を投げて杭（くい）をたおすフィンランドの伝統的なゲーム10:00～16:00いろんなスポーツに挑戦しよう！自分の体を知ることができる健康測定コーナーも登場！※イベント内容は変更になる場合があります。特設ページもご覧ください。\n\n\n\n料金\n\n\n\n無料
URL:https://www.we-hall.jp/event/%e3%82%b9%e3%83%9d%e3%83%bc%e3%83%84%e3%83%81%e3%83%a3%e3%83%ac%e3%83%b3%e3%82%b8%e3%83%91%e3%83%bc%e3%82%af-2/
CATEGORIES:ちびっこプラザ,プレゼーションテラス,わくわくキングダム,今日の未来館
ATTACH;FMTTYPE=image/jpeg:https://www.we-hall.jp/wp-content/uploads/2024/09/dbf027d63d0425bed8b3322001d229cc.jpg
END:VEVENT
END:VCALENDAR