BEGIN:VCALENDAR
VERSION:2.0
PRODID:-//いちはら子ども未来館 - ECPv6.8.3//NONSGML v1.0//EN
CALSCALE:GREGORIAN
METHOD:PUBLISH
X-WR-CALNAME:いちはら子ども未来館
X-ORIGINAL-URL:https://www.we-hall.jp
X-WR-CALDESC:いちはら子ども未来館 のイベント
REFRESH-INTERVAL;VALUE=DURATION:PT1H
X-Robots-Tag:noindex
X-PUBLISHED-TTL:PT1H
BEGIN:VTIMEZONE
TZID:Asia/Tokyo
BEGIN:STANDARD
TZOFFSETFROM:+0900
TZOFFSETTO:+0900
TZNAME:JST
DTSTART:20250101T000000
END:STANDARD
END:VTIMEZONE
BEGIN:VEVENT
DTSTART;TZID=Asia/Tokyo:20250209T100000
DTEND;TZID=Asia/Tokyo:20250209T160000
DTSTAMP:20260423T125816
CREATED:20250207T090054Z
LAST-MODIFIED:20250207T105004Z
UID:10007438-1739095200-1739116800@www.we-hall.jp
SUMMARY:子育て応援 weフェスタ
DESCRIPTION:新しい出会いがいっぱいの、子育て応援「weフェスタ」。日頃から子育てや子どもや子育てのために活動する方々や団体がweほーるに集合します。お子さまからママ・パパまで、家族で楽しめる多彩なブースが揃うフェスです。 \n\n\n\n料金\n\n\n\n入場無料　ブースによっては参加料あり \n\n\n\n\n\n\n\n\n\n\nくわしくはこちら
URL:https://www.we-hall.jp/event/%e5%ad%90%e8%82%b2%e3%81%a6%e5%bf%9c%e6%8f%b4-we%e3%83%95%e3%82%a7%e3%82%b9%e3%82%bf/
CATEGORIES:ちびっこプラザ,プレゼーションテラス,わくわくキングダム,今日の未来館
ATTACH;FMTTYPE=image/png:https://www.we-hall.jp/wp-content/uploads/2025/01/b5621266e4441bbf07430a919b324001.png
END:VEVENT
BEGIN:VEVENT
DTSTART;TZID=Asia/Tokyo:20250209T130000
DTEND;TZID=Asia/Tokyo:20250209T160000
DTSTAMP:20260423T125816
CREATED:20241124T150000Z
LAST-MODIFIED:20250207T101403Z
UID:10007452-1739106000-1739116800@www.we-hall.jp
SUMMARY:クリエイティブ・ラボ「アメリカンフラワー」
DESCRIPTION:かわいくて枯れないお花「アメリカンフラワー」を作ります。申込方法などはコチラをご覧ください。 \n\n\n\n申込・定員\n\n\n\n事前申込制　窓口・電話で受付／先着20名 \n\n\n\n講師\n\n\n\n市原市工芸会 \n\n\n\n佐々木美恵子、大野美代子
URL:https://www.we-hall.jp/event/%e3%82%af%e3%83%aa%e3%82%a8%e3%82%a4%e3%83%86%e3%82%a3%e3%83%96%e3%83%bb%e3%83%a9%e3%83%9c%e3%80%8c%e3%82%a2%e3%83%a1%e3%83%aa%e3%82%ab%e3%83%b3%e3%83%95%e3%83%a9%e3%83%af%e3%83%bc%e3%80%8d-2/
CATEGORIES:わくわくキングダム,今日の未来館
ATTACH;FMTTYPE=image/jpeg:https://www.we-hall.jp/wp-content/uploads/2024/10/b6f183015aa3cc177d3a33c971d9de9e-scaled.jpg
END:VEVENT
END:VCALENDAR