BEGIN:VCALENDAR
VERSION:2.0
PRODID:-//いちはら子ども未来館 - ECPv6.8.3//NONSGML v1.0//EN
CALSCALE:GREGORIAN
METHOD:PUBLISH
X-WR-CALNAME:いちはら子ども未来館
X-ORIGINAL-URL:https://www.we-hall.jp
X-WR-CALDESC:いちはら子ども未来館 のイベント
REFRESH-INTERVAL;VALUE=DURATION:PT1H
X-Robots-Tag:noindex
X-PUBLISHED-TTL:PT1H
BEGIN:VTIMEZONE
TZID:Asia/Tokyo
BEGIN:STANDARD
TZOFFSETFROM:+0900
TZOFFSETTO:+0900
TZNAME:JST
DTSTART:20250101T000000
END:STANDARD
END:VTIMEZONE
BEGIN:VEVENT
DTSTART;TZID=Asia/Tokyo:20250208T100000
DTEND;TZID=Asia/Tokyo:20250208T120000
DTSTAMP:20260423T092816
CREATED:20250124T150000Z
LAST-MODIFIED:20250207T090240Z
UID:10007439-1739008800-1739016000@www.we-hall.jp
SUMMARY:ウッドファクトリー
DESCRIPTION:板や木材を使って自由に作品を作ってみよう！ \n\n\n\n \n\n\n\n木材のご用意がありますので、自由に組み合わせて工作してください。 \n\n\n\n※くぎ、ねじ、トンカチ、のこぎり、電動ドライバー、グルーガン等の工具が使用できます。 \n\n\n\n※お子さまだけでもご参加いただけますが、特に低年齢のお子さまには保護者が同伴くださいますようお願いいたします。
URL:https://www.we-hall.jp/event/%e3%82%a6%e3%83%83%e3%83%89%e3%83%95%e3%82%a1%e3%82%af%e3%83%88%e3%83%aa%e3%83%bc-16/
CATEGORIES:プレゼーションテラス,わくわくキングダム,今日の未来館
ATTACH;FMTTYPE=image/jpeg:https://www.we-hall.jp/wp-content/uploads/2024/06/2807317_l-scaled.jpg
END:VEVENT
BEGIN:VEVENT
DTSTART;TZID=Asia/Tokyo:20250208T130000
DTEND;TZID=Asia/Tokyo:20250208T143000
DTSTAMP:20260423T092816
CREATED:20250124T150000Z
LAST-MODIFIED:20250207T092303Z
UID:10007449-1739019600-1739025000@www.we-hall.jp
SUMMARY:イングリッシュ・ラボ
DESCRIPTION:Let’s enjoy！ \n\n\n\n切って、貼って、折り曲げて——講師の指示は英語です。 \n\n\n\nよーく聞きとって工作していきましょう。申込方法などはコチラをご覧ください。
URL:https://www.we-hall.jp/event/%e3%82%a4%e3%83%b3%e3%82%b0%e3%83%aa%e3%83%83%e3%82%b7%e3%83%a5%e3%83%bb%e3%83%a9%e3%83%9c-7/
CATEGORIES:わくわくキングダム,今日の未来館
ATTACH;FMTTYPE=image/jpeg:https://www.we-hall.jp/wp-content/uploads/2024/10/f4a09c234d0de2f0b36d64a548ac816b.jpg
END:VEVENT
END:VCALENDAR