BEGIN:VCALENDAR
VERSION:2.0
PRODID:-//いちはら子ども未来館 - ECPv6.8.3//NONSGML v1.0//EN
CALSCALE:GREGORIAN
METHOD:PUBLISH
X-WR-CALNAME:いちはら子ども未来館
X-ORIGINAL-URL:https://www.we-hall.jp
X-WR-CALDESC:いちはら子ども未来館 のイベント
REFRESH-INTERVAL;VALUE=DURATION:PT1H
X-Robots-Tag:noindex
X-PUBLISHED-TTL:PT1H
BEGIN:VTIMEZONE
TZID:Asia/Tokyo
BEGIN:STANDARD
TZOFFSETFROM:+0900
TZOFFSETTO:+0900
TZNAME:JST
DTSTART:20250101T000000
END:STANDARD
END:VTIMEZONE
BEGIN:VEVENT
DTSTART;TZID=Asia/Tokyo:20250111T100000
DTEND;TZID=Asia/Tokyo:20250111T120000
DTSTAMP:20260424T165750
CREATED:20250105T053908Z
LAST-MODIFIED:20250105T053908Z
UID:10007353-1736589600-1736596800@www.we-hall.jp
SUMMARY:ウッドファクトリー
DESCRIPTION:板や木材を使って自由に作品を作ってみよう！ \n\n\n\n \n\n\n\n木材のご用意がありますので、自由に組み合わせて工作してください。 \n\n\n\n※くぎ、ねじ、トンカチ、のこぎり、電動ドライバー、グルーガン等の工具が使用できます。 \n\n\n\n※お子さまだけでもご参加いただけますが、特に低年齢のお子さまには保護者が同伴くださいますようお願いいたします。
URL:https://www.we-hall.jp/event/%e3%82%a6%e3%83%83%e3%83%89%e3%83%95%e3%82%a1%e3%82%af%e3%83%88%e3%83%aa%e3%83%bc-12/
CATEGORIES:プレゼーションテラス,わくわくキングダム,今日の未来館
ATTACH;FMTTYPE=image/jpeg:https://www.we-hall.jp/wp-content/uploads/2024/06/2807317_l-scaled.jpg
END:VEVENT
BEGIN:VEVENT
DTSTART;TZID=Asia/Tokyo:20250111T130000
DTEND;TZID=Asia/Tokyo:20250111T143000
DTSTAMP:20260424T165750
CREATED:20241224T150000Z
LAST-MODIFIED:20250207T092213Z
UID:10007448-1736600400-1736605800@www.we-hall.jp
SUMMARY:イングリッシュ・ラボ
DESCRIPTION:Let’s enjoy！ \n\n\n\n切って、貼って、折り曲げて——講師の指示は英語です。 \n\n\n\nよーく聞きとって工作していきましょう。申込方法などはコチラをご覧ください。
URL:https://www.we-hall.jp/event/%e3%82%a4%e3%83%b3%e3%82%b0%e3%83%aa%e3%83%83%e3%82%b7%e3%83%a5%e3%83%bb%e3%83%a9%e3%83%9c-6/
CATEGORIES:わくわくキングダム,今日の未来館
ATTACH;FMTTYPE=image/jpeg:https://www.we-hall.jp/wp-content/uploads/2024/10/f4a09c234d0de2f0b36d64a548ac816b.jpg
END:VEVENT
BEGIN:VEVENT
DTSTART;TZID=Asia/Tokyo:20250111T130000
DTEND;TZID=Asia/Tokyo:20250111T150000
DTSTAMP:20260424T165750
CREATED:20250110T094521Z
LAST-MODIFIED:20250110T094521Z
UID:10007405-1736600400-1736607600@www.we-hall.jp
SUMMARY:【市原湖畔美術館】ワークショップ「小湊鐵道路線、未来の鳥瞰図をつくろう」
DESCRIPTION:市原湖畔美術館のワークショップが、いちはら子ども未来館にやってきます。 \n\n\n\n「五井駅」から、「上総中野駅」までの全18駅を結ぶ非電化・単線の小湊鉄道。「ちば文化遺産」としても知られる小湊鉄道と沿線の景観の未来を想像し、アーティスト青山悟さんと一緒に１枚の大きなパッチワーク作品を制作します。制作した作品は、2025年春に市原湖畔美術館で開催する展覧会で展示予定です。 \n\n\n\n参加費\n\n\n\n無料 \n\n\n\n定員\n\n\n\n30名 \n\n\n\n\n\n\n\n\n\n持ち物\n\n\n\n特にございませんが、パッチワークに貼りたい布やいらなくなった洋服などがあればご持参ください。
URL:https://www.we-hall.jp/event/%e3%80%90%e5%b8%82%e5%8e%9f%e6%b9%96%e7%95%94%e7%be%8e%e8%a1%93%e9%a4%a8%e3%80%91%e3%83%af%e3%83%bc%e3%82%af%e3%82%b7%e3%83%a7%e3%83%83%e3%83%97%e3%80%8c%e5%b0%8f%e6%b9%8a%e9%90%b5%e9%81%93%e8%b7%af/
CATEGORIES:わくわくキングダム,今日の未来館
ATTACH;FMTTYPE=image/jpeg:https://www.we-hall.jp/wp-content/uploads/2024/12/26c20b31a7564304e162084202b3d93c.jpg
END:VEVENT
END:VCALENDAR