BEGIN:VCALENDAR
VERSION:2.0
PRODID:-//いちはら子ども未来館 - ECPv6.8.3//NONSGML v1.0//EN
CALSCALE:GREGORIAN
METHOD:PUBLISH
X-WR-CALNAME:いちはら子ども未来館
X-ORIGINAL-URL:https://www.we-hall.jp
X-WR-CALDESC:いちはら子ども未来館 のイベント
REFRESH-INTERVAL;VALUE=DURATION:PT1H
X-Robots-Tag:noindex
X-PUBLISHED-TTL:PT1H
BEGIN:VTIMEZONE
TZID:Asia/Tokyo
BEGIN:STANDARD
TZOFFSETFROM:+0900
TZOFFSETTO:+0900
TZNAME:JST
DTSTART:20240101T000000
END:STANDARD
END:VTIMEZONE
BEGIN:VEVENT
DTSTART;TZID=Asia/Tokyo:20241203T153000
DTEND;TZID=Asia/Tokyo:20241203T170000
DTSTAMP:20260424T052039
CREATED:20241130T100208Z
LAST-MODIFIED:20241204T011554Z
UID:10007216-1733239800-1733245200@www.we-hall.jp
SUMMARY:体育室であそぼう
DESCRIPTION:バドミントンや卓球、ゴムボールなど、広々とした体育室でのびのび遊べます。 \n\n\n\n☆申込不要、出入り自由 \n\n\n\n☆ラケットやボールなどは、数に限りがありますが、お貸出し品があります。☆室内履きをお持ちの方はお持ちください。 \n\n\n\n【注意事項】 \n\n\n\n※サッカーボール、バスケットボールなど、ボール類の持ち込みは禁止とさせていただきま \n\n\n\n　す。会場でお貸出ししている道具（遊具）であそんでいただきますようお願いします。 \n\n\n\n※道具（遊具）の破損が多くなっています。ご自身が使用した物は、使用が終わるまで丁寧に \n\n\n\n　使用することを心掛け、使用後は元あった場所に必ずお戻しください。 \n\n\n\n　また、使用中にあやまって壊した、または壊れた等については、すみやかに施設スタッフに \n\n\n\n　申し出をおこない、そのまま放置しないようお願いいたします。 \n\n\n\n※各種目の遊べる場所を指定しています。会場の案内板をご確認の上、指定の場所であそんで \n\n\n\n　ください。 \n\n\n\n※道具類や場所は占有できません。譲り合ってあそんでください。 \n\n\n\n※保護者の方は、お子様の見守りをお願いいたします。 \n\n\n\n※大人の方のみで利用する目的での入場はお断りいたします。 \n\n\n\n費用無料
URL:https://www.we-hall.jp/event/%e4%bd%93%e8%82%b2%e5%ae%a4%e3%81%a7%e3%81%82%e3%81%9d%e3%81%bc%e3%81%86-29/
CATEGORIES:わくわくキングダム,今日の未来館
ATTACH;FMTTYPE=image/jpeg:https://www.we-hall.jp/wp-content/uploads/2024/09/24989165_l-scaled.jpg
END:VEVENT
BEGIN:VEVENT
DTSTART;TZID=Asia/Tokyo:20241203T160000
DTEND;TZID=Asia/Tokyo:20241203T170000
DTSTAMP:20260424T052039
CREATED:20241130T104318Z
LAST-MODIFIED:20250105T052915Z
UID:10007246-1733241600-1733245200@www.we-hall.jp
SUMMARY:プログラミングであそぼう
DESCRIPTION:プログラミングを楽しく体験しよう！
URL:https://www.we-hall.jp/event/%e3%83%97%e3%83%ad%e3%82%b0%e3%83%a9%e3%83%9f%e3%83%b3%e3%82%b0%e3%81%a7%e3%81%82%e3%81%9d%e3%81%bc%e3%81%86-4/
CATEGORIES:プレゼーションテラス,わくわくキングダム,今日の未来館
ATTACH;FMTTYPE=image/jpeg:https://www.we-hall.jp/wp-content/uploads/2024/09/ebeb14209462d559f68381095dcfc210.jpg
END:VEVENT
END:VCALENDAR