BEGIN:VCALENDAR
VERSION:2.0
PRODID:-//いちはら子ども未来館 - ECPv6.8.3//NONSGML v1.0//EN
CALSCALE:GREGORIAN
METHOD:PUBLISH
X-WR-CALNAME:いちはら子ども未来館
X-ORIGINAL-URL:https://www.we-hall.jp
X-WR-CALDESC:いちはら子ども未来館 のイベント
REFRESH-INTERVAL;VALUE=DURATION:PT1H
X-Robots-Tag:noindex
X-PUBLISHED-TTL:PT1H
BEGIN:VTIMEZONE
TZID:Asia/Tokyo
BEGIN:STANDARD
TZOFFSETFROM:+0900
TZOFFSETTO:+0900
TZNAME:JST
DTSTART:20240101T000000
END:STANDARD
END:VTIMEZONE
BEGIN:VEVENT
DTSTART;TZID=Asia/Tokyo:20241129T153000
DTEND;TZID=Asia/Tokyo:20241129T170000
DTSTAMP:20260424T032339
CREATED:20241129T033946Z
LAST-MODIFIED:20241130T105445Z
UID:10007214-1732894200-1732899600@www.we-hall.jp
SUMMARY:アートファクトリー
DESCRIPTION:様々な画材を使って、自由にアート作品を作ります。
URL:https://www.we-hall.jp/event/%e3%82%a2%e3%83%bc%e3%83%88%e3%83%95%e3%82%a1%e3%82%af%e3%83%88%e3%83%aa%e3%83%bc-14/
CATEGORIES:ちびっこプラザ,プレゼーションテラス,わくわくキングダム,今日の未来館
ATTACH;FMTTYPE=image/jpeg:https://www.we-hall.jp/wp-content/uploads/2024/10/b6f183015aa3cc177d3a33c971d9de9e-scaled.jpg
END:VEVENT
BEGIN:VEVENT
DTSTART;TZID=Asia/Tokyo:20241129T153000
DTEND;TZID=Asia/Tokyo:20241129T170000
DTSTAMP:20260424T032339
CREATED:20241130T105418Z
LAST-MODIFIED:20241130T105418Z
UID:10007245-1732894200-1732899600@www.we-hall.jp
SUMMARY:アートファクトリー
DESCRIPTION:様々な画材を使って、自由にアート作品を作ります。
URL:https://www.we-hall.jp/event/%e3%82%a2%e3%83%bc%e3%83%88%e3%83%95%e3%82%a1%e3%82%af%e3%83%88%e3%83%aa%e3%83%bc-19/
CATEGORIES:ちびっこプラザ,プレゼーションテラス,わくわくキングダム,今日の未来館
ATTACH;FMTTYPE=image/jpeg:https://www.we-hall.jp/wp-content/uploads/2024/10/b6f183015aa3cc177d3a33c971d9de9e-scaled.jpg
END:VEVENT
END:VCALENDAR