BEGIN:VCALENDAR
VERSION:2.0
PRODID:-//いちはら子ども未来館 - ECPv6.8.3//NONSGML v1.0//EN
CALSCALE:GREGORIAN
METHOD:PUBLISH
X-WR-CALNAME:いちはら子ども未来館
X-ORIGINAL-URL:https://www.we-hall.jp
X-WR-CALDESC:いちはら子ども未来館 のイベント
REFRESH-INTERVAL;VALUE=DURATION:PT1H
X-Robots-Tag:noindex
X-PUBLISHED-TTL:PT1H
BEGIN:VTIMEZONE
TZID:Asia/Tokyo
BEGIN:STANDARD
TZOFFSETFROM:+0900
TZOFFSETTO:+0900
TZNAME:JST
DTSTART:20240101T000000
END:STANDARD
END:VTIMEZONE
BEGIN:VEVENT
DTSTART;TZID=Asia/Tokyo:20241117T100000
DTEND;TZID=Asia/Tokyo:20241117T170000
DTSTAMP:20260425T220703
CREATED:20241116T234840Z
LAST-MODIFIED:20241116T235313Z
UID:10007187-1731837600-1731862800@www.we-hall.jp
SUMMARY:スポーツチャレンジパーク
DESCRIPTION:1Fプレゼンテーションテラスボッチャ・ボールを投げてどれだけ的の近くにおけるかを競うゲーム10：00～17：002F体育室体育室であそぼう・卓球やバドミントンなどのスポーツを楽しもう10：00～17：003F多目的ホール健康測定コーナー（協力：明治安田生命千葉南支社）・握力測定、血管年齢、ベジチェック10：00～17：00測定ひろば→スコアカードに記録できるよ！10：00～17：00ホワイエモルック・棒を投げて杭（くい）をたおすフィンランドの伝統的なゲーム10：00～17：00スポーツの秋！いろんなスポーツに挑戦しよう！自分の体を知ることができる健康測定コーナーも登場！※イベント内容は変更になる場合があります。\n\n\n\n料金\n\n\n\n無料
URL:https://www.we-hall.jp/event/%e3%82%b9%e3%83%9d%e3%83%bc%e3%83%84%e3%83%81%e3%83%a3%e3%83%ac%e3%83%b3%e3%82%b8%e3%83%91%e3%83%bc%e3%82%af/
CATEGORIES:ちびっこプラザ,プレゼーションテラス,わくわくキングダム,今日の未来館
ATTACH;FMTTYPE=image/jpeg:https://www.we-hall.jp/wp-content/uploads/2024/09/dbf027d63d0425bed8b3322001d229cc.jpg
END:VEVENT
END:VCALENDAR