BEGIN:VCALENDAR
VERSION:2.0
PRODID:-//いちはら子ども未来館 - ECPv6.8.3//NONSGML v1.0//EN
CALSCALE:GREGORIAN
METHOD:PUBLISH
X-ORIGINAL-URL:https://www.we-hall.jp
X-WR-CALDESC:いちはら子ども未来館 のイベント
REFRESH-INTERVAL;VALUE=DURATION:PT1H
X-Robots-Tag:noindex
X-PUBLISHED-TTL:PT1H
BEGIN:VTIMEZONE
TZID:Asia/Tokyo
BEGIN:STANDARD
TZOFFSETFROM:+0900
TZOFFSETTO:+0900
TZNAME:JST
DTSTART:20240101T000000
END:STANDARD
END:VTIMEZONE
BEGIN:VEVENT
DTSTART;TZID=Asia/Tokyo:20241104T100000
DTEND;TZID=Asia/Tokyo:20241104T160000
DTSTAMP:20260425T004549
CREATED:20241031T095013Z
LAST-MODIFIED:20241109T003638Z
UID:10007080-1730714400-1730736000@www.we-hall.jp
SUMMARY:アートウィーク
DESCRIPTION:作品づくりや展示などで子どもたちがアートに触れる機会を創出する1週間です。アートをもっと身近に感じよう！ \n\n\n\n場所：1Fプレゼンテーションテラス\n\n\n\nアート 作品展示市原市工芸会・皐月 ・ことほき11/4（月・祝）～11/10（日）終日市原歴史博物館 パネル展示「埴輪(はにわ)の来た道」「埴輪の秘密」11/4（月・祝）～11/10（日）終日描いた絵をiPadで動かそう11/4（月・祝）～11/10（日）10：00～16：00秋のぬりえ＆折り紙11/4（月・祝）～11/10（日）10：00～16：00協力：市原市工芸会、市原歴史博物館\n\n\n\n場所：2F体育室\n\n\n\n手形アートで秋を作ろう11/4（月・祝）～11/8（金）10：00～16：00段ボールでBIG工作～自分たちの工場作り～11/4（月・祝）～11/8（金）10：00～16：0011/9（土）・11/10（日）11：30～14：30全身使ってビシャバシャアート11/9（土）・11/10（日）10：00～11：0015：00～16：00※イベント内容は変更になる場合があります。
URL:https://www.we-hall.jp/event/%e3%82%a2%e3%83%bc%e3%83%88%e3%82%a6%e3%82%a3%e3%83%bc%e3%82%af/
CATEGORIES:ちびっこプラザ,プレゼーションテラス,わくわくキングダム,今日の未来館
ATTACH;FMTTYPE=image/jpeg:https://www.we-hall.jp/wp-content/uploads/2024/10/25021153_l-scaled.jpg
END:VEVENT
END:VCALENDAR