BEGIN:VCALENDAR
VERSION:2.0
PRODID:-//いちはら子ども未来館 - ECPv6.8.3//NONSGML v1.0//EN
CALSCALE:GREGORIAN
METHOD:PUBLISH
X-WR-CALNAME:いちはら子ども未来館
X-ORIGINAL-URL:https://www.we-hall.jp
X-WR-CALDESC:いちはら子ども未来館 のイベント
REFRESH-INTERVAL;VALUE=DURATION:PT1H
X-Robots-Tag:noindex
X-PUBLISHED-TTL:PT1H
BEGIN:VTIMEZONE
TZID:Asia/Tokyo
BEGIN:STANDARD
TZOFFSETFROM:+0900
TZOFFSETTO:+0900
TZNAME:JST
DTSTART:20240101T000000
END:STANDARD
END:VTIMEZONE
BEGIN:VEVENT
DTSTART;TZID=Asia/Tokyo:20241027T100000
DTEND;TZID=Asia/Tokyo:20241027T120000
DTSTAMP:20260426T082610
CREATED:20241004T055622Z
LAST-MODIFIED:20250207T102816Z
UID:10007024-1730023200-1730030400@www.we-hall.jp
SUMMARY:サイエンス・ラボ
DESCRIPTION:科学の専門家と一緒に実験や観察を通して、サイエンスの楽しさを体験できます。今回のテーマは「空気のひみつ」です。空気、気圧にまつわる実験をします。 \n\n\n\n申込・定員\n\n\n\n10月5日（土）より、窓口・電話で受付／先着20名 \n\n\n\n講師\n\n\n\nマナビオ
URL:https://www.we-hall.jp/event/%e3%82%b5%e3%82%a4%e3%82%a8%e3%83%b3%e3%82%b9%e3%83%bb%e3%83%a9%e3%83%9c-4/
CATEGORIES:わくわくキングダム,今日の未来館
ATTACH;FMTTYPE=image/jpeg:https://www.we-hall.jp/wp-content/uploads/2024/10/c22250cdf9c9a0d3362271d8c1c1831d-scaled.jpg
END:VEVENT
BEGIN:VEVENT
DTSTART;TZID=Asia/Tokyo:20241027T103000
DTEND;TZID=Asia/Tokyo:20241027T111500
DTSTAMP:20260426T082610
CREATED:20240904T003431Z
LAST-MODIFIED:20241026T020416Z
UID:10006829-1730025000-1730027700@www.we-hall.jp
SUMMARY:【ハッピー☆ハロwe－ン】ハロウィーンファミリーコンサート
DESCRIPTION:0歳のお子さまもOK！小さなお子さま連れの方でも楽しめるハロウィーンファミリーコンサートです。人気アニメソングから、耳馴染みのある童謡、そして流行りのあの曲まで、いろいろな曲目をお届けします♪また、曲に合わせた楽しい手遊びや、曲当てクイズもあります。ぜひご家族でお越しください。※お申し込みは不要です。直接会場へお越しください。 \n\n\n\n出演　Trio colore（トリオコローレ）\n\n\n\n\n\n\n\nピアノ、フルート、チェロのトリオアンサンブル。coloreとは、イタリア語で色彩を表す言葉。いろんな色があるように、色んなジャンルの曲を表情豊かに奏でたいとの思いが由来。神戸音楽の街コンサート出演。第55回全日本クラシック音楽コンサート入選。千葉県内や都内の保育園や市役所などで、演奏活動をしている。クラシックやポップスなど子どもから大人まで、幅広い世代が楽しめる演奏をしている。 \n\n\n\n\nフルート／長谷川 百合\n\n\n\nピアノ／藤井 真由香\n\n\n\nチェロ／片岡 香織\n\n\n\n\n\nフルート／長谷川 百合（はせがわ ゆり）洗足学園短期大学音楽科を優秀賞を得て卒業。トリオでの演奏活動の傍ら、音楽教室や中学校吹奏楽部で後進の指導もしている。\n\n\n\nピアノ／藤井 真由香（ふじい まゆか）市原市出身。国立音楽大学ピアノ科卒業。トリオや伴奏活動の傍ら、自宅教室や音楽教室で後進の指導もしている。\n\n\n\nチェロ／片岡 香織（かたおか かおり）市原市出身。東京音楽大学卒業。トリオやオーケストラでの演奏活動の傍ら、自宅にてチェロ教室を主催。かずさジュニアオーケストラ チェロトレーナー。\n\n\n\n\n演奏予定曲\n\n\n\n勇気100％忍たま乱太郎天国と地獄オッフェンバックホールニューワールドアラジンドラえもん星野 源アイドルYOASOBIパンダうさぎコアラ童謡日本の四季メドレー（秋・冬）赤とんぼ・雪小さな世界ディズニー※イベント内容・出演者・曲目は変更する場合があります。※演奏の様子、他のお客様の同意なく撮影した写真や動画をインターネットに公開するのはご遠慮ください。\n\n\n\n申込\n\n\n\n不要。当日直接会場へ \n\n\n\n参加費\n\n\n\n無料
URL:https://www.we-hall.jp/event/%e3%83%8f%e3%83%ad%e3%82%a6%e3%82%a3%e3%83%bc%e3%83%b3%e3%83%95%e3%82%a1%e3%83%9f%e3%83%aa%e3%83%bc%e3%82%b3%e3%83%b3%e3%82%b5%e3%83%bc%e3%83%88/
CATEGORIES:ちびっこプラザ,プレゼーションテラス,わくわくキングダム,今日の未来館
ATTACH;FMTTYPE=image/jpeg:https://www.we-hall.jp/wp-content/uploads/2024/09/de39efdb267d40d068bea6a31e308854.jpg
END:VEVENT
BEGIN:VEVENT
DTSTART;TZID=Asia/Tokyo:20241027T130000
DTEND;TZID=Asia/Tokyo:20241027T160000
DTSTAMP:20260426T082610
CREATED:20241020T104932Z
LAST-MODIFIED:20241020T104933Z
UID:10007066-1730034000-1730044800@www.we-hall.jp
SUMMARY:サイエンスファクトリー
DESCRIPTION:科学の知識も学べるサイエンス工作を楽しもう！ \n\n\n\n今回は紙コップで作るプロジェクター「暗闇に浮かぶおばけ!?ハロウィンライト」を作ります。 \n\n\n\n費用\n\n\n\n無料 \n\n\n\n申込方法・定員\n\n\n\n当日受付 \n\n\n\nどなたでも参加できます。
URL:https://www.we-hall.jp/event/%e3%82%b5%e3%82%a4%e3%82%a8%e3%83%b3%e3%82%b9%e3%83%95%e3%82%a1%e3%82%af%e3%83%88%e3%83%aa%e3%83%bc-4/
CATEGORIES:わくわくキングダム,今日の未来館
ATTACH;FMTTYPE=image/jpeg:https://www.we-hall.jp/wp-content/uploads/2024/04/d38b9992c93fcc9b1c9ace1917fdd31f.jpg
END:VEVENT
BEGIN:VEVENT
DTSTART;TZID=Asia/Tokyo:20241027T130000
DTEND;TZID=Asia/Tokyo:20241027T170000
DTSTAMP:20260426T082610
CREATED:20241026T022845Z
LAST-MODIFIED:20241026T022846Z
UID:10007076-1730034000-1730048400@www.we-hall.jp
SUMMARY:スペシャル工作「ハロウィンマスクで仮装しよう」
DESCRIPTION:ハッピーハロウィン！👻かわいくて、かっこいいオリジナルのハロウィンマスクをつくっちゃおう！🎃こちらのイベントに参加するとハロウィンガチャガチャがひけちゃうよ🎉 \n\n\n\n※耳掛けリボンの取り付け、色塗り、シールの貼り付けがあります。 \n\n\n\n申込不要。開催時間中にご来館ください。
URL:https://www.we-hall.jp/event/%e3%82%b9%e3%83%9a%e3%82%b7%e3%83%a3%e3%83%ab%e5%b7%a5%e4%bd%9c%e3%80%8c%e3%83%8f%e3%83%ad%e3%82%a6%e3%82%a3%e3%83%b3%e3%83%9e%e3%82%b9%e3%82%af%e3%81%a7%e4%bb%ae%e8%a3%85%e3%81%97%e3%82%88%e3%81%86/2024-10-27/
CATEGORIES:ちびっこプラザ,プレゼーションテラス,わくわくキングダム,今日の未来館
ATTACH;FMTTYPE=image/jpeg:https://www.we-hall.jp/wp-content/uploads/2024/10/IMG_0002.jpeg
END:VEVENT
END:VCALENDAR