BEGIN:VCALENDAR
VERSION:2.0
PRODID:-//いちはら子ども未来館 - ECPv6.8.3//NONSGML v1.0//EN
CALSCALE:GREGORIAN
METHOD:PUBLISH
X-WR-CALNAME:いちはら子ども未来館
X-ORIGINAL-URL:https://www.we-hall.jp
X-WR-CALDESC:いちはら子ども未来館 のイベント
REFRESH-INTERVAL;VALUE=DURATION:PT1H
X-Robots-Tag:noindex
X-PUBLISHED-TTL:PT1H
BEGIN:VTIMEZONE
TZID:Asia/Tokyo
BEGIN:STANDARD
TZOFFSETFROM:+0900
TZOFFSETTO:+0900
TZNAME:JST
DTSTART:20240101T000000
END:STANDARD
END:VTIMEZONE
BEGIN:VEVENT
DTSTART;TZID=Asia/Tokyo:20241013T130000
DTEND;TZID=Asia/Tokyo:20241013T160000
DTSTAMP:20260425T054225
CREATED:20241004T023039Z
LAST-MODIFIED:20250207T094413Z
UID:10007021-1728824400-1728835200@www.we-hall.jp
SUMMARY:クリエイティブ・ラボ
DESCRIPTION:創造は面白い！いろんな工作を体験しよう。今回は「ステンシル＆万華鏡」です。対象は小学1年生から6年生です。1・2年生は保護者の同伴をお願いします。 \n\n\n\n申込・定員\n\n\n\n10月5日（土）より、窓口・電話で受付／先着20名 \n\n\n\n講師\n\n\n\n市原市工芸会 \n\n\n\n佐々木美恵子、大野美代子
URL:https://www.we-hall.jp/event/%e3%82%af%e3%83%aa%e3%82%a8%e3%82%a4%e3%83%86%e3%82%a3%e3%83%96%e3%83%bb%e3%83%a9%e3%83%9c-3/
CATEGORIES:わくわくキングダム,今日の未来館
ATTACH;FMTTYPE=image/jpeg:https://www.we-hall.jp/wp-content/uploads/2024/10/b6f183015aa3cc177d3a33c971d9de9e-scaled.jpg
END:VEVENT
BEGIN:VEVENT
DTSTART;TZID=Asia/Tokyo:20241013T130000
DTEND;TZID=Asia/Tokyo:20241013T170000
DTSTAMP:20260425T054225
CREATED:20241012T053133Z
LAST-MODIFIED:20241026T020756Z
UID:10007043-1728824400-1728838800@www.we-hall.jp
SUMMARY:スペシャル工作「ハロウィンポップアップカード」
DESCRIPTION:ハッピーハロウィン！👻お化けやかぼちゃなどのイラストがニョキっととびだす、かわいいハロウィンのポップアップカードをつくろう！メッセージを書いてお友だちや家族の人にプレゼントしちゃおう🎃💌こちらのイベントに参加すると、ハロウィンガチャガチャがひけるよ🎉※この工作ではハサミを使うので、小さなお子さまは必ず保護者同伴でお願いします。
URL:https://www.we-hall.jp/event/%e3%82%b9%e3%83%9a%e3%82%b7%e3%83%a3%e3%83%ab%e5%b7%a5%e4%bd%9c%e3%80%8c%e3%83%8f%e3%83%ad%e3%82%a6%e3%82%a3%e3%83%b3%e3%83%9d%e3%83%83%e3%83%97%e3%82%a2%e3%83%83%e3%83%97%e3%82%ab%e3%83%bc%e3%83%89-2/
CATEGORIES:ちびっこプラザ,プレゼーションテラス,わくわくキングダム,今日の未来館
ATTACH;FMTTYPE=image/jpeg:https://www.we-hall.jp/wp-content/uploads/2024/10/87e4f9312ade88067d6ffa73eec3b124-scaled.jpg
END:VEVENT
END:VCALENDAR