BEGIN:VCALENDAR
VERSION:2.0
PRODID:-//いちはら子ども未来館 - ECPv6.8.3//NONSGML v1.0//EN
CALSCALE:GREGORIAN
METHOD:PUBLISH
X-WR-CALNAME:いちはら子ども未来館
X-ORIGINAL-URL:https://www.we-hall.jp
X-WR-CALDESC:いちはら子ども未来館 のイベント
REFRESH-INTERVAL;VALUE=DURATION:PT1H
X-Robots-Tag:noindex
X-PUBLISHED-TTL:PT1H
BEGIN:VTIMEZONE
TZID:Asia/Tokyo
BEGIN:STANDARD
TZOFFSETFROM:+0900
TZOFFSETTO:+0900
TZNAME:JST
DTSTART:20240101T000000
END:STANDARD
END:VTIMEZONE
BEGIN:VEVENT
DTSTART;TZID=Asia/Tokyo:20241012T100000
DTEND;TZID=Asia/Tokyo:20241012T120000
DTSTAMP:20260425T220843
CREATED:20241011T034605Z
LAST-MODIFIED:20241130T105613Z
UID:10007041-1728727200-1728734400@www.we-hall.jp
SUMMARY:ウッドファクトリー
DESCRIPTION:板や木材を使って自由に作品を作ってみよう！
URL:https://www.we-hall.jp/event/%e3%82%a6%e3%83%83%e3%83%89%e3%83%95%e3%82%a1%e3%82%af%e3%83%88%e3%83%aa%e3%83%bc-4/
CATEGORIES:プレゼーションテラス,わくわくキングダム,今日の未来館
ATTACH;FMTTYPE=image/jpeg:https://www.we-hall.jp/wp-content/uploads/2024/06/2807317_l-scaled.jpg
END:VEVENT
BEGIN:VEVENT
DTSTART;TZID=Asia/Tokyo:20241012T130000
DTEND;TZID=Asia/Tokyo:20241012T143000
DTSTAMP:20260425T220843
CREATED:20241004T052934Z
LAST-MODIFIED:20250207T095811Z
UID:10007022-1728738000-1728743400@www.we-hall.jp
SUMMARY:イングリッシュ・ラボ
DESCRIPTION:Let’s enjoy！英語を使ってやってみよう！ \n\n\n\n申込・定員\n\n\n\n10月5日（土）より、窓口・電話で受付／先着20名
URL:https://www.we-hall.jp/event/%e3%82%a4%e3%83%b3%e3%82%b0%e3%83%aa%e3%83%83%e3%82%b7%e3%83%a5%e3%83%bb%e3%83%a9%e3%83%9c-3/
CATEGORIES:わくわくキングダム,今日の未来館
ATTACH;FMTTYPE=image/jpeg:https://www.we-hall.jp/wp-content/uploads/2024/10/f4a09c234d0de2f0b36d64a548ac816b.jpg
END:VEVENT
BEGIN:VEVENT
DTSTART;TZID=Asia/Tokyo:20241012T130000
DTEND;TZID=Asia/Tokyo:20241012T170000
DTSTAMP:20260425T220843
CREATED:20241011T090636Z
LAST-MODIFIED:20241026T020912Z
UID:10007042-1728738000-1728752400@www.we-hall.jp
SUMMARY:スペシャル工作「ハロウィンポップアップカード」
DESCRIPTION:ハッピーハロウィン！👻お化けやかぼちゃなどのイラストがニョキっととびだす、かわいいハロウィンのポップアップカードをつくろう！メッセージを書いてお友だちや家族の人にプレゼントしちゃおう🎃💌こちらのイベントに参加すると、ハロウィンガチャガチャがひけるよ🎉※この工作ではハサミを使うので、小さなお子さまは必ず保護者同伴でお願いします。
URL:https://www.we-hall.jp/event/%e3%82%b9%e3%83%9a%e3%82%b7%e3%83%a3%e3%83%ab%e5%b7%a5%e4%bd%9c%e3%80%8c%e3%83%8f%e3%83%ad%e3%82%a6%e3%82%a3%e3%83%b3%e3%83%9d%e3%83%83%e3%83%97%e3%82%a2%e3%83%83%e3%83%97%e3%82%ab%e3%83%bc%e3%83%89/
CATEGORIES:ちびっこプラザ,プレゼーションテラス,わくわくキングダム,今日の未来館
ATTACH;FMTTYPE=image/jpeg:https://www.we-hall.jp/wp-content/uploads/2024/10/87e4f9312ade88067d6ffa73eec3b124-scaled.jpg
END:VEVENT
END:VCALENDAR