BEGIN:VCALENDAR
VERSION:2.0
PRODID:-//いちはら子ども未来館 - ECPv6.8.3//NONSGML v1.0//EN
CALSCALE:GREGORIAN
METHOD:PUBLISH
X-WR-CALNAME:いちはら子ども未来館
X-ORIGINAL-URL:https://www.we-hall.jp
X-WR-CALDESC:いちはら子ども未来館 のイベント
REFRESH-INTERVAL;VALUE=DURATION:PT1H
X-Robots-Tag:noindex
X-PUBLISHED-TTL:PT1H
BEGIN:VTIMEZONE
TZID:Asia/Tokyo
BEGIN:STANDARD
TZOFFSETFROM:+0900
TZOFFSETTO:+0900
TZNAME:JST
DTSTART:20250101T000000
END:STANDARD
END:VTIMEZONE
BEGIN:VEVENT
DTSTART;TZID=Asia/Tokyo:20250401T140000
DTEND;TZID=Asia/Tokyo:20250401T170000
DTSTAMP:20260426T095319
CREATED:20250330T034844Z
LAST-MODIFIED:20250330T124326Z
UID:10007638-1743516000-1743526800@www.we-hall.jp
SUMMARY:体育室であそぼう（午後２時から）
DESCRIPTION:体育室の無料開放イベントです。主な対象は、小学生です。その他の方もご利用いただけますが、小学生が遊べるようにご配慮ください。バドミントンや卓球、ゴムボールなど、広々とした体育室でのびのび遊べます。 \n\n\n\n☆申込不要、出入り自由☆ラケットやボールなどは、数に限りがありますが、お貸出し品があります（１Ｆ総合受付にて貸出）☆室内履きをお持ちの方はお持ちください。 \n\n\n\n【注意事項】 \n\n\n\n※サッカーボール、バスケットボールなど、ボール類の持ち込みは禁止です。※子ども未来館で貸出ししている道具（遊具）のみご利用いただけます。※道具（遊具）の破損が多くなっています。ご自身が使用した物は、使用が終わるまで丁寧に　使用することを心掛け、使用後は元あった場所に必ずお戻しください。また、使用中にあやまって壊した、または壊れた等については、すみやかに施設スタッフに　申し出をおこない、そのまま放置しないようお願いいたします。再三の注意にも関わらずご使用方法をお守りいただけない場合はお貸出しをお断りする場合があります。※各種目の遊べる場所を指定しています。会場の案内板をご確認の上、指定の場所であそんでください。※道具類や場所は占有できません。譲り合ってあそんでください。※保護者の方は、お子様の見守りをお願いいたします。※大人の方のみで利用する目的での入場はお断りいたします。 \n\n\n\n費用無料
URL:https://www.we-hall.jp/event/%e4%bd%93%e8%82%b2%e5%ae%a4%e3%81%a7%e3%81%82%e3%81%9d%e3%81%bc%e3%81%86-59/
CATEGORIES:わくわくキングダム,今日の未来館
ATTACH;FMTTYPE=image/jpeg:https://www.we-hall.jp/wp-content/uploads/2024/09/24989165_l-scaled.jpg
END:VEVENT
BEGIN:VEVENT
DTSTART;TZID=Asia/Tokyo:20250402T093000
DTEND;TZID=Asia/Tokyo:20250402T170000
DTSTAMP:20260426T095319
CREATED:20250330T035041Z
LAST-MODIFIED:20250330T124520Z
UID:10007639-1743586200-1743613200@www.we-hall.jp
SUMMARY:体育室であそぼう（午前９時30分から）
DESCRIPTION:体育室の無料開放イベントです。主な対象は、小学生です。その他の方もご利用いただけますが、小学生が遊べるようにご配慮ください。バドミントンや卓球、ゴムボールなど、広々とした体育室でのびのび遊べます。 \n\n\n\n☆申込不要、出入り自由☆ラケットやボールなどは、数に限りがありますが、お貸出し品があります（１Ｆ総合受付にて貸出）☆室内履きをお持ちの方はお持ちください。 \n\n\n\n【注意事項】 \n\n\n\n※サッカーボール、バスケットボールなど、ボール類の持ち込みは禁止です。※子ども未来館で貸出ししている道具（遊具）のみご利用いただけます。※道具（遊具）の破損が多くなっています。ご自身が使用した物は、使用が終わるまで丁寧に　使用することを心掛け、使用後は元あった場所に必ずお戻しください。また、使用中にあやまって壊した、または壊れた等については、すみやかに施設スタッフに　申し出をおこない、そのまま放置しないようお願いいたします。再三の注意にも関わらずご使用方法をお守りいただけない場合はお貸出しをお断りする場合があります。※各種目の遊べる場所を指定しています。会場の案内板をご確認の上、指定の場所であそんでください。※道具類や場所は占有できません。譲り合ってあそんでください。※保護者の方は、お子様の見守りをお願いいたします。※大人の方のみで利用する目的での入場はお断りいたします。 \n\n\n\n費用無料
URL:https://www.we-hall.jp/event/%e4%bd%93%e8%82%b2%e5%ae%a4%e3%81%a7%e3%81%82%e3%81%9d%e3%81%bc%e3%81%86-60/
CATEGORIES:わくわくキングダム,今日の未来館
ATTACH;FMTTYPE=image/jpeg:https://www.we-hall.jp/wp-content/uploads/2024/09/24989165_l-scaled.jpg
END:VEVENT
BEGIN:VEVENT
DTSTART;TZID=Asia/Tokyo:20250402T170000
DTEND;TZID=Asia/Tokyo:20250402T200000
DTSTAMP:20260426T095319
CREATED:20250401T092217Z
LAST-MODIFIED:20250401T092218Z
UID:10007682-1743613200-1743624000@www.we-hall.jp
SUMMARY:ティーンズスポーツ
DESCRIPTION:バスケットボール、バドミントン、卓球など屋内スポーツを楽しめます。・主な種目：卓球、バドミントン、バレーボール、バスケットボール・用具は、１階総合受付にてお貸し出しいたします。お貸出しの際は、貸出申込書の記入が必要です。用具等の持ち込みは可。 \n\n\n\n※バスケットボール、バレーボールのお貸し出しはございません。 \n\n\n\n※バレーボールコート（ネット）のご用意はございません。 \n\n\n\n※使用できるバスケットボールゴールは、１つだけです。また、バスケットボール用の専用コートではございません。他の種目もプレイできる環境になっています。譲り合ってご利用ください。 \n\n\n\n※更衣室、シャワー室の設備はございません。更衣または制汗スプレーなどの噴霧は共用部（廊下等）で行わないようお願いいたします。
URL:https://www.we-hall.jp/event/%e3%83%86%e3%82%a3%e3%83%bc%e3%83%b3%e3%82%ba%e3%82%b9%e3%83%9d%e3%83%bc%e3%83%84-35/
CATEGORIES:わくわくキングダム,今日の未来館
ATTACH;FMTTYPE=image/jpeg:https://www.we-hall.jp/wp-content/uploads/2024/07/24989165_m.jpg
END:VEVENT
BEGIN:VEVENT
DTSTART;TZID=Asia/Tokyo:20250403T130000
DTEND;TZID=Asia/Tokyo:20250403T170000
DTSTAMP:20260426T095319
CREATED:20250330T035331Z
LAST-MODIFIED:20250330T124659Z
UID:10007641-1743685200-1743699600@www.we-hall.jp
SUMMARY:体育室であそぼう（午後１時から）
DESCRIPTION:体育室の無料開放イベントです。主な対象は、小学生です。その他の方もご利用いただけますが、小学生が遊べるようにご配慮ください。バドミントンや卓球、ゴムボールなど、広々とした体育室でのびのび遊べます。 \n\n\n\n☆申込不要、出入り自由☆ラケットやボールなどは、数に限りがありますが、お貸出し品があります（１Ｆ総合受付にて貸出）☆室内履きをお持ちの方はお持ちください。 \n\n\n\n【注意事項】 \n\n\n\n※サッカーボール、バスケットボールなど、ボール類の持ち込みは禁止です。※子ども未来館で貸出ししている道具（遊具）のみご利用いただけます。※道具（遊具）の破損が多くなっています。ご自身が使用した物は、使用が終わるまで丁寧に　使用することを心掛け、使用後は元あった場所に必ずお戻しください。また、使用中にあやまって壊した、または壊れた等については、すみやかに施設スタッフに　申し出をおこない、そのまま放置しないようお願いいたします。再三の注意にも関わらずご使用方法をお守りいただけない場合はお貸出しをお断りする場合があります。※各種目の遊べる場所を指定しています。会場の案内板をご確認の上、指定の場所であそんでください。※道具類や場所は占有できません。譲り合ってあそんでください。※保護者の方は、お子様の見守りをお願いいたします。※大人の方のみで利用する目的での入場はお断りいたします。 \n\n\n\n費用無料
URL:https://www.we-hall.jp/event/%e4%bd%93%e8%82%b2%e5%ae%a4%e3%81%a7%e3%81%82%e3%81%9d%e3%81%bc%e3%81%86-61/
CATEGORIES:わくわくキングダム,今日の未来館
ATTACH;FMTTYPE=image/jpeg:https://www.we-hall.jp/wp-content/uploads/2024/09/24989165_l-scaled.jpg
END:VEVENT
BEGIN:VEVENT
DTSTART;TZID=Asia/Tokyo:20250405T100000
DTEND;TZID=Asia/Tokyo:20250405T160000
DTSTAMP:20260426T095319
CREATED:20250226T075832Z
LAST-MODIFIED:20250405T003312Z
UID:10007478-1743847200-1743868800@www.we-hall.jp
SUMMARY:weほーるdeハッピーイースター
DESCRIPTION:weほーるのあちこちにイースターエッグが隠れているので、ミッションカードに描かれている正解のイースターエッグを探し出そう！全部見つけられたら、トイカプセルのメダルをプレゼント♪ \n\n\n\n料金\n\n\n\n無料 \n\n\n\n申込\n\n\n\n不要。1階総合受付でミッションカードを配布。 \n\n\n\n\n\n\n\n開催場所\n\n\n\n館内全体
URL:https://www.we-hall.jp/event/we%e3%81%bb%e3%83%bc%e3%82%8bde%e3%83%8f%e3%83%83%e3%83%94%e3%83%bc%e3%82%a4%e3%83%bc%e3%82%b9%e3%82%bf%e3%83%bc/2025-04-05/
CATEGORIES:ちびっこプラザ,プレゼーションテラス,わくわくキングダム,今日の未来館
ATTACH;FMTTYPE=image/jpeg:https://www.we-hall.jp/wp-content/uploads/2025/02/IMG_9816-scaled.jpg
END:VEVENT
BEGIN:VEVENT
DTSTART;TZID=Asia/Tokyo:20250405T100000
DTEND;TZID=Asia/Tokyo:20250405T160000
DTSTAMP:20260426T095319
CREATED:20250226T080322Z
LAST-MODIFIED:20250405T011209Z
UID:10007480-1743847200-1743868800@www.we-hall.jp
SUMMARY:バースデーケーキをデコっちゃおう
DESCRIPTION:weほーるのお誕生日をお祝いする大きなバースデーケーキをみんなでカラフルにデコっちゃおう！ \n\n\n\n料金\n\n\n\n無料 \n\n\n\n申込\n\n\n\n不要。当日直接会場へ
URL:https://www.we-hall.jp/event/%e3%83%90%e3%83%bc%e3%82%b9%e3%83%87%e3%83%bc%e3%82%b1%e3%83%bc%e3%82%ad%e3%82%92%e3%83%87%e3%82%b3%e3%81%a3%e3%81%a1%e3%82%83%e3%81%8a%e3%81%86/2025-04-05/
CATEGORIES:ちびっこプラザ,プレゼーションテラス,わくわくキングダム,今日の未来館
ATTACH;FMTTYPE=image/jpeg:https://www.we-hall.jp/wp-content/uploads/2025/02/IMG_9827-scaled.jpg
END:VEVENT
BEGIN:VEVENT
DTSTART;TZID=Asia/Tokyo:20250405T100000
DTEND;TZID=Asia/Tokyo:20250405T160000
DTSTAMP:20260426T095319
CREATED:20250226T080644Z
LAST-MODIFIED:20250226T080645Z
UID:10007482-1743847200-1743868800@www.we-hall.jp
SUMMARY:サイバーホイールであそぼう
DESCRIPTION:大人気のサイバーホイールで思いっきり遊んじゃおう！ \n\n\n\n料金\n\n\n\n無料 \n\n\n\n申込\n\n\n\n不要。当日直接会場へ
URL:https://www.we-hall.jp/event/%e3%82%b5%e3%82%a4%e3%83%90%e3%83%bc%e3%83%9b%e3%82%a4%e3%83%bc%e3%83%ab%e3%81%a7%e3%81%82%e3%81%9d%e3%81%bc%e3%81%86-2/2025-04-05/
CATEGORIES:ちびっこプラザ,プレゼーションテラス,わくわくキングダム,今日の未来館
ATTACH;FMTTYPE=image/jpeg:https://www.we-hall.jp/wp-content/uploads/2024/04/850c7612116999490846136e772ab7fd.jpg
END:VEVENT
BEGIN:VEVENT
DTSTART;TZID=Asia/Tokyo:20250405T100000
DTEND;TZID=Asia/Tokyo:20250405T160000
DTSTAMP:20260426T095319
CREATED:20250226T080944Z
LAST-MODIFIED:20250405T010740Z
UID:10007484-1743847200-1743868800@www.we-hall.jp
SUMMARY:キネティックサンドであそぼう
DESCRIPTION:不思議な触感のキネティックサンドで砂遊びを楽しもう♪ \n\n\n\n料金\n\n\n\n無料 \n\n\n\n申込\n\n\n\n不要。当日直接会場へ
URL:https://www.we-hall.jp/event/%e3%82%ad%e3%83%8d%e3%83%86%e3%82%a3%e3%83%83%e3%82%af%e3%82%b5%e3%83%b3%e3%83%89%e3%81%a7%e3%81%82%e3%81%9d%e3%81%bc%e3%81%86/2025-04-05/
CATEGORIES:ちびっこプラザ,プレゼーションテラス,わくわくキングダム,今日の未来館
ATTACH;FMTTYPE=image/jpeg:https://www.we-hall.jp/wp-content/uploads/2025/02/IMG_9823-scaled.jpg
END:VEVENT
BEGIN:VEVENT
DTSTART;TZID=Asia/Tokyo:20250405T100000
DTEND;TZID=Asia/Tokyo:20250405T160000
DTSTAMP:20260426T095319
CREATED:20250405T001139Z
LAST-MODIFIED:20250405T004843Z
UID:10007684-1743847200-1743868800@www.we-hall.jp
SUMMARY:体育室であそぼう
DESCRIPTION:バドミントン・卓球で遊べます。（イベント開催のため半面のみ）※ボールでは遊べません。 \n\n\n\n☆申込不要、出入り自由☆ラケットなどは１Ｆ総合受付にて貸出します。☆室内履きをお持ちの方はお持ちください。 \n\n\n\n【注意事項】 \n\n\n\n※サッカーボール、バスケットボールなど、ボール類の持ち込みは禁止です。※子ども未来館で貸出ししている道具（遊具）のみご利用いただけます。※道具（遊具）の破損が多くなっています。ご自身が使用した物は、使用が終わるまで丁寧に　使用することを心掛け、使用後は元あった場所に必ずお戻しください。また、使用中にあやまって壊した、または壊れた等については、すみやかに施設スタッフに　申し出をおこない、そのまま放置しないようお願いいたします。再三の注意にも関わらずご使用方法をお守りいただけない場合はお貸出しをお断りする場合があります。※各種目の遊べる場所を指定しています。会場の案内板をご確認の上、指定の場所であそんでください。※道具類や場所は占有できません。譲り合ってあそんでください。※保護者の方は、お子様の見守りをお願いいたします。※大人の方のみで利用する目的での入場はお断りいたします。
URL:https://www.we-hall.jp/event/%e4%bd%93%e8%82%b2%e5%ae%a4%e3%81%a7%e3%81%82%e3%81%9d%e3%81%bc%e3%81%86-63/2025-04-05/
CATEGORIES:わくわくキングダム,今日の未来館
ATTACH;FMTTYPE=image/jpeg:https://www.we-hall.jp/wp-content/uploads/2024/09/24989165_l-scaled.jpg
END:VEVENT
BEGIN:VEVENT
DTSTART;TZID=Asia/Tokyo:20250405T143000
DTEND;TZID=Asia/Tokyo:20250405T150000
DTSTAMP:20260426T095319
CREATED:20250226T074544Z
LAST-MODIFIED:20250226T075220Z
UID:10007476-1743863400-1743865200@www.we-hall.jp
SUMMARY:みんなでいっしょにお祝いしよう♪ハッピーバースデーコンサート
DESCRIPTION:「ハッピーバースデー」を歌ったり、ピアノの伴奏に合わせて踊ったり、みんなで楽しく一緒にweほーるをお祝いしよう♪ベビーカーのままでも参加OK！ \n\n\n\n出演\n\n\n\nウーバーミュージック高熊 里奈（うた）、鈴木まり子（ピアノ） \n\n\n\n料金\n\n\n\n無料 \n\n\n\n\n\n申込\n\n\n\n不要。当日直接会場へ
URL:https://www.we-hall.jp/event/%e3%81%bf%e3%82%93%e3%81%aa%e3%81%a7%e3%81%84%e3%81%a3%e3%81%97%e3%82%87%e3%81%ab%e3%81%8a%e7%a5%9d%e3%81%84%e3%81%97%e3%82%88%e3%81%86%e2%99%aa%e3%83%8f%e3%83%83%e3%83%94%e3%83%bc%e3%83%90%e3%83%bc/
CATEGORIES:ちびっこプラザ,プレゼーションテラス,わくわくキングダム,今日の未来館
ATTACH;FMTTYPE=image/png:https://www.we-hall.jp/wp-content/uploads/2025/02/fe68201409355a5dbbc6f2e9e657698b.png
END:VEVENT
BEGIN:VEVENT
DTSTART;TZID=Asia/Tokyo:20250406T100000
DTEND;TZID=Asia/Tokyo:20250406T150000
DTSTAMP:20260426T095319
CREATED:20250226T075111Z
LAST-MODIFIED:20250226T075112Z
UID:10007477-1743933600-1743951600@www.we-hall.jp
SUMMARY:いちにち動物村で動物さんとふれあおう
DESCRIPTION:（12：00～13：00は休憩時間です。） \n\n\n\nweほーるに移動動物園がやってくる！うさぎ・モルモット・ヒヨコなど、身近な動物をさわったり、抱いたりして楽しくふれあおう♪ \n\n\n\n申込\n\n\n\n不要。当日直接会場へ \n\n\n\n料金\n\n\n\n無料 \n\n\n\n\n\n\n\n協力\n\n\n\n移動動物園・いちにち動物村 \n\n\n\n開催場所\n\n\n\n正面駐車場
URL:https://www.we-hall.jp/event/%e3%81%84%e3%81%a1%e3%81%ab%e3%81%a1%e5%8b%95%e7%89%a9%e6%9d%91%e3%81%a7%e5%8b%95%e7%89%a9%e3%81%95%e3%82%93%e3%81%a8%e3%81%b5%e3%82%8c%e3%81%82%e3%81%8a%e3%81%86/
CATEGORIES:ちびっこプラザ,プレゼーションテラス,わくわくキングダム,今日の未来館
ATTACH;FMTTYPE=image/jpeg:https://www.we-hall.jp/wp-content/uploads/2025/02/77440f48aced3246a6de9f043c9bf9e2.jpg
END:VEVENT
BEGIN:VEVENT
DTSTART;TZID=Asia/Tokyo:20250406T100000
DTEND;TZID=Asia/Tokyo:20250406T160000
DTSTAMP:20260426T095319
CREATED:20250226T075832Z
LAST-MODIFIED:20250405T003312Z
UID:10007479-1743933600-1743955200@www.we-hall.jp
SUMMARY:weほーるdeハッピーイースター
DESCRIPTION:weほーるのあちこちにイースターエッグが隠れているので、ミッションカードに描かれている正解のイースターエッグを探し出そう！全部見つけられたら、トイカプセルのメダルをプレゼント♪ \n\n\n\n料金\n\n\n\n無料 \n\n\n\n申込\n\n\n\n不要。1階総合受付でミッションカードを配布。 \n\n\n\n\n\n\n\n開催場所\n\n\n\n館内全体
URL:https://www.we-hall.jp/event/we%e3%81%bb%e3%83%bc%e3%82%8bde%e3%83%8f%e3%83%83%e3%83%94%e3%83%bc%e3%82%a4%e3%83%bc%e3%82%b9%e3%82%bf%e3%83%bc/2025-04-06/
CATEGORIES:ちびっこプラザ,プレゼーションテラス,わくわくキングダム,今日の未来館
ATTACH;FMTTYPE=image/jpeg:https://www.we-hall.jp/wp-content/uploads/2025/02/IMG_9816-scaled.jpg
END:VEVENT
BEGIN:VEVENT
DTSTART;TZID=Asia/Tokyo:20250406T100000
DTEND;TZID=Asia/Tokyo:20250406T160000
DTSTAMP:20260426T095319
CREATED:20250226T080322Z
LAST-MODIFIED:20250405T011209Z
UID:10007481-1743933600-1743955200@www.we-hall.jp
SUMMARY:バースデーケーキをデコっちゃおう
DESCRIPTION:weほーるのお誕生日をお祝いする大きなバースデーケーキをみんなでカラフルにデコっちゃおう！ \n\n\n\n料金\n\n\n\n無料 \n\n\n\n申込\n\n\n\n不要。当日直接会場へ
URL:https://www.we-hall.jp/event/%e3%83%90%e3%83%bc%e3%82%b9%e3%83%87%e3%83%bc%e3%82%b1%e3%83%bc%e3%82%ad%e3%82%92%e3%83%87%e3%82%b3%e3%81%a3%e3%81%a1%e3%82%83%e3%81%8a%e3%81%86/2025-04-06/
CATEGORIES:ちびっこプラザ,プレゼーションテラス,わくわくキングダム,今日の未来館
ATTACH;FMTTYPE=image/jpeg:https://www.we-hall.jp/wp-content/uploads/2025/02/IMG_9827-scaled.jpg
END:VEVENT
BEGIN:VEVENT
DTSTART;TZID=Asia/Tokyo:20250406T100000
DTEND;TZID=Asia/Tokyo:20250406T160000
DTSTAMP:20260426T095319
CREATED:20250226T080644Z
LAST-MODIFIED:20250226T080645Z
UID:10007483-1743933600-1743955200@www.we-hall.jp
SUMMARY:サイバーホイールであそぼう
DESCRIPTION:大人気のサイバーホイールで思いっきり遊んじゃおう！ \n\n\n\n料金\n\n\n\n無料 \n\n\n\n申込\n\n\n\n不要。当日直接会場へ
URL:https://www.we-hall.jp/event/%e3%82%b5%e3%82%a4%e3%83%90%e3%83%bc%e3%83%9b%e3%82%a4%e3%83%bc%e3%83%ab%e3%81%a7%e3%81%82%e3%81%9d%e3%81%bc%e3%81%86-2/2025-04-06/
CATEGORIES:ちびっこプラザ,プレゼーションテラス,わくわくキングダム,今日の未来館
ATTACH;FMTTYPE=image/jpeg:https://www.we-hall.jp/wp-content/uploads/2024/04/850c7612116999490846136e772ab7fd.jpg
END:VEVENT
BEGIN:VEVENT
DTSTART;TZID=Asia/Tokyo:20250406T100000
DTEND;TZID=Asia/Tokyo:20250406T160000
DTSTAMP:20260426T095319
CREATED:20250226T080944Z
LAST-MODIFIED:20250405T010740Z
UID:10007485-1743933600-1743955200@www.we-hall.jp
SUMMARY:キネティックサンドであそぼう
DESCRIPTION:不思議な触感のキネティックサンドで砂遊びを楽しもう♪ \n\n\n\n料金\n\n\n\n無料 \n\n\n\n申込\n\n\n\n不要。当日直接会場へ
URL:https://www.we-hall.jp/event/%e3%82%ad%e3%83%8d%e3%83%86%e3%82%a3%e3%83%83%e3%82%af%e3%82%b5%e3%83%b3%e3%83%89%e3%81%a7%e3%81%82%e3%81%9d%e3%81%bc%e3%81%86/2025-04-06/
CATEGORIES:ちびっこプラザ,プレゼーションテラス,わくわくキングダム,今日の未来館
ATTACH;FMTTYPE=image/jpeg:https://www.we-hall.jp/wp-content/uploads/2025/02/IMG_9823-scaled.jpg
END:VEVENT
BEGIN:VEVENT
DTSTART;TZID=Asia/Tokyo:20250406T100000
DTEND;TZID=Asia/Tokyo:20250406T160000
DTSTAMP:20260426T095319
CREATED:20250405T001139Z
LAST-MODIFIED:20250405T004843Z
UID:10007686-1743933600-1743955200@www.we-hall.jp
SUMMARY:体育室であそぼう
DESCRIPTION:バドミントン・卓球で遊べます。（イベント開催のため半面のみ）※ボールでは遊べません。 \n\n\n\n☆申込不要、出入り自由☆ラケットなどは１Ｆ総合受付にて貸出します。☆室内履きをお持ちの方はお持ちください。 \n\n\n\n【注意事項】 \n\n\n\n※サッカーボール、バスケットボールなど、ボール類の持ち込みは禁止です。※子ども未来館で貸出ししている道具（遊具）のみご利用いただけます。※道具（遊具）の破損が多くなっています。ご自身が使用した物は、使用が終わるまで丁寧に　使用することを心掛け、使用後は元あった場所に必ずお戻しください。また、使用中にあやまって壊した、または壊れた等については、すみやかに施設スタッフに　申し出をおこない、そのまま放置しないようお願いいたします。再三の注意にも関わらずご使用方法をお守りいただけない場合はお貸出しをお断りする場合があります。※各種目の遊べる場所を指定しています。会場の案内板をご確認の上、指定の場所であそんでください。※道具類や場所は占有できません。譲り合ってあそんでください。※保護者の方は、お子様の見守りをお願いいたします。※大人の方のみで利用する目的での入場はお断りいたします。
URL:https://www.we-hall.jp/event/%e4%bd%93%e8%82%b2%e5%ae%a4%e3%81%a7%e3%81%82%e3%81%9d%e3%81%bc%e3%81%86-63/2025-04-06/
CATEGORIES:わくわくキングダム,今日の未来館
ATTACH;FMTTYPE=image/jpeg:https://www.we-hall.jp/wp-content/uploads/2024/09/24989165_l-scaled.jpg
END:VEVENT
BEGIN:VEVENT
DTSTART;TZID=Asia/Tokyo:20250407T153000
DTEND;TZID=Asia/Tokyo:20250407T170000
DTSTAMP:20260426T095319
CREATED:20250330T042142Z
LAST-MODIFIED:20250330T042143Z
UID:10007642-1744039800-1744045200@www.we-hall.jp
SUMMARY:体育室であそぼう
DESCRIPTION:バドミントンや卓球、ゴムボールなど、広々とした体育室でのびのび遊べます。 \n\n\n\n☆申込不要、出入り自由☆ラケットやボールなどは、数に限りがありますが、お貸出し品があります（１Ｆ総合受付にて貸出）☆室内履きをお持ちの方はお持ちください。 \n\n\n\n【注意事項】 \n\n\n\n※サッカーボール、バスケットボールなど、ボール類の持ち込みは禁止です。※子ども未来館で貸出ししている道具（遊具）のみご利用いただけます。※道具（遊具）の破損が多くなっています。ご自身が使用した物は、使用が終わるまで丁寧に　使用することを心掛け、使用後は元あった場所に必ずお戻しください。また、使用中にあやまって壊した、または壊れた等については、すみやかに施設スタッフに　申し出をおこない、そのまま放置しないようお願いいたします。再三の注意にも関わらずご使用方法をお守りいただけない場合はお貸出しをお断りする場合があります。※各種目の遊べる場所を指定しています。会場の案内板をご確認の上、指定の場所であそんでください。※道具類や場所は占有できません。譲り合ってあそんでください。※保護者の方は、お子様の見守りをお願いいたします。※大人の方のみで利用する目的での入場はお断りいたします。 \n\n\n\n費用無料
URL:https://www.we-hall.jp/event/%e4%bd%93%e8%82%b2%e5%ae%a4%e3%81%a7%e3%81%82%e3%81%9d%e3%81%bc%e3%81%86-62/
CATEGORIES:わくわくキングダム,今日の未来館
ATTACH;FMTTYPE=image/jpeg:https://www.we-hall.jp/wp-content/uploads/2024/09/24989165_l-scaled.jpg
END:VEVENT
BEGIN:VEVENT
DTSTART;TZID=Asia/Tokyo:20250407T153000
DTEND;TZID=Asia/Tokyo:20250407T170000
DTSTAMP:20260426T095319
CREATED:20250330T044436Z
LAST-MODIFIED:20250330T044437Z
UID:10007659-1744039800-1744045200@www.we-hall.jp
SUMMARY:プログラミングであそぼう
DESCRIPTION:プログラミングを楽しく体験しよう！
URL:https://www.we-hall.jp/event/%e3%83%97%e3%83%ad%e3%82%b0%e3%83%a9%e3%83%9f%e3%83%b3%e3%82%b0%e3%81%a7%e3%81%82%e3%81%9d%e3%81%bc%e3%81%86-12/
CATEGORIES:プレゼーションテラス,わくわくキングダム,今日の未来館
ATTACH;FMTTYPE=image/jpeg:https://www.we-hall.jp/wp-content/uploads/2024/09/ebeb14209462d559f68381095dcfc210.jpg
END:VEVENT
BEGIN:VEVENT
DTSTART;TZID=Asia/Tokyo:20250408T153000
DTEND;TZID=Asia/Tokyo:20250408T170000
DTSTAMP:20260426T095319
CREATED:20250330T042824Z
LAST-MODIFIED:20250330T042824Z
UID:10007644-1744126200-1744131600@www.we-hall.jp
SUMMARY:体育室であそぼう
DESCRIPTION:バドミントンや卓球、ゴムボールなど、広々とした体育室でのびのび遊べます。 \n\n\n\n☆申込不要、出入り自由☆ラケットやボールなどは、数に限りがありますが、お貸出し品があります（１Ｆ総合受付にて貸出）☆室内履きをお持ちの方はお持ちください。 \n\n\n\n【注意事項】 \n\n\n\n※サッカーボール、バスケットボールなど、ボール類の持ち込みは禁止です。※子ども未来館で貸出ししている道具（遊具）のみご利用いただけます。※道具（遊具）の破損が多くなっています。ご自身が使用した物は、使用が終わるまで丁寧に　使用することを心掛け、使用後は元あった場所に必ずお戻しください。また、使用中にあやまって壊した、または壊れた等については、すみやかに施設スタッフに　申し出をおこない、そのまま放置しないようお願いいたします。再三の注意にも関わらずご使用方法をお守りいただけない場合はお貸出しをお断りする場合があります。※各種目の遊べる場所を指定しています。会場の案内板をご確認の上、指定の場所であそんでください。※道具類や場所は占有できません。譲り合ってあそんでください。※保護者の方は、お子様の見守りをお願いいたします。※大人の方のみで利用する目的での入場はお断りいたします。 \n\n\n\n費用無料
URL:https://www.we-hall.jp/event/%e4%bd%93%e8%82%b2%e5%ae%a4%e3%81%a7%e3%81%82%e3%81%9d%e3%81%bc%e3%81%86-65/
CATEGORIES:わくわくキングダム,今日の未来館
ATTACH;FMTTYPE=image/jpeg:https://www.we-hall.jp/wp-content/uploads/2024/09/24989165_l-scaled.jpg
END:VEVENT
BEGIN:VEVENT
DTSTART;TZID=Asia/Tokyo:20250409T153000
DTEND;TZID=Asia/Tokyo:20250409T170000
DTSTAMP:20260426T095319
CREATED:20250330T053549Z
LAST-MODIFIED:20250330T053550Z
UID:10007672-1744212600-1744218000@www.we-hall.jp
SUMMARY:体育室であそぼう
DESCRIPTION:バドミントンや卓球、ゴムボールなど、広々とした体育室でのびのび遊べます。 \n\n\n\n☆申込不要、出入り自由☆ラケットやボールなどは、数に限りがありますが、お貸出し品があります（１Ｆ総合受付にて貸出）☆室内履きをお持ちの方はお持ちください。 \n\n\n\n【注意事項】 \n\n\n\n※サッカーボール、バスケットボールなど、ボール類の持ち込みは禁止です。※子ども未来館で貸出ししている道具（遊具）のみご利用いただけます。※道具（遊具）の破損が多くなっています。ご自身が使用した物は、使用が終わるまで丁寧に　使用することを心掛け、使用後は元あった場所に必ずお戻しください。また、使用中にあやまって壊した、または壊れた等については、すみやかに施設スタッフに　申し出をおこない、そのまま放置しないようお願いいたします。再三の注意にも関わらずご使用方法をお守りいただけない場合はお貸出しをお断りする場合があります。※各種目の遊べる場所を指定しています。会場の案内板をご確認の上、指定の場所であそんでください。※道具類や場所は占有できません。譲り合ってあそんでください。※保護者の方は、お子様の見守りをお願いいたします。※大人の方のみで利用する目的での入場はお断りいたします。 \n\n\n\n費用無料
URL:https://www.we-hall.jp/event/%e4%bd%93%e8%82%b2%e5%ae%a4%e3%81%a7%e3%81%82%e3%81%9d%e3%81%bc%e3%81%86-74/
CATEGORIES:わくわくキングダム,今日の未来館
ATTACH;FMTTYPE=image/jpeg:https://www.we-hall.jp/wp-content/uploads/2024/09/24989165_l-scaled.jpg
END:VEVENT
BEGIN:VEVENT
DTSTART;TZID=Asia/Tokyo:20250409T170000
DTEND;TZID=Asia/Tokyo:20250409T200000
DTSTAMP:20260426T095319
CREATED:20250330T054106Z
LAST-MODIFIED:20250330T054106Z
UID:10007676-1744218000-1744228800@www.we-hall.jp
SUMMARY:ティーンズスポーツ
DESCRIPTION:バスケットボール、バドミントン、卓球など屋内スポーツを楽しめます。 \n\n\n\nご利者様の声から、10月より以下の通りにルール変更を行っております。ご理解・ご協力のほどよろしくお願いいたします。 \n\n\n\n・主な種目：卓球、バドミントン、バレーボール、バスケットボール・用具は、１階総合受付にてお貸し出しいたします。お貸出しの際は、貸出申込書の記入が必要です。用具等の持ち込みは可。 \n\n\n\n※バスケットボール、バレーボールのお貸し出しはございません。 \n\n\n\n※バレーボールコート（ネット）のご用意はございません。 \n\n\n\n※使用できるバスケットボールゴールは、１つだけです。また、バスケットボール用の専用コートではございません。他の種目もプレイできる環境になっています。譲り合ってご利用ください。 \n\n\n\n※更衣室、シャワー室の設備はございません。更衣または制汗スプレーなどの噴霧は共用部（廊下等）で行わないようお願いいたします。
URL:https://www.we-hall.jp/event/%e3%83%86%e3%82%a3%e3%83%bc%e3%83%b3%e3%82%ba%e3%82%b9%e3%83%9d%e3%83%bc%e3%83%84-31/
CATEGORIES:わくわくキングダム,今日の未来館
ATTACH;FMTTYPE=image/jpeg:https://www.we-hall.jp/wp-content/uploads/2024/04/6bc48cbfde4c77b25c6296dedb92044d.jpg
END:VEVENT
BEGIN:VEVENT
DTSTART;TZID=Asia/Tokyo:20250410T153000
DTEND;TZID=Asia/Tokyo:20250410T170000
DTSTAMP:20260426T095319
CREATED:20250330T042713Z
LAST-MODIFIED:20250330T042714Z
UID:10007645-1744299000-1744304400@www.we-hall.jp
SUMMARY:体育室であそぼう
DESCRIPTION:バドミントンや卓球、ゴムボールなど、広々とした体育室でのびのび遊べます。 \n\n\n\n☆申込不要、出入り自由☆ラケットやボールなどは、数に限りがありますが、お貸出し品があります（１Ｆ総合受付にて貸出）☆室内履きをお持ちの方はお持ちください。 \n\n\n\n【注意事項】 \n\n\n\n※サッカーボール、バスケットボールなど、ボール類の持ち込みは禁止です。※子ども未来館で貸出ししている道具（遊具）のみご利用いただけます。※道具（遊具）の破損が多くなっています。ご自身が使用した物は、使用が終わるまで丁寧に　使用することを心掛け、使用後は元あった場所に必ずお戻しください。また、使用中にあやまって壊した、または壊れた等については、すみやかに施設スタッフに　申し出をおこない、そのまま放置しないようお願いいたします。再三の注意にも関わらずご使用方法をお守りいただけない場合はお貸出しをお断りする場合があります。※各種目の遊べる場所を指定しています。会場の案内板をご確認の上、指定の場所であそんでください。※道具類や場所は占有できません。譲り合ってあそんでください。※保護者の方は、お子様の見守りをお願いいたします。※大人の方のみで利用する目的での入場はお断りいたします。 \n\n\n\n費用無料
URL:https://www.we-hall.jp/event/%e4%bd%93%e8%82%b2%e5%ae%a4%e3%81%a7%e3%81%82%e3%81%9d%e3%81%bc%e3%81%86-64/
CATEGORIES:わくわくキングダム,今日の未来館
ATTACH;FMTTYPE=image/jpeg:https://www.we-hall.jp/wp-content/uploads/2024/09/24989165_l-scaled.jpg
END:VEVENT
BEGIN:VEVENT
DTSTART;TZID=Asia/Tokyo:20250411T153000
DTEND;TZID=Asia/Tokyo:20250411T170000
DTSTAMP:20260426T095319
CREATED:20250330T042914Z
LAST-MODIFIED:20250330T042915Z
UID:10007646-1744385400-1744390800@www.we-hall.jp
SUMMARY:体育室であそぼう
DESCRIPTION:バドミントンや卓球、ゴムボールなど、広々とした体育室でのびのび遊べます。 \n\n\n\n☆申込不要、出入り自由☆ラケットやボールなどは、数に限りがありますが、お貸出し品があります（１Ｆ総合受付にて貸出）☆室内履きをお持ちの方はお持ちください。 \n\n\n\n【注意事項】 \n\n\n\n※サッカーボール、バスケットボールなど、ボール類の持ち込みは禁止です。※子ども未来館で貸出ししている道具（遊具）のみご利用いただけます。※道具（遊具）の破損が多くなっています。ご自身が使用した物は、使用が終わるまで丁寧に　使用することを心掛け、使用後は元あった場所に必ずお戻しください。また、使用中にあやまって壊した、または壊れた等については、すみやかに施設スタッフに　申し出をおこない、そのまま放置しないようお願いいたします。再三の注意にも関わらずご使用方法をお守りいただけない場合はお貸出しをお断りする場合があります。※各種目の遊べる場所を指定しています。会場の案内板をご確認の上、指定の場所であそんでください。※道具類や場所は占有できません。譲り合ってあそんでください。※保護者の方は、お子様の見守りをお願いいたします。※大人の方のみで利用する目的での入場はお断りいたします。 \n\n\n\n費用無料
URL:https://www.we-hall.jp/event/%e4%bd%93%e8%82%b2%e5%ae%a4%e3%81%a7%e3%81%82%e3%81%9d%e3%81%bc%e3%81%86-66/
CATEGORIES:わくわくキングダム,今日の未来館
ATTACH;FMTTYPE=image/jpeg:https://www.we-hall.jp/wp-content/uploads/2024/09/24989165_l-scaled.jpg
END:VEVENT
BEGIN:VEVENT
DTSTART;TZID=Asia/Tokyo:20250412T100000
DTEND;TZID=Asia/Tokyo:20250412T120000
DTSTAMP:20260426T095319
CREATED:20250330T045024Z
LAST-MODIFIED:20250330T045024Z
UID:10007665-1744452000-1744459200@www.we-hall.jp
SUMMARY:ウッドファクトリー
DESCRIPTION:板や木材を使って自由に作品を作ってみよう！ \n\n\n\n \n\n\n\n木材のご用意がありますので、自由に組み合わせて工作してください。 \n\n\n\n※くぎ、ねじ、トンカチ、のこぎり、電動ドライバー、グルーガン等の工具が使用できます。 \n\n\n\n※お子さまだけでもご参加いただけますが、特に低年齢のお子さまには保護者が同伴くださいますようお願いいたします。
URL:https://www.we-hall.jp/event/%e3%82%a6%e3%83%83%e3%83%89%e3%83%95%e3%82%a1%e3%82%af%e3%83%88%e3%83%aa%e3%83%bc-22/
CATEGORIES:プレゼーションテラス,わくわくキングダム,今日の未来館
ATTACH;FMTTYPE=image/jpeg:https://www.we-hall.jp/wp-content/uploads/2024/06/2807317_l-scaled.jpg
END:VEVENT
BEGIN:VEVENT
DTSTART;TZID=Asia/Tokyo:20250412T130000
DTEND;TZID=Asia/Tokyo:20250412T140000
DTSTAMP:20260426T095319
CREATED:20250308T070139Z
LAST-MODIFIED:20250308T070140Z
UID:10007525-1744462800-1744466400@www.we-hall.jp
SUMMARY:イングリッシュ・ラボ
DESCRIPTION:Let’s enjoy！English！ \n\n\n\n遊びやゲームで英語を楽しく学んじゃお！申込方法などはコチラをご覧ください。
URL:https://www.we-hall.jp/event/%e3%82%a4%e3%83%b3%e3%82%b0%e3%83%aa%e3%83%83%e3%82%b7%e3%83%a5%e3%83%bb%e3%83%a9%e3%83%9c-10/
CATEGORIES:わくわくキングダム,今日の未来館
ATTACH;FMTTYPE=image/jpeg:https://www.we-hall.jp/wp-content/uploads/2024/10/f4a09c234d0de2f0b36d64a548ac816b.jpg
END:VEVENT
BEGIN:VEVENT
DTSTART;TZID=Asia/Tokyo:20250413T100000
DTEND;TZID=Asia/Tokyo:20250413T120000
DTSTAMP:20260426T095319
CREATED:20250313T091752Z
LAST-MODIFIED:20250313T091753Z
UID:10007543-1744538400-1744545600@www.we-hall.jp
SUMMARY:クリエイティブ・ラボ（午前の部）
DESCRIPTION:モザイクタイルでネームプレートを作りましょう。「ラボ」シリーズについてはコチラをご覧ください。 \n\n\n\n申込・定員\n\n\n\n事前申込制　窓口・電話で受付／先着20名 \n\n\n\n講師\n\n\n\n佐々木美恵子（市原市工芸会） \n\n\n\n費用\n\n\n\n無料
URL:https://www.we-hall.jp/event/%e3%82%af%e3%83%aa%e3%82%a8%e3%82%a4%e3%83%86%e3%82%a3%e3%83%96%e3%83%bb%e3%83%a9%e3%83%9c%ef%bc%88%e5%8d%88%e5%89%8d%e3%81%ae%e9%83%a8%ef%bc%89/
CATEGORIES:わくわくキングダム,今日の未来館
ATTACH;FMTTYPE=image/jpeg:https://www.we-hall.jp/wp-content/uploads/2024/10/b6f183015aa3cc177d3a33c971d9de9e-scaled.jpg
END:VEVENT
BEGIN:VEVENT
DTSTART;TZID=Asia/Tokyo:20250413T130000
DTEND;TZID=Asia/Tokyo:20250413T150000
DTSTAMP:20260426T095319
CREATED:20250313T093352Z
LAST-MODIFIED:20250313T093353Z
UID:10007544-1744549200-1744556400@www.we-hall.jp
SUMMARY:クリエイティブ・ラボ（午後の部）
DESCRIPTION:モザイクタイルでネームプレートを作りましょう。「ラボ」シリーズについてはコチラをご覧ください。 \n\n\n\n申込・定員\n\n\n\n事前申込制　窓口・電話で受付／先着20名 \n\n\n\n講師\n\n\n\n佐々木美恵子（市原市工芸会） \n\n\n\n費用\n\n\n\n無料
URL:https://www.we-hall.jp/event/%e3%82%af%e3%83%aa%e3%82%a8%e3%82%a4%e3%83%86%e3%82%a3%e3%83%96%e3%83%bb%e3%83%a9%e3%83%9c%ef%bc%88%e5%8d%88%e5%be%8c%e3%81%ae%e9%83%a8%ef%bc%89/
CATEGORIES:わくわくキングダム,今日の未来館
ATTACH;FMTTYPE=image/jpeg:https://www.we-hall.jp/wp-content/uploads/2024/10/b6f183015aa3cc177d3a33c971d9de9e-scaled.jpg
END:VEVENT
BEGIN:VEVENT
DTSTART;TZID=Asia/Tokyo:20250414T000000
DTEND;TZID=Asia/Tokyo:20250414T235900
DTSTAMP:20260426T095319
CREATED:20250228T150000Z
LAST-MODIFIED:20250510T040520Z
UID:10007555-1744588800-1744675140@www.we-hall.jp
SUMMARY:休館日
DESCRIPTION:※本日の開館時間は、8:30～17:45です。 \n\n\n\nいちはら子ども未来館は休館です。総合受付の一部業務、子育てサロン・プレイルームの利用、諸室の予約・貸出はお休みとなります。１階 市原ワークプラザ、２階 こども家庭センター（子育てネウボラセンター・発達支援センター地域支援室）は、通常通り営業します。 \n\n\n\n \n\n\n\n休館日の各窓口営業時間\n\n\n\n１階　いちはら子ども未来館 総合受付（対面のみ）9:00～17:45１階　市原ワークプラザ（ハローワークプラザ市原、マザーズコーナー）8:30～17:00２階　こども家庭センター（子育てネウボラセンター・発達支援センター地域支援室）8:30～17:15当館は、毎月１回、原則(※)第２月曜日を休館日とし、館内の環境整備を行っております。当該休館日におきましても入館は可能ですが、１階総合受付におけるサービスの一部、子ども未来館施設の貸出・利用を休止しております。また、館内環境整備に係る点検作業を各所で行っておりますので、一部、エリアの立ち入りを制限している場合がございます。ご不便、ご迷惑をおかけいたしますが、何卒ご理解いただきますようお願いいたします。なお、休館中のお問い合せにつきましては、回答までにお時間をいただく場合がございます。あらかじめご了承ください。お困りの際は、当HP内のご案内またはAIコンシェルジュもご活用ください。(※)当該日が休日に当たる場合は翌平日が休館日です。
URL:https://www.we-hall.jp/event/%e4%bc%91%e9%a4%a8%e6%97%a5/2025-04-14/
CATEGORIES:ちびっこプラザ,プレゼーションテラス,わくわくキングダム,今日の未来館
ATTACH;FMTTYPE=image/jpeg:https://www.we-hall.jp/wp-content/uploads/2024/02/fac10490e6719c8e7a5ca5dcb083e200.jpg
END:VEVENT
BEGIN:VEVENT
DTSTART;TZID=Asia/Tokyo:20250415T153000
DTEND;TZID=Asia/Tokyo:20250415T170000
DTSTAMP:20260426T095319
CREATED:20250330T043015Z
LAST-MODIFIED:20250330T043016Z
UID:10007647-1744731000-1744736400@www.we-hall.jp
SUMMARY:体育室であそぼう
DESCRIPTION:バドミントンや卓球、ゴムボールなど、広々とした体育室でのびのび遊べます。 \n\n\n\n☆申込不要、出入り自由☆ラケットやボールなどは、数に限りがありますが、お貸出し品があります（１Ｆ総合受付にて貸出）☆室内履きをお持ちの方はお持ちください。 \n\n\n\n【注意事項】 \n\n\n\n※サッカーボール、バスケットボールなど、ボール類の持ち込みは禁止です。※子ども未来館で貸出ししている道具（遊具）のみご利用いただけます。※道具（遊具）の破損が多くなっています。ご自身が使用した物は、使用が終わるまで丁寧に　使用することを心掛け、使用後は元あった場所に必ずお戻しください。また、使用中にあやまって壊した、または壊れた等については、すみやかに施設スタッフに　申し出をおこない、そのまま放置しないようお願いいたします。再三の注意にも関わらずご使用方法をお守りいただけない場合はお貸出しをお断りする場合があります。※各種目の遊べる場所を指定しています。会場の案内板をご確認の上、指定の場所であそんでください。※道具類や場所は占有できません。譲り合ってあそんでください。※保護者の方は、お子様の見守りをお願いいたします。※大人の方のみで利用する目的での入場はお断りいたします。 \n\n\n\n費用無料
URL:https://www.we-hall.jp/event/%e4%bd%93%e8%82%b2%e5%ae%a4%e3%81%a7%e3%81%82%e3%81%9d%e3%81%bc%e3%81%86-67/
CATEGORIES:わくわくキングダム,今日の未来館
ATTACH;FMTTYPE=image/jpeg:https://www.we-hall.jp/wp-content/uploads/2024/09/24989165_l-scaled.jpg
END:VEVENT
BEGIN:VEVENT
DTSTART;TZID=Asia/Tokyo:20250416T153000
DTEND;TZID=Asia/Tokyo:20250416T170000
DTSTAMP:20260426T095319
CREATED:20250330T053848Z
LAST-MODIFIED:20250330T053848Z
UID:10007674-1744817400-1744822800@www.we-hall.jp
SUMMARY:体育室であそぼう
DESCRIPTION:バドミントンや卓球、ゴムボールなど、広々とした体育室でのびのび遊べます。 \n\n\n\n☆申込不要、出入り自由☆ラケットやボールなどは、数に限りがありますが、お貸出し品があります（１Ｆ総合受付にて貸出）☆室内履きをお持ちの方はお持ちください。 \n\n\n\n【注意事項】 \n\n\n\n※サッカーボール、バスケットボールなど、ボール類の持ち込みは禁止です。※子ども未来館で貸出ししている道具（遊具）のみご利用いただけます。※道具（遊具）の破損が多くなっています。ご自身が使用した物は、使用が終わるまで丁寧に　使用することを心掛け、使用後は元あった場所に必ずお戻しください。また、使用中にあやまって壊した、または壊れた等については、すみやかに施設スタッフに　申し出をおこない、そのまま放置しないようお願いいたします。再三の注意にも関わらずご使用方法をお守りいただけない場合はお貸出しをお断りする場合があります。※各種目の遊べる場所を指定しています。会場の案内板をご確認の上、指定の場所であそんでください。※道具類や場所は占有できません。譲り合ってあそんでください。※保護者の方は、お子様の見守りをお願いいたします。※大人の方のみで利用する目的での入場はお断りいたします。 \n\n\n\n費用無料
URL:https://www.we-hall.jp/event/%e4%bd%93%e8%82%b2%e5%ae%a4%e3%81%a7%e3%81%82%e3%81%9d%e3%81%bc%e3%81%86-75/
CATEGORIES:わくわくキングダム,今日の未来館
ATTACH;FMTTYPE=image/jpeg:https://www.we-hall.jp/wp-content/uploads/2024/09/24989165_l-scaled.jpg
END:VEVENT
END:VCALENDAR