BEGIN:VCALENDAR
VERSION:2.0
PRODID:-//いちはら子ども未来館 - ECPv6.8.3//NONSGML v1.0//EN
CALSCALE:GREGORIAN
METHOD:PUBLISH
X-WR-CALNAME:いちはら子ども未来館
X-ORIGINAL-URL:https://www.we-hall.jp
X-WR-CALDESC:いちはら子ども未来館 のイベント
REFRESH-INTERVAL;VALUE=DURATION:PT1H
X-Robots-Tag:noindex
X-PUBLISHED-TTL:PT1H
BEGIN:VTIMEZONE
TZID:Asia/Tokyo
BEGIN:STANDARD
TZOFFSETFROM:+0900
TZOFFSETTO:+0900
TZNAME:JST
DTSTART:20250101T000000
END:STANDARD
END:VTIMEZONE
BEGIN:VEVENT
DTSTART;TZID=Asia/Tokyo:20250201T100000
DTEND;TZID=Asia/Tokyo:20250201T120000
DTSTAMP:20260423T214256
CREATED:20250124T150000Z
LAST-MODIFIED:20250207T090127Z
UID:10007437-1738404000-1738411200@www.we-hall.jp
SUMMARY:ウッドファクトリー
DESCRIPTION:板や木材を使って自由に作品を作ってみよう！ \n\n\n\n \n\n\n\n木材のご用意がありますので、自由に組み合わせて工作してください。 \n\n\n\n※くぎ、ねじ、トンカチ、のこぎり、電動ドライバー、グルーガン等の工具が使用できます。 \n\n\n\n※お子さまだけでもご参加いただけますが、特に低年齢のお子さまには保護者が同伴くださいますようお願いいたします。
URL:https://www.we-hall.jp/event/%e3%82%a6%e3%83%83%e3%83%89%e3%83%95%e3%82%a1%e3%82%af%e3%83%88%e3%83%aa%e3%83%bc-15/
CATEGORIES:プレゼーションテラス,わくわくキングダム,今日の未来館
ATTACH;FMTTYPE=image/jpeg:https://www.we-hall.jp/wp-content/uploads/2024/06/2807317_l-scaled.jpg
END:VEVENT
BEGIN:VEVENT
DTSTART;TZID=Asia/Tokyo:20250203T153000
DTEND;TZID=Asia/Tokyo:20250203T170000
DTSTAMP:20260423T214256
CREATED:20250124T150000Z
LAST-MODIFIED:20250207T090546Z
UID:10007442-1738596600-1738602000@www.we-hall.jp
SUMMARY:eスポーツチャレンジ
DESCRIPTION:iPadで気軽にeスポーツを楽しもう！
URL:https://www.we-hall.jp/event/e%e3%82%b9%e3%83%9d%e3%83%bc%e3%83%84%e3%83%81%e3%83%a3%e3%83%ac%e3%83%b3%e3%82%b8-11/
CATEGORIES:プレゼーションテラス,わくわくキングダム,今日の未来館
ATTACH;FMTTYPE=image/jpeg:https://www.we-hall.jp/wp-content/uploads/2024/06/d77cfaceda2d92f51dbdbb2e2b1fb7ee-scaled.jpg
END:VEVENT
BEGIN:VEVENT
DTSTART;TZID=Asia/Tokyo:20250204T153000
DTEND;TZID=Asia/Tokyo:20250204T170000
DTSTAMP:20260423T214256
CREATED:20250124T150000Z
LAST-MODIFIED:20250201T065126Z
UID:10007410-1738683000-1738688400@www.we-hall.jp
SUMMARY:体育室であそぼう
DESCRIPTION:バドミントンや卓球、ゴムボールなど、広々とした体育室でのびのび遊べます。 \n\n\n\n☆申込不要、出入り自由☆ラケットやボールなどは、数に限りがありますが、お貸出し品があります（１Ｆ総合受付にて貸出）☆室内履きをお持ちの方はお持ちください。 \n\n\n\n【注意事項】 \n\n\n\n※サッカーボール、バスケットボールなど、ボール類の持ち込みは禁止です。※子ども未来館で貸出ししている道具（遊具）のみご利用いただけます。※道具（遊具）の破損が多くなっています。ご自身が使用した物は、使用が終わるまで丁寧に　使用することを心掛け、使用後は元あった場所に必ずお戻しください。また、使用中にあやまって壊した、または壊れた等については、すみやかに施設スタッフに　申し出をおこない、そのまま放置しないようお願いいたします。再三の注意にも関わらずご使用方法をお守りいただけない場合はお貸出しをお断りする場合があります。※各種目の遊べる場所を指定しています。会場の案内板をご確認の上、指定の場所であそんでください。※道具類や場所は占有できません。譲り合ってあそんでください。※保護者の方は、お子様の見守りをお願いいたします。※大人の方のみで利用する目的での入場はお断りいたします。 \n\n\n\n費用無料
URL:https://www.we-hall.jp/event/%e4%bd%93%e8%82%b2%e5%ae%a4%e3%81%a7%e3%81%82%e3%81%9d%e3%81%bc%e3%81%86-46/
CATEGORIES:わくわくキングダム,今日の未来館
ATTACH;FMTTYPE=image/jpeg:https://www.we-hall.jp/wp-content/uploads/2024/09/24989165_l-scaled.jpg
END:VEVENT
BEGIN:VEVENT
DTSTART;TZID=Asia/Tokyo:20250204T160000
DTEND;TZID=Asia/Tokyo:20250204T170000
DTSTAMP:20260423T214256
CREATED:20250204T010758Z
LAST-MODIFIED:20250204T010758Z
UID:10007435-1738684800-1738688400@www.we-hall.jp
SUMMARY:プログラミングであそぼう
DESCRIPTION:プログラミングを楽しく体験しよう！
URL:https://www.we-hall.jp/event/%e3%83%97%e3%83%ad%e3%82%b0%e3%83%a9%e3%83%9f%e3%83%b3%e3%82%b0%e3%81%a7%e3%81%82%e3%81%9d%e3%81%bc%e3%81%86-8/
CATEGORIES:プレゼーションテラス,わくわくキングダム,今日の未来館
ATTACH;FMTTYPE=image/jpeg:https://www.we-hall.jp/wp-content/uploads/2024/09/ebeb14209462d559f68381095dcfc210.jpg
END:VEVENT
BEGIN:VEVENT
DTSTART;TZID=Asia/Tokyo:20250205T153000
DTEND;TZID=Asia/Tokyo:20250205T200000
DTSTAMP:20260423T214256
CREATED:20250124T150000Z
LAST-MODIFIED:20250201T065653Z
UID:10007418-1738769400-1738785600@www.we-hall.jp
SUMMARY:ティーンズスポーツ
DESCRIPTION:バスケットボール、バドミントン、卓球など屋内スポーツを楽しめます。 \n\n\n\nご利者様の声から、10月より以下の通りにルール変更を行っております。ご理解・ご協力のほどよろしくお願いいたします。 \n\n\n\n・主な種目：卓球、バドミントン、バレーボール、バスケットボール・用具は、１階総合受付にてお貸し出しいたします。お貸出しの際は、貸出申込書の記入が必要です。用具等の持ち込みは可。 \n\n\n\n※バスケットボール、バレーボールのお貸し出しはございません。 \n\n\n\n※バレーボールコート（ネット）のご用意はございません。 \n\n\n\n※使用できるバスケットボールゴールは、１つだけです。また、バスケットボール用の専用コートではございません。他の種目もプレイできる環境になっています。譲り合ってご利用ください。 \n\n\n\n※更衣室、シャワー室の設備はございません。更衣または制汗スプレーなどの噴霧は共用部（廊下等）で行わないようお願いいたします。
URL:https://www.we-hall.jp/event/%e3%83%86%e3%82%a3%e3%83%bc%e3%83%b3%e3%82%ba%e3%82%b9%e3%83%9d%e3%83%bc%e3%83%84-24/
CATEGORIES:わくわくキングダム,今日の未来館
ATTACH;FMTTYPE=image/jpeg:https://www.we-hall.jp/wp-content/uploads/2024/04/6bc48cbfde4c77b25c6296dedb92044d.jpg
END:VEVENT
BEGIN:VEVENT
DTSTART;TZID=Asia/Tokyo:20250206T153000
DTEND;TZID=Asia/Tokyo:20250206T170000
DTSTAMP:20260423T214256
CREATED:20250124T150000Z
LAST-MODIFIED:20250201T065204Z
UID:10007411-1738855800-1738861200@www.we-hall.jp
SUMMARY:体育室であそぼう
DESCRIPTION:バドミントンや卓球、ゴムボールなど、広々とした体育室でのびのび遊べます。 \n\n\n\n☆申込不要、出入り自由☆ラケットやボールなどは、数に限りがありますが、お貸出し品があります（１Ｆ総合受付にて貸出）☆室内履きをお持ちの方はお持ちください。 \n\n\n\n【注意事項】 \n\n\n\n※サッカーボール、バスケットボールなど、ボール類の持ち込みは禁止です。※子ども未来館で貸出ししている道具（遊具）のみご利用いただけます。※道具（遊具）の破損が多くなっています。ご自身が使用した物は、使用が終わるまで丁寧に　使用することを心掛け、使用後は元あった場所に必ずお戻しください。また、使用中にあやまって壊した、または壊れた等については、すみやかに施設スタッフに　申し出をおこない、そのまま放置しないようお願いいたします。再三の注意にも関わらずご使用方法をお守りいただけない場合はお貸出しをお断りする場合があります。※各種目の遊べる場所を指定しています。会場の案内板をご確認の上、指定の場所であそんでください。※道具類や場所は占有できません。譲り合ってあそんでください。※保護者の方は、お子様の見守りをお願いいたします。※大人の方のみで利用する目的での入場はお断りいたします。 \n\n\n\n費用無料
URL:https://www.we-hall.jp/event/%e4%bd%93%e8%82%b2%e5%ae%a4%e3%81%a7%e3%81%82%e3%81%9d%e3%81%bc%e3%81%86-47/
CATEGORIES:わくわくキングダム,今日の未来館
ATTACH;FMTTYPE=image/jpeg:https://www.we-hall.jp/wp-content/uploads/2024/09/24989165_l-scaled.jpg
END:VEVENT
BEGIN:VEVENT
DTSTART;TZID=Asia/Tokyo:20250207T153000
DTEND;TZID=Asia/Tokyo:20250207T170000
DTSTAMP:20260423T214256
CREATED:20250207T034228Z
LAST-MODIFIED:20250207T103549Z
UID:10007436-1738942200-1738947600@www.we-hall.jp
SUMMARY:アートファクトリー
DESCRIPTION:様々な画材を使って、自由にアート作品を作ります。
URL:https://www.we-hall.jp/event/%e3%82%a2%e3%83%bc%e3%83%88%e3%83%95%e3%82%a1%e3%82%af%e3%83%88%e3%83%aa%e3%83%bc-24/
CATEGORIES:プレゼーションテラス,わくわくキングダム,今日の未来館
ATTACH;FMTTYPE=image/jpeg:https://www.we-hall.jp/wp-content/uploads/2024/10/b6f183015aa3cc177d3a33c971d9de9e-scaled.jpg
END:VEVENT
BEGIN:VEVENT
DTSTART;TZID=Asia/Tokyo:20250208T100000
DTEND;TZID=Asia/Tokyo:20250208T120000
DTSTAMP:20260423T214256
CREATED:20250124T150000Z
LAST-MODIFIED:20250207T090240Z
UID:10007439-1739008800-1739016000@www.we-hall.jp
SUMMARY:ウッドファクトリー
DESCRIPTION:板や木材を使って自由に作品を作ってみよう！ \n\n\n\n \n\n\n\n木材のご用意がありますので、自由に組み合わせて工作してください。 \n\n\n\n※くぎ、ねじ、トンカチ、のこぎり、電動ドライバー、グルーガン等の工具が使用できます。 \n\n\n\n※お子さまだけでもご参加いただけますが、特に低年齢のお子さまには保護者が同伴くださいますようお願いいたします。
URL:https://www.we-hall.jp/event/%e3%82%a6%e3%83%83%e3%83%89%e3%83%95%e3%82%a1%e3%82%af%e3%83%88%e3%83%aa%e3%83%bc-16/
CATEGORIES:プレゼーションテラス,わくわくキングダム,今日の未来館
ATTACH;FMTTYPE=image/jpeg:https://www.we-hall.jp/wp-content/uploads/2024/06/2807317_l-scaled.jpg
END:VEVENT
BEGIN:VEVENT
DTSTART;TZID=Asia/Tokyo:20250208T130000
DTEND;TZID=Asia/Tokyo:20250208T143000
DTSTAMP:20260423T214256
CREATED:20250124T150000Z
LAST-MODIFIED:20250207T092303Z
UID:10007449-1739019600-1739025000@www.we-hall.jp
SUMMARY:イングリッシュ・ラボ
DESCRIPTION:Let’s enjoy！ \n\n\n\n切って、貼って、折り曲げて——講師の指示は英語です。 \n\n\n\nよーく聞きとって工作していきましょう。申込方法などはコチラをご覧ください。
URL:https://www.we-hall.jp/event/%e3%82%a4%e3%83%b3%e3%82%b0%e3%83%aa%e3%83%83%e3%82%b7%e3%83%a5%e3%83%bb%e3%83%a9%e3%83%9c-7/
CATEGORIES:わくわくキングダム,今日の未来館
ATTACH;FMTTYPE=image/jpeg:https://www.we-hall.jp/wp-content/uploads/2024/10/f4a09c234d0de2f0b36d64a548ac816b.jpg
END:VEVENT
BEGIN:VEVENT
DTSTART;TZID=Asia/Tokyo:20250209T100000
DTEND;TZID=Asia/Tokyo:20250209T160000
DTSTAMP:20260423T214256
CREATED:20250207T090054Z
LAST-MODIFIED:20250207T105004Z
UID:10007438-1739095200-1739116800@www.we-hall.jp
SUMMARY:子育て応援 weフェスタ
DESCRIPTION:新しい出会いがいっぱいの、子育て応援「weフェスタ」。日頃から子育てや子どもや子育てのために活動する方々や団体がweほーるに集合します。お子さまからママ・パパまで、家族で楽しめる多彩なブースが揃うフェスです。 \n\n\n\n料金\n\n\n\n入場無料　ブースによっては参加料あり \n\n\n\n\n\n\n\n\n\n\nくわしくはこちら
URL:https://www.we-hall.jp/event/%e5%ad%90%e8%82%b2%e3%81%a6%e5%bf%9c%e6%8f%b4-we%e3%83%95%e3%82%a7%e3%82%b9%e3%82%bf/
CATEGORIES:ちびっこプラザ,プレゼーションテラス,わくわくキングダム,今日の未来館
ATTACH;FMTTYPE=image/png:https://www.we-hall.jp/wp-content/uploads/2025/01/b5621266e4441bbf07430a919b324001.png
END:VEVENT
BEGIN:VEVENT
DTSTART;TZID=Asia/Tokyo:20250209T130000
DTEND;TZID=Asia/Tokyo:20250209T160000
DTSTAMP:20260423T214256
CREATED:20241124T150000Z
LAST-MODIFIED:20250207T101403Z
UID:10007452-1739106000-1739116800@www.we-hall.jp
SUMMARY:クリエイティブ・ラボ「アメリカンフラワー」
DESCRIPTION:かわいくて枯れないお花「アメリカンフラワー」を作ります。申込方法などはコチラをご覧ください。 \n\n\n\n申込・定員\n\n\n\n事前申込制　窓口・電話で受付／先着20名 \n\n\n\n講師\n\n\n\n市原市工芸会 \n\n\n\n佐々木美恵子、大野美代子
URL:https://www.we-hall.jp/event/%e3%82%af%e3%83%aa%e3%82%a8%e3%82%a4%e3%83%86%e3%82%a3%e3%83%96%e3%83%bb%e3%83%a9%e3%83%9c%e3%80%8c%e3%82%a2%e3%83%a1%e3%83%aa%e3%82%ab%e3%83%b3%e3%83%95%e3%83%a9%e3%83%af%e3%83%bc%e3%80%8d-2/
CATEGORIES:わくわくキングダム,今日の未来館
ATTACH;FMTTYPE=image/jpeg:https://www.we-hall.jp/wp-content/uploads/2024/10/b6f183015aa3cc177d3a33c971d9de9e-scaled.jpg
END:VEVENT
BEGIN:VEVENT
DTSTART;TZID=Asia/Tokyo:20250210T000000
DTEND;TZID=Asia/Tokyo:20250210T235900
DTSTAMP:20260423T214256
CREATED:20240408T044414Z
LAST-MODIFIED:20250213T070303Z
UID:10001789-1739145600-1739231940@www.we-hall.jp
SUMMARY:休館日
DESCRIPTION:いちはら子ども未来館は休館です。いちはら子ども未来館総合受付の一部業務、子育てサロン・プレイルームはお休みとなります。２階 こども家庭センター（「子育てネウボラセンター」「発達支援センター地域支援室」）は、通常通り営業します。（8：30～17：15） \n\n\n\n休館日の各窓口営業時間\n\n\n\nいちはら子ども未来館総合受付9：00～17：45こども家庭センター（「子育てネウボラセンター」「発達支援センター地域支援室」）8：30～17：15\n\n\n\n※開館時間は8：30～17：45です。
URL:https://www.we-hall.jp/event/%e4%bc%91%e9%a4%a8%e6%97%a5-5/2025-02-10/
CATEGORIES:ちびっこプラザ,プレゼーションテラス,わくわくキングダム,今日の未来館
ATTACH;FMTTYPE=image/jpeg:https://www.we-hall.jp/wp-content/uploads/2024/02/fac10490e6719c8e7a5ca5dcb083e200.jpg
END:VEVENT
BEGIN:VEVENT
DTSTART;TZID=Asia/Tokyo:20250211T130000
DTEND;TZID=Asia/Tokyo:20250211T170000
DTSTAMP:20260423T214256
CREATED:20250124T150000Z
LAST-MODIFIED:20250201T065231Z
UID:10007412-1739278800-1739293200@www.we-hall.jp
SUMMARY:体育室であそぼう（午後１時～）
DESCRIPTION:バドミントンや卓球、ゴムボールなど、広々とした体育室でのびのび遊べます。 \n\n\n\n☆申込不要、出入り自由☆ラケットやボールなどは、数に限りがありますが、お貸出し品があります（１Ｆ総合受付にて貸出）☆室内履きをお持ちの方はお持ちください。 \n\n\n\n【注意事項】 \n\n\n\n※サッカーボール、バスケットボールなど、ボール類の持ち込みは禁止です。※子ども未来館で貸出ししている道具（遊具）のみご利用いただけます。※道具（遊具）の破損が多くなっています。ご自身が使用した物は、使用が終わるまで丁寧に　使用することを心掛け、使用後は元あった場所に必ずお戻しください。また、使用中にあやまって壊した、または壊れた等については、すみやかに施設スタッフに　申し出をおこない、そのまま放置しないようお願いいたします。再三の注意にも関わらずご使用方法をお守りいただけない場合はお貸出しをお断りする場合があります。※各種目の遊べる場所を指定しています。会場の案内板をご確認の上、指定の場所であそんでください。※道具類や場所は占有できません。譲り合ってあそんでください。※保護者の方は、お子様の見守りをお願いいたします。※大人の方のみで利用する目的での入場はお断りいたします。 \n\n\n\n費用無料
URL:https://www.we-hall.jp/event/%e4%bd%93%e8%82%b2%e5%ae%a4%e3%81%a7%e3%81%82%e3%81%9d%e3%81%bc%e3%81%86%ef%bc%88%e5%8d%88%e5%be%8c%ef%bc%91%e6%99%82%ef%bd%9e%ef%bc%89/
CATEGORIES:わくわくキングダム,今日の未来館
ATTACH;FMTTYPE=image/jpeg:https://www.we-hall.jp/wp-content/uploads/2024/09/24989165_l-scaled.jpg
END:VEVENT
BEGIN:VEVENT
DTSTART;TZID=Asia/Tokyo:20250212T153000
DTEND;TZID=Asia/Tokyo:20250212T200000
DTSTAMP:20260423T214256
CREATED:20250124T150000Z
LAST-MODIFIED:20250201T065754Z
UID:10007419-1739374200-1739390400@www.we-hall.jp
SUMMARY:ティーンズスポーツ
DESCRIPTION:バスケットボール、バドミントン、卓球など屋内スポーツを楽しめます。 \n\n\n\nご利者様の声から、10月より以下の通りにルール変更を行っております。ご理解・ご協力のほどよろしくお願いいたします。 \n\n\n\n・主な種目：卓球、バドミントン、バレーボール、バスケットボール・用具は、１階総合受付にてお貸し出しいたします。お貸出しの際は、貸出申込書の記入が必要です。用具等の持ち込みは可。 \n\n\n\n※バスケットボール、バレーボールのお貸し出しはございません。 \n\n\n\n※バレーボールコート（ネット）のご用意はございません。 \n\n\n\n※使用できるバスケットボールゴールは、１つだけです。また、バスケットボール用の専用コートではございません。他の種目もプレイできる環境になっています。譲り合ってご利用ください。 \n\n\n\n※更衣室、シャワー室の設備はございません。更衣または制汗スプレーなどの噴霧は共用部（廊下等）で行わないようお願いいたします。
URL:https://www.we-hall.jp/event/%e3%83%86%e3%82%a3%e3%83%bc%e3%83%b3%e3%82%ba%e3%82%b9%e3%83%9d%e3%83%bc%e3%83%84-25/
CATEGORIES:わくわくキングダム,今日の未来館
ATTACH;FMTTYPE=image/jpeg:https://www.we-hall.jp/wp-content/uploads/2024/04/6bc48cbfde4c77b25c6296dedb92044d.jpg
END:VEVENT
BEGIN:VEVENT
DTSTART;TZID=Asia/Tokyo:20250213T153000
DTEND;TZID=Asia/Tokyo:20250213T170000
DTSTAMP:20260423T214256
CREATED:20250124T150000Z
LAST-MODIFIED:20250201T065257Z
UID:10007413-1739460600-1739466000@www.we-hall.jp
SUMMARY:体育室であそぼう
DESCRIPTION:バドミントンや卓球、ゴムボールなど、広々とした体育室でのびのび遊べます。 \n\n\n\n☆申込不要、出入り自由☆ラケットやボールなどは、数に限りがありますが、お貸出し品があります（１Ｆ総合受付にて貸出）☆室内履きをお持ちの方はお持ちください。 \n\n\n\n【注意事項】 \n\n\n\n※サッカーボール、バスケットボールなど、ボール類の持ち込みは禁止です。※子ども未来館で貸出ししている道具（遊具）のみご利用いただけます。※道具（遊具）の破損が多くなっています。ご自身が使用した物は、使用が終わるまで丁寧に　使用することを心掛け、使用後は元あった場所に必ずお戻しください。また、使用中にあやまって壊した、または壊れた等については、すみやかに施設スタッフに　申し出をおこない、そのまま放置しないようお願いいたします。再三の注意にも関わらずご使用方法をお守りいただけない場合はお貸出しをお断りする場合があります。※各種目の遊べる場所を指定しています。会場の案内板をご確認の上、指定の場所であそんでください。※道具類や場所は占有できません。譲り合ってあそんでください。※保護者の方は、お子様の見守りをお願いいたします。※大人の方のみで利用する目的での入場はお断りいたします。 \n\n\n\n費用無料
URL:https://www.we-hall.jp/event/%e4%bd%93%e8%82%b2%e5%ae%a4%e3%81%a7%e3%81%82%e3%81%9d%e3%81%bc%e3%81%86-48/
CATEGORIES:わくわくキングダム,今日の未来館
ATTACH;FMTTYPE=image/jpeg:https://www.we-hall.jp/wp-content/uploads/2024/09/24989165_l-scaled.jpg
END:VEVENT
BEGIN:VEVENT
DTSTART;TZID=Asia/Tokyo:20250214T153000
DTEND;TZID=Asia/Tokyo:20250214T170000
DTSTAMP:20260423T214256
CREATED:20250124T150000Z
LAST-MODIFIED:20250207T103710Z
UID:10007445-1739547000-1739552400@www.we-hall.jp
SUMMARY:アートファクトリー
DESCRIPTION:様々な画材を使って、自由にアート作品を作ります。
URL:https://www.we-hall.jp/event/%e3%82%a2%e3%83%bc%e3%83%88%e3%83%95%e3%82%a1%e3%82%af%e3%83%88%e3%83%aa%e3%83%bc-25/
CATEGORIES:プレゼーションテラス,わくわくキングダム,今日の未来館
ATTACH;FMTTYPE=image/jpeg:https://www.we-hall.jp/wp-content/uploads/2024/10/b6f183015aa3cc177d3a33c971d9de9e-scaled.jpg
END:VEVENT
BEGIN:VEVENT
DTSTART;TZID=Asia/Tokyo:20250215T100000
DTEND;TZID=Asia/Tokyo:20250215T160000
DTSTAMP:20260423T214256
CREATED:20250131T150000Z
LAST-MODIFIED:20250308T070919Z
UID:10007522-1739613600-1739635200@www.we-hall.jp
SUMMARY:スポーツチャレンジパーク（１日目）
DESCRIPTION:1Fプレゼンテーションテラスボッチャ・ボールを投げてどれだけ的の近くにおけるかを競うゲーム10:00～16:002F体育室体育室であそぼう・卓球やバドミントンなどのスポーツを楽しもうみんなdeチャレンジ「大なわとび」　※実施時間（30分間）　　11:00、12:15、14:30親子で楽しくリズム体操（14:30～15:30）10:00～16:002F多目的室バランスボールエクササイズ20分間程度の体験時間を設けております。（入替制）小さなお子さまも体験できます。※（休止時間）12:30～13:3010:00～16:003F多目的ホール健康測定コーナー・ストラックアウト・握力測定・背筋測定・立ち幅跳び・パターゴルフ10:00～16:00ホワイエモルック・棒を投げて杭（くい）をたおすフィンランドの伝統的なゲーム10:00～16:00いろんなスポーツに挑戦しよう！自分の体を知ることができる健康測定コーナーも登場！※イベント内容は変更になる場合があります。特設ページもご覧ください。\n\n\n\n料金\n\n\n\n無料
URL:https://www.we-hall.jp/event/%e3%82%b9%e3%83%9d%e3%83%bc%e3%83%84%e3%83%81%e3%83%a3%e3%83%ac%e3%83%b3%e3%82%b8%e3%83%91%e3%83%bc%e3%82%af-2/
CATEGORIES:ちびっこプラザ,プレゼーションテラス,わくわくキングダム,今日の未来館
ATTACH;FMTTYPE=image/jpeg:https://www.we-hall.jp/wp-content/uploads/2024/09/dbf027d63d0425bed8b3322001d229cc.jpg
END:VEVENT
BEGIN:VEVENT
DTSTART;TZID=Asia/Tokyo:20250216T100000
DTEND;TZID=Asia/Tokyo:20250216T160000
DTSTAMP:20260423T214256
CREATED:20250131T150000Z
LAST-MODIFIED:20250308T070839Z
UID:10007524-1739700000-1739721600@www.we-hall.jp
SUMMARY:スポーツチャレンジパーク（２日目）
DESCRIPTION:1Fプレゼンテーションテラスボッチャ・ボールを投げてどれだけ的の近くにおけるかを競うゲーム10:00～16:002F体育室体育室であそぼう・卓球やバドミントンなどのスポーツを楽しもうみんなdeチャレンジ「大なわとび」※実施４回(30分間)　　開始時間11:00、12:30、14:00、15:3010:00～16:002F多目的室バランスボールエクササイズ20分間程度の体験時間を設けております。（入替制）小さなお子さまも体験できます。※（休止時間）12:30～13:3010:00～16:003F多目的ホール健康測定コーナー・ストラックアウト・握力測定・背筋測定・立ち幅跳び・パターゴルフ10:00～16:00ホワイエモルック・棒を投げて杭（くい）をたおすフィンランドの伝統的なゲーム10:00～16:00いろんなスポーツに挑戦しよう！自分の体を知ることができる健康測定コーナーも登場！※イベント内容は変更になる場合があります。特設ページもご覧ください。\n\n\n\n料金\n\n\n\n無料
URL:https://www.we-hall.jp/event/%e3%82%b9%e3%83%9d%e3%83%bc%e3%83%84%e3%83%81%e3%83%a3%e3%83%ac%e3%83%b3%e3%82%b8%e3%83%91%e3%83%bc%e3%82%af-3/
CATEGORIES:ちびっこプラザ,プレゼーションテラス,わくわくキングダム,今日の未来館
ATTACH;FMTTYPE=image/jpeg:https://www.we-hall.jp/wp-content/uploads/2024/09/dbf027d63d0425bed8b3322001d229cc.jpg
END:VEVENT
BEGIN:VEVENT
DTSTART;TZID=Asia/Tokyo:20250217T153000
DTEND;TZID=Asia/Tokyo:20250217T170000
DTSTAMP:20260423T214256
CREATED:20250124T150000Z
LAST-MODIFIED:20250207T090632Z
UID:10007443-1739806200-1739811600@www.we-hall.jp
SUMMARY:eスポーツチャレンジ
DESCRIPTION:iPadで気軽にeスポーツを楽しもう！
URL:https://www.we-hall.jp/event/e%e3%82%b9%e3%83%9d%e3%83%bc%e3%83%84%e3%83%81%e3%83%a3%e3%83%ac%e3%83%b3%e3%82%b8-12/
CATEGORIES:プレゼーションテラス,わくわくキングダム,今日の未来館
ATTACH;FMTTYPE=image/jpeg:https://www.we-hall.jp/wp-content/uploads/2024/06/d77cfaceda2d92f51dbdbb2e2b1fb7ee-scaled.jpg
END:VEVENT
BEGIN:VEVENT
DTSTART;TZID=Asia/Tokyo:20250218T153000
DTEND;TZID=Asia/Tokyo:20250218T170000
DTSTAMP:20260423T214256
CREATED:20250124T150000Z
LAST-MODIFIED:20250201T065320Z
UID:10007414-1739892600-1739898000@www.we-hall.jp
SUMMARY:体育室であそぼう
DESCRIPTION:バドミントンや卓球、ゴムボールなど、広々とした体育室でのびのび遊べます。 \n\n\n\n☆申込不要、出入り自由☆ラケットやボールなどは、数に限りがありますが、お貸出し品があります（１Ｆ総合受付にて貸出）☆室内履きをお持ちの方はお持ちください。 \n\n\n\n【注意事項】 \n\n\n\n※サッカーボール、バスケットボールなど、ボール類の持ち込みは禁止です。※子ども未来館で貸出ししている道具（遊具）のみご利用いただけます。※道具（遊具）の破損が多くなっています。ご自身が使用した物は、使用が終わるまで丁寧に　使用することを心掛け、使用後は元あった場所に必ずお戻しください。また、使用中にあやまって壊した、または壊れた等については、すみやかに施設スタッフに　申し出をおこない、そのまま放置しないようお願いいたします。再三の注意にも関わらずご使用方法をお守りいただけない場合はお貸出しをお断りする場合があります。※各種目の遊べる場所を指定しています。会場の案内板をご確認の上、指定の場所であそんでください。※道具類や場所は占有できません。譲り合ってあそんでください。※保護者の方は、お子様の見守りをお願いいたします。※大人の方のみで利用する目的での入場はお断りいたします。 \n\n\n\n費用無料
URL:https://www.we-hall.jp/event/%e4%bd%93%e8%82%b2%e5%ae%a4%e3%81%a7%e3%81%82%e3%81%9d%e3%81%bc%e3%81%86-49/
CATEGORIES:わくわくキングダム,今日の未来館
ATTACH;FMTTYPE=image/jpeg:https://www.we-hall.jp/wp-content/uploads/2024/09/24989165_l-scaled.jpg
END:VEVENT
BEGIN:VEVENT
DTSTART;TZID=Asia/Tokyo:20250218T160000
DTEND;TZID=Asia/Tokyo:20250218T170000
DTSTAMP:20260423T214256
CREATED:20250124T150000Z
LAST-MODIFIED:20250207T090946Z
UID:10007444-1739894400-1739898000@www.we-hall.jp
SUMMARY:プログラミングであそぼう
DESCRIPTION:プログラミングを楽しく体験しよう！
URL:https://www.we-hall.jp/event/%e3%83%97%e3%83%ad%e3%82%b0%e3%83%a9%e3%83%9f%e3%83%b3%e3%82%b0%e3%81%a7%e3%81%82%e3%81%9d%e3%81%bc%e3%81%86-9/
CATEGORIES:プレゼーションテラス,わくわくキングダム,今日の未来館
ATTACH;FMTTYPE=image/jpeg:https://www.we-hall.jp/wp-content/uploads/2024/09/ebeb14209462d559f68381095dcfc210.jpg
END:VEVENT
BEGIN:VEVENT
DTSTART;TZID=Asia/Tokyo:20250219T153000
DTEND;TZID=Asia/Tokyo:20250219T200000
DTSTAMP:20260423T214256
CREATED:20250124T150000Z
LAST-MODIFIED:20250201T065843Z
UID:10007420-1739979000-1739995200@www.we-hall.jp
SUMMARY:ティーンズスポーツ
DESCRIPTION:バスケットボール、バドミントン、卓球など屋内スポーツを楽しめます。 \n\n\n\nご利者様の声から、10月より以下の通りにルール変更を行っております。ご理解・ご協力のほどよろしくお願いいたします。 \n\n\n\n・主な種目：卓球、バドミントン、バレーボール、バスケットボール・用具は、１階総合受付にてお貸し出しいたします。お貸出しの際は、貸出申込書の記入が必要です。用具等の持ち込みは可。 \n\n\n\n※バスケットボール、バレーボールのお貸し出しはございません。 \n\n\n\n※バレーボールコート（ネット）のご用意はございません。 \n\n\n\n※使用できるバスケットボールゴールは、１つだけです。また、バスケットボール用の専用コートではございません。他の種目もプレイできる環境になっています。譲り合ってご利用ください。 \n\n\n\n※更衣室、シャワー室の設備はございません。更衣または制汗スプレーなどの噴霧は共用部（廊下等）で行わないようお願いいたします。
URL:https://www.we-hall.jp/event/%e3%83%86%e3%82%a3%e3%83%bc%e3%83%b3%e3%82%ba%e3%82%b9%e3%83%9d%e3%83%bc%e3%83%84-26/
CATEGORIES:わくわくキングダム,今日の未来館
ATTACH;FMTTYPE=image/jpeg:https://www.we-hall.jp/wp-content/uploads/2024/04/6bc48cbfde4c77b25c6296dedb92044d.jpg
END:VEVENT
BEGIN:VEVENT
DTSTART;TZID=Asia/Tokyo:20250220T153000
DTEND;TZID=Asia/Tokyo:20250220T170000
DTSTAMP:20260423T214256
CREATED:20250124T150000Z
LAST-MODIFIED:20250201T065345Z
UID:10007415-1740065400-1740070800@www.we-hall.jp
SUMMARY:体育室であそぼう
DESCRIPTION:バドミントンや卓球、ゴムボールなど、広々とした体育室でのびのび遊べます。 \n\n\n\n☆申込不要、出入り自由☆ラケットやボールなどは、数に限りがありますが、お貸出し品があります（１Ｆ総合受付にて貸出）☆室内履きをお持ちの方はお持ちください。 \n\n\n\n【注意事項】 \n\n\n\n※サッカーボール、バスケットボールなど、ボール類の持ち込みは禁止です。※子ども未来館で貸出ししている道具（遊具）のみご利用いただけます。※道具（遊具）の破損が多くなっています。ご自身が使用した物は、使用が終わるまで丁寧に　使用することを心掛け、使用後は元あった場所に必ずお戻しください。また、使用中にあやまって壊した、または壊れた等については、すみやかに施設スタッフに　申し出をおこない、そのまま放置しないようお願いいたします。再三の注意にも関わらずご使用方法をお守りいただけない場合はお貸出しをお断りする場合があります。※各種目の遊べる場所を指定しています。会場の案内板をご確認の上、指定の場所であそんでください。※道具類や場所は占有できません。譲り合ってあそんでください。※保護者の方は、お子様の見守りをお願いいたします。※大人の方のみで利用する目的での入場はお断りいたします。 \n\n\n\n費用無料
URL:https://www.we-hall.jp/event/%e4%bd%93%e8%82%b2%e5%ae%a4%e3%81%a7%e3%81%82%e3%81%9d%e3%81%bc%e3%81%86-50/
CATEGORIES:わくわくキングダム,今日の未来館
ATTACH;FMTTYPE=image/jpeg:https://www.we-hall.jp/wp-content/uploads/2024/09/24989165_l-scaled.jpg
END:VEVENT
BEGIN:VEVENT
DTSTART;TZID=Asia/Tokyo:20250221T153000
DTEND;TZID=Asia/Tokyo:20250221T170000
DTSTAMP:20260423T214256
CREATED:20250124T150000Z
LAST-MODIFIED:20250207T103648Z
UID:10007447-1740151800-1740157200@www.we-hall.jp
SUMMARY:アートファクトリー
DESCRIPTION:様々な画材を使って、自由にアート作品を作ります。
URL:https://www.we-hall.jp/event/%e3%82%a2%e3%83%bc%e3%83%88%e3%83%95%e3%82%a1%e3%82%af%e3%83%88%e3%83%aa%e3%83%bc-27/
CATEGORIES:プレゼーションテラス,わくわくキングダム,今日の未来館
ATTACH;FMTTYPE=image/jpeg:https://www.we-hall.jp/wp-content/uploads/2024/10/b6f183015aa3cc177d3a33c971d9de9e-scaled.jpg
END:VEVENT
BEGIN:VEVENT
DTSTART;TZID=Asia/Tokyo:20250222T100000
DTEND;TZID=Asia/Tokyo:20250222T120000
DTSTAMP:20260423T214256
CREATED:20250124T150000Z
LAST-MODIFIED:20250207T090425Z
UID:10007441-1740218400-1740225600@www.we-hall.jp
SUMMARY:ウッドファクトリー
DESCRIPTION:板や木材を使って自由に作品を作ってみよう！ \n\n\n\n \n\n\n\n木材のご用意がありますので、自由に組み合わせて工作してください。 \n\n\n\n※くぎ、ねじ、トンカチ、のこぎり、電動ドライバー、グルーガン等の工具が使用できます。 \n\n\n\n※お子さまだけでもご参加いただけますが、特に低年齢のお子さまには保護者が同伴くださいますようお願いいたします。
URL:https://www.we-hall.jp/event/%e3%82%a6%e3%83%83%e3%83%89%e3%83%95%e3%82%a1%e3%82%af%e3%83%88%e3%83%aa%e3%83%bc-18/
CATEGORIES:プレゼーションテラス,わくわくキングダム,今日の未来館
ATTACH;FMTTYPE=image/jpeg:https://www.we-hall.jp/wp-content/uploads/2024/06/2807317_l-scaled.jpg
END:VEVENT
BEGIN:VEVENT
DTSTART;TZID=Asia/Tokyo:20250223T100000
DTEND;TZID=Asia/Tokyo:20250223T120000
DTSTAMP:20260423T214256
CREATED:20241124T150000Z
LAST-MODIFIED:20250207T103338Z
UID:10007454-1740304800-1740312000@www.we-hall.jp
SUMMARY:サイエンス・ラボ
DESCRIPTION:科学の専門家と一緒に実験や観察を通して、サイエンスの楽しさを体験できます。 \n\n\n\n費用\n\n\n\n無料 \n\n\n\n申込方法・定員\n\n\n\n電話・窓口にて2025年1月5日より受付開始 \n\n\n\n対象：小学1～6年生定員：20人（先着順）
URL:https://www.we-hall.jp/event/%e3%82%b5%e3%82%a4%e3%82%a8%e3%83%b3%e3%82%b9%e3%83%bb%e3%83%a9%e3%83%9c-11/
CATEGORIES:わくわくキングダム,今日の未来館
ATTACH;FMTTYPE=image/jpeg:https://www.we-hall.jp/wp-content/uploads/2024/04/d38b9992c93fcc9b1c9ace1917fdd31f.jpg
END:VEVENT
BEGIN:VEVENT
DTSTART;TZID=Asia/Tokyo:20250225T153000
DTEND;TZID=Asia/Tokyo:20250225T170000
DTSTAMP:20260423T214256
CREATED:20250105T061947Z
LAST-MODIFIED:20250225T025440Z
UID:10007357-1740497400-1740502800@www.we-hall.jp
SUMMARY:いちはら子どもミライ隊
DESCRIPTION:子どもたちが主体となって活動するweほーるの新しいプロジェクト！ \n\n\n\nみんなの得意なことや好きなことを生かして、「やってみたい！」を実現させてみませんか？メンバーになると、いろいろなものづくりや発明にも挑戦するチャンスがあります！みんなのチカラでweほーるのイベントも企画しちゃおう！み～んなが初めて。ひとりでも大丈夫！ お気軽にご参加ください。 \n\n\n\n月に１回、ミライ隊のミーティングがあります。（ご都合に合わせてご参加ください）※随時ご参加をお受けいたします。 \n\n\n\n \n\n\n\n【 ミーティング予定日 】 \n\n\n\n１回目　10/29（火曜日）15:30～17:00　２回目　11/26（火曜日）15:30～17:00３回目　12/24（火曜日）15:30～17:00４回目　  1/28（火曜日）15:30～17:00５回目　  2/25（火曜日）15:30～17:00６回目　  3/25（火曜日）15:30～17:00 \n\n\n\n\n\n\n\n\n\n開催場所\n\n\n\n２階・多目的室
URL:https://www.we-hall.jp/event/%e3%81%84%e3%81%a1%e3%81%af%e3%82%89%e5%ad%90%e3%81%a9%e3%82%82%e3%83%9f%e3%83%a9%e3%82%a4%e9%9a%8a-5/
CATEGORIES:わくわくキングダム,今日の未来館
ATTACH;FMTTYPE=image/jpeg:https://www.we-hall.jp/wp-content/uploads/2024/08/pixta_41095871_XL-scaled-e1727655616390.jpg
END:VEVENT
BEGIN:VEVENT
DTSTART;TZID=Asia/Tokyo:20250225T153000
DTEND;TZID=Asia/Tokyo:20250225T170000
DTSTAMP:20260423T214256
CREATED:20250124T150000Z
LAST-MODIFIED:20250201T065406Z
UID:10007416-1740497400-1740502800@www.we-hall.jp
SUMMARY:体育室であそぼう
DESCRIPTION:バドミントンや卓球、ゴムボールなど、広々とした体育室でのびのび遊べます。 \n\n\n\n☆申込不要、出入り自由☆ラケットやボールなどは、数に限りがありますが、お貸出し品があります（１Ｆ総合受付にて貸出）☆室内履きをお持ちの方はお持ちください。 \n\n\n\n【注意事項】 \n\n\n\n※サッカーボール、バスケットボールなど、ボール類の持ち込みは禁止です。※子ども未来館で貸出ししている道具（遊具）のみご利用いただけます。※道具（遊具）の破損が多くなっています。ご自身が使用した物は、使用が終わるまで丁寧に　使用することを心掛け、使用後は元あった場所に必ずお戻しください。また、使用中にあやまって壊した、または壊れた等については、すみやかに施設スタッフに　申し出をおこない、そのまま放置しないようお願いいたします。再三の注意にも関わらずご使用方法をお守りいただけない場合はお貸出しをお断りする場合があります。※各種目の遊べる場所を指定しています。会場の案内板をご確認の上、指定の場所であそんでください。※道具類や場所は占有できません。譲り合ってあそんでください。※保護者の方は、お子様の見守りをお願いいたします。※大人の方のみで利用する目的での入場はお断りいたします。 \n\n\n\n費用無料
URL:https://www.we-hall.jp/event/%e4%bd%93%e8%82%b2%e5%ae%a4%e3%81%a7%e3%81%82%e3%81%9d%e3%81%bc%e3%81%86-51/
CATEGORIES:わくわくキングダム,今日の未来館
ATTACH;FMTTYPE=image/jpeg:https://www.we-hall.jp/wp-content/uploads/2024/09/24989165_l-scaled.jpg
END:VEVENT
BEGIN:VEVENT
DTSTART;TZID=Asia/Tokyo:20250226T153000
DTEND;TZID=Asia/Tokyo:20250226T200000
DTSTAMP:20260423T214256
CREATED:20250124T150000Z
LAST-MODIFIED:20250201T070014Z
UID:10007421-1740583800-1740600000@www.we-hall.jp
SUMMARY:ティーンズスポーツ
DESCRIPTION:バスケットボール、バドミントン、卓球など屋内スポーツを楽しめます。 \n\n\n\nご利者様の声から、10月より以下の通りにルール変更を行っております。ご理解・ご協力のほどよろしくお願いいたします。 \n\n\n\n・主な種目：卓球、バドミントン、バレーボール、バスケットボール・用具は、１階総合受付にてお貸し出しいたします。お貸出しの際は、貸出申込書の記入が必要です。用具等の持ち込みは可。 \n\n\n\n※バスケットボール、バレーボールのお貸し出しはございません。 \n\n\n\n※バレーボールコート（ネット）のご用意はございません。 \n\n\n\n※使用できるバスケットボールゴールは、１つだけです。また、バスケットボール用の専用コートではございません。他の種目もプレイできる環境になっています。譲り合ってご利用ください。 \n\n\n\n※更衣室、シャワー室の設備はございません。更衣または制汗スプレーなどの噴霧は共用部（廊下等）で行わないようお願いいたします。
URL:https://www.we-hall.jp/event/%e3%83%86%e3%82%a3%e3%83%bc%e3%83%b3%e3%82%ba%e3%82%b9%e3%83%9d%e3%83%bc%e3%83%84-27/
CATEGORIES:わくわくキングダム,今日の未来館
ATTACH;FMTTYPE=image/jpeg:https://www.we-hall.jp/wp-content/uploads/2024/04/6bc48cbfde4c77b25c6296dedb92044d.jpg
END:VEVENT
BEGIN:VEVENT
DTSTART;TZID=Asia/Tokyo:20250227T153000
DTEND;TZID=Asia/Tokyo:20250227T170000
DTSTAMP:20260423T214256
CREATED:20250124T150000Z
LAST-MODIFIED:20250201T065429Z
UID:10007417-1740670200-1740675600@www.we-hall.jp
SUMMARY:体育室であそぼう
DESCRIPTION:バドミントンや卓球、ゴムボールなど、広々とした体育室でのびのび遊べます。 \n\n\n\n☆申込不要、出入り自由☆ラケットやボールなどは、数に限りがありますが、お貸出し品があります（１Ｆ総合受付にて貸出）☆室内履きをお持ちの方はお持ちください。 \n\n\n\n【注意事項】 \n\n\n\n※サッカーボール、バスケットボールなど、ボール類の持ち込みは禁止です。※子ども未来館で貸出ししている道具（遊具）のみご利用いただけます。※道具（遊具）の破損が多くなっています。ご自身が使用した物は、使用が終わるまで丁寧に　使用することを心掛け、使用後は元あった場所に必ずお戻しください。また、使用中にあやまって壊した、または壊れた等については、すみやかに施設スタッフに　申し出をおこない、そのまま放置しないようお願いいたします。再三の注意にも関わらずご使用方法をお守りいただけない場合はお貸出しをお断りする場合があります。※各種目の遊べる場所を指定しています。会場の案内板をご確認の上、指定の場所であそんでください。※道具類や場所は占有できません。譲り合ってあそんでください。※保護者の方は、お子様の見守りをお願いいたします。※大人の方のみで利用する目的での入場はお断りいたします。 \n\n\n\n費用無料
URL:https://www.we-hall.jp/event/%e4%bd%93%e8%82%b2%e5%ae%a4%e3%81%a7%e3%81%82%e3%81%9d%e3%81%bc%e3%81%86-52/
CATEGORIES:わくわくキングダム,今日の未来館
ATTACH;FMTTYPE=image/jpeg:https://www.we-hall.jp/wp-content/uploads/2024/09/24989165_l-scaled.jpg
END:VEVENT
END:VCALENDAR