BEGIN:VCALENDAR
VERSION:2.0
PRODID:-//いちはら子ども未来館 - ECPv6.8.3//NONSGML v1.0//EN
CALSCALE:GREGORIAN
METHOD:PUBLISH
X-WR-CALNAME:いちはら子ども未来館
X-ORIGINAL-URL:https://www.we-hall.jp
X-WR-CALDESC:いちはら子ども未来館 のイベント
REFRESH-INTERVAL;VALUE=DURATION:PT1H
X-Robots-Tag:noindex
X-PUBLISHED-TTL:PT1H
BEGIN:VTIMEZONE
TZID:Asia/Tokyo
BEGIN:STANDARD
TZOFFSETFROM:+0900
TZOFFSETTO:+0900
TZNAME:JST
DTSTART:20250101T000000
END:STANDARD
END:VTIMEZONE
BEGIN:VEVENT
DTSTART;TZID=Asia/Tokyo:20250105T090000
DTEND;TZID=Asia/Tokyo:20250105T170000
DTSTAMP:20260422T130225
CREATED:20241227T075148Z
LAST-MODIFIED:20241227T075149Z
UID:10007272-1736067600-1736096400@www.we-hall.jp
SUMMARY:体育室であそぼう（９時～）
DESCRIPTION:バドミントンや卓球、ゴムボールなど、広々とした体育室でのびのび遊べます。 \n\n\n\n☆申込不要、出入り自由☆ラケットやボールなどは、数に限りがありますが、お貸出し品があります（１Ｆ総合受付にて貸出）☆室内履きをお持ちの方はお持ちください。 \n\n\n\n【注意事項】 \n\n\n\n※サッカーボール、バスケットボールなど、ボール類の持ち込みは禁止です。※子ども未来館で貸出ししている道具（遊具）のみご利用いただけます。※道具（遊具）の破損が多くなっています。ご自身が使用した物は、使用が終わるまで丁寧に　使用することを心掛け、使用後は元あった場所に必ずお戻しください。また、使用中にあやまって壊した、または壊れた等については、すみやかに施設スタッフに　申し出をおこない、そのまま放置しないようお願いいたします。再三の注意にも関わらずご使用方法をお守りいただけない場合はお貸出しをお断りする場合があります。※各種目の遊べる場所を指定しています。会場の案内板をご確認の上、指定の場所であそんでください。※道具類や場所は占有できません。譲り合ってあそんでください。※保護者の方は、お子様の見守りをお願いいたします。※大人の方のみで利用する目的での入場はお断りいたします。 \n\n\n\n費用無料
URL:https://www.we-hall.jp/event/%e4%bd%93%e8%82%b2%e5%ae%a4%e3%81%a7%e3%81%82%e3%81%9d%e3%81%bc%e3%81%86%ef%bc%88%ef%bc%99%e6%99%82%ef%bd%9e%ef%bc%89/
CATEGORIES:わくわくキングダム,今日の未来館
ATTACH;FMTTYPE=image/jpeg:https://www.we-hall.jp/wp-content/uploads/2024/09/24989165_l-scaled.jpg
END:VEVENT
BEGIN:VEVENT
DTSTART;TZID=Asia/Tokyo:20250106T153000
DTEND;TZID=Asia/Tokyo:20250106T170000
DTSTAMP:20260422T130225
CREATED:20250105T052437Z
LAST-MODIFIED:20250105T052438Z
UID:10007346-1736177400-1736182800@www.we-hall.jp
SUMMARY:eスポーツチャレンジ
DESCRIPTION:iPadで気軽にeスポーツを楽しもう！
URL:https://www.we-hall.jp/event/e%e3%82%b9%e3%83%9d%e3%83%bc%e3%83%84%e3%83%81%e3%83%a3%e3%83%ac%e3%83%b3%e3%82%b8-9/
CATEGORIES:プレゼーションテラス,わくわくキングダム,今日の未来館
ATTACH;FMTTYPE=image/jpeg:https://www.we-hall.jp/wp-content/uploads/2024/06/d77cfaceda2d92f51dbdbb2e2b1fb7ee-scaled.jpg
END:VEVENT
BEGIN:VEVENT
DTSTART;TZID=Asia/Tokyo:20250107T153000
DTEND;TZID=Asia/Tokyo:20250107T170000
DTSTAMP:20260422T130225
CREATED:20241227T075230Z
LAST-MODIFIED:20241227T075231Z
UID:10007273-1736263800-1736269200@www.we-hall.jp
SUMMARY:体育室であそぼう
DESCRIPTION:バドミントンや卓球、ゴムボールなど、広々とした体育室でのびのび遊べます。 \n\n\n\n☆申込不要、出入り自由☆ラケットやボールなどは、数に限りがありますが、お貸出し品があります（１Ｆ総合受付にて貸出）☆室内履きをお持ちの方はお持ちください。 \n\n\n\n【注意事項】 \n\n\n\n※サッカーボール、バスケットボールなど、ボール類の持ち込みは禁止です。※子ども未来館で貸出ししている道具（遊具）のみご利用いただけます。※道具（遊具）の破損が多くなっています。ご自身が使用した物は、使用が終わるまで丁寧に　使用することを心掛け、使用後は元あった場所に必ずお戻しください。また、使用中にあやまって壊した、または壊れた等については、すみやかに施設スタッフに　申し出をおこない、そのまま放置しないようお願いいたします。再三の注意にも関わらずご使用方法をお守りいただけない場合はお貸出しをお断りする場合があります。※各種目の遊べる場所を指定しています。会場の案内板をご確認の上、指定の場所であそんでください。※道具類や場所は占有できません。譲り合ってあそんでください。※保護者の方は、お子様の見守りをお願いいたします。※大人の方のみで利用する目的での入場はお断りいたします。 \n\n\n\n費用無料
URL:https://www.we-hall.jp/event/%e4%bd%93%e8%82%b2%e5%ae%a4%e3%81%a7%e3%81%82%e3%81%9d%e3%81%bc%e3%81%86-37/
CATEGORIES:わくわくキングダム,今日の未来館
ATTACH;FMTTYPE=image/jpeg:https://www.we-hall.jp/wp-content/uploads/2024/09/24989165_l-scaled.jpg
END:VEVENT
BEGIN:VEVENT
DTSTART;TZID=Asia/Tokyo:20250107T160000
DTEND;TZID=Asia/Tokyo:20250107T170000
DTSTAMP:20260422T130225
CREATED:20250105T052630Z
LAST-MODIFIED:20250105T052743Z
UID:10007348-1736265600-1736269200@www.we-hall.jp
SUMMARY:プログラミングであそぼう
DESCRIPTION:プログラミングを楽しく体験しよう！
URL:https://www.we-hall.jp/event/%e3%83%97%e3%83%ad%e3%82%b0%e3%83%a9%e3%83%9f%e3%83%b3%e3%82%b0%e3%81%a7%e3%81%82%e3%81%9d%e3%81%bc%e3%81%86-6/
CATEGORIES:プレゼーションテラス,わくわくキングダム,今日の未来館
ATTACH;FMTTYPE=image/jpeg:https://www.we-hall.jp/wp-content/uploads/2024/09/ebeb14209462d559f68381095dcfc210.jpg
END:VEVENT
BEGIN:VEVENT
DTSTART;TZID=Asia/Tokyo:20250108T153000
DTEND;TZID=Asia/Tokyo:20250108T200000
DTSTAMP:20260422T130225
CREATED:20241227T080105Z
LAST-MODIFIED:20241227T080105Z
UID:10007283-1736350200-1736366400@www.we-hall.jp
SUMMARY:ティーンズスポーツ
DESCRIPTION:バスケットボール、バドミントン、卓球など屋内スポーツを楽しめます。 \n\n\n\nご利者様の声から、10月より以下の通りにルール変更を行っております。ご理解・ご協力のほどよろしくお願いいたします。 \n\n\n\n・主な種目：卓球、バドミントン、バレーボール、バスケットボール・用具は、１階総合受付にてお貸し出しいたします。お貸出しの際は、貸出申込書の記入が必要です。用具等の持ち込みは可。 \n\n\n\n※バスケットボール、バレーボールのお貸し出しはございません。 \n\n\n\n※バレーボールコート（ネット）のご用意はございません。 \n\n\n\n※使用できるバスケットボールゴールは、１つだけです。また、バスケットボール用の専用コートではございません。他の種目もプレイできる環境になっています。譲り合ってご利用ください。 \n\n\n\n※更衣室、シャワー室の設備はございません。更衣または制汗スプレーなどの噴霧は共用部（廊下等）で行わないようお願いいたします。
URL:https://www.we-hall.jp/event/%e3%83%86%e3%82%a3%e3%83%bc%e3%83%b3%e3%82%ba%e3%82%b9%e3%83%9d%e3%83%bc%e3%83%84-20/
CATEGORIES:わくわくキングダム,今日の未来館
ATTACH;FMTTYPE=image/jpeg:https://www.we-hall.jp/wp-content/uploads/2024/04/6bc48cbfde4c77b25c6296dedb92044d.jpg
END:VEVENT
BEGIN:VEVENT
DTSTART;TZID=Asia/Tokyo:20250109T153000
DTEND;TZID=Asia/Tokyo:20250109T170000
DTSTAMP:20260422T130225
CREATED:20241227T075306Z
LAST-MODIFIED:20241227T075306Z
UID:10007274-1736436600-1736442000@www.we-hall.jp
SUMMARY:体育室であそぼう
DESCRIPTION:バドミントンや卓球、ゴムボールなど、広々とした体育室でのびのび遊べます。 \n\n\n\n☆申込不要、出入り自由☆ラケットやボールなどは、数に限りがありますが、お貸出し品があります（１Ｆ総合受付にて貸出）☆室内履きをお持ちの方はお持ちください。 \n\n\n\n【注意事項】 \n\n\n\n※サッカーボール、バスケットボールなど、ボール類の持ち込みは禁止です。※子ども未来館で貸出ししている道具（遊具）のみご利用いただけます。※道具（遊具）の破損が多くなっています。ご自身が使用した物は、使用が終わるまで丁寧に　使用することを心掛け、使用後は元あった場所に必ずお戻しください。また、使用中にあやまって壊した、または壊れた等については、すみやかに施設スタッフに　申し出をおこない、そのまま放置しないようお願いいたします。再三の注意にも関わらずご使用方法をお守りいただけない場合はお貸出しをお断りする場合があります。※各種目の遊べる場所を指定しています。会場の案内板をご確認の上、指定の場所であそんでください。※道具類や場所は占有できません。譲り合ってあそんでください。※保護者の方は、お子様の見守りをお願いいたします。※大人の方のみで利用する目的での入場はお断りいたします。 \n\n\n\n費用無料
URL:https://www.we-hall.jp/event/%e4%bd%93%e8%82%b2%e5%ae%a4%e3%81%a7%e3%81%82%e3%81%9d%e3%81%bc%e3%81%86-38/
CATEGORIES:わくわくキングダム,今日の未来館
ATTACH;FMTTYPE=image/jpeg:https://www.we-hall.jp/wp-content/uploads/2024/09/24989165_l-scaled.jpg
END:VEVENT
BEGIN:VEVENT
DTSTART;TZID=Asia/Tokyo:20250110T153000
DTEND;TZID=Asia/Tokyo:20250110T170000
DTSTAMP:20260422T130225
CREATED:20250105T053654Z
LAST-MODIFIED:20250105T053655Z
UID:10007349-1736523000-1736528400@www.we-hall.jp
SUMMARY:アートファクトリー
DESCRIPTION:様々な画材を使って、自由にアート作品を作ります。
URL:https://www.we-hall.jp/event/%e3%82%a2%e3%83%bc%e3%83%88%e3%83%95%e3%82%a1%e3%82%af%e3%83%88%e3%83%aa%e3%83%bc-20/
CATEGORIES:ちびっこプラザ,プレゼーションテラス,わくわくキングダム,今日の未来館
ATTACH;FMTTYPE=image/jpeg:https://www.we-hall.jp/wp-content/uploads/2024/10/b6f183015aa3cc177d3a33c971d9de9e-scaled.jpg
END:VEVENT
BEGIN:VEVENT
DTSTART;TZID=Asia/Tokyo:20250111T100000
DTEND;TZID=Asia/Tokyo:20250111T120000
DTSTAMP:20260422T130225
CREATED:20250105T053908Z
LAST-MODIFIED:20250105T053908Z
UID:10007353-1736589600-1736596800@www.we-hall.jp
SUMMARY:ウッドファクトリー
DESCRIPTION:板や木材を使って自由に作品を作ってみよう！ \n\n\n\n \n\n\n\n木材のご用意がありますので、自由に組み合わせて工作してください。 \n\n\n\n※くぎ、ねじ、トンカチ、のこぎり、電動ドライバー、グルーガン等の工具が使用できます。 \n\n\n\n※お子さまだけでもご参加いただけますが、特に低年齢のお子さまには保護者が同伴くださいますようお願いいたします。
URL:https://www.we-hall.jp/event/%e3%82%a6%e3%83%83%e3%83%89%e3%83%95%e3%82%a1%e3%82%af%e3%83%88%e3%83%aa%e3%83%bc-12/
CATEGORIES:プレゼーションテラス,わくわくキングダム,今日の未来館
ATTACH;FMTTYPE=image/jpeg:https://www.we-hall.jp/wp-content/uploads/2024/06/2807317_l-scaled.jpg
END:VEVENT
BEGIN:VEVENT
DTSTART;TZID=Asia/Tokyo:20250111T130000
DTEND;TZID=Asia/Tokyo:20250111T143000
DTSTAMP:20260422T130225
CREATED:20241224T150000Z
LAST-MODIFIED:20250207T092213Z
UID:10007448-1736600400-1736605800@www.we-hall.jp
SUMMARY:イングリッシュ・ラボ
DESCRIPTION:Let’s enjoy！ \n\n\n\n切って、貼って、折り曲げて——講師の指示は英語です。 \n\n\n\nよーく聞きとって工作していきましょう。申込方法などはコチラをご覧ください。
URL:https://www.we-hall.jp/event/%e3%82%a4%e3%83%b3%e3%82%b0%e3%83%aa%e3%83%83%e3%82%b7%e3%83%a5%e3%83%bb%e3%83%a9%e3%83%9c-6/
CATEGORIES:わくわくキングダム,今日の未来館
ATTACH;FMTTYPE=image/jpeg:https://www.we-hall.jp/wp-content/uploads/2024/10/f4a09c234d0de2f0b36d64a548ac816b.jpg
END:VEVENT
BEGIN:VEVENT
DTSTART;TZID=Asia/Tokyo:20250111T130000
DTEND;TZID=Asia/Tokyo:20250111T150000
DTSTAMP:20260422T130225
CREATED:20250110T094521Z
LAST-MODIFIED:20250110T094521Z
UID:10007405-1736600400-1736607600@www.we-hall.jp
SUMMARY:【市原湖畔美術館】ワークショップ「小湊鐵道路線、未来の鳥瞰図をつくろう」
DESCRIPTION:市原湖畔美術館のワークショップが、いちはら子ども未来館にやってきます。 \n\n\n\n「五井駅」から、「上総中野駅」までの全18駅を結ぶ非電化・単線の小湊鉄道。「ちば文化遺産」としても知られる小湊鉄道と沿線の景観の未来を想像し、アーティスト青山悟さんと一緒に１枚の大きなパッチワーク作品を制作します。制作した作品は、2025年春に市原湖畔美術館で開催する展覧会で展示予定です。 \n\n\n\n参加費\n\n\n\n無料 \n\n\n\n定員\n\n\n\n30名 \n\n\n\n\n\n\n\n\n\n持ち物\n\n\n\n特にございませんが、パッチワークに貼りたい布やいらなくなった洋服などがあればご持参ください。
URL:https://www.we-hall.jp/event/%e3%80%90%e5%b8%82%e5%8e%9f%e6%b9%96%e7%95%94%e7%be%8e%e8%a1%93%e9%a4%a8%e3%80%91%e3%83%af%e3%83%bc%e3%82%af%e3%82%b7%e3%83%a7%e3%83%83%e3%83%97%e3%80%8c%e5%b0%8f%e6%b9%8a%e9%90%b5%e9%81%93%e8%b7%af/
CATEGORIES:わくわくキングダム,今日の未来館
ATTACH;FMTTYPE=image/jpeg:https://www.we-hall.jp/wp-content/uploads/2024/12/26c20b31a7564304e162084202b3d93c.jpg
END:VEVENT
BEGIN:VEVENT
DTSTART;TZID=Asia/Tokyo:20250112T130000
DTEND;TZID=Asia/Tokyo:20250112T150000
DTSTAMP:20260422T130225
CREATED:20250110T094644Z
LAST-MODIFIED:20250110T094644Z
UID:10007406-1736686800-1736694000@www.we-hall.jp
SUMMARY:【市原湖畔美術館】ワークショップ「小湊鐵道路線、未来の鳥瞰図をつくろう」
DESCRIPTION:市原湖畔美術館のワークショップが、いちはら子ども未来館にやってきます。 \n\n\n\n「五井駅」から、「上総中野駅」までの全18駅を結ぶ非電化・単線の小湊鉄道。「ちば文化遺産」としても知られる小湊鉄道と沿線の景観の未来を想像し、アーティスト青山悟さんと一緒に１枚の大きなパッチワーク作品を制作します。制作した作品は、2025年春に市原湖畔美術館で開催する展覧会で展示予定です。 \n\n\n\n参加費\n\n\n\n無料 \n\n\n\n定員\n\n\n\n30名 \n\n\n\n\n\n\n\n\n\n持ち物\n\n\n\n特にございませんが、パッチワークに貼りたい布やいらなくなった洋服などがあればご持参ください。
URL:https://www.we-hall.jp/event/%e3%80%90%e5%b8%82%e5%8e%9f%e6%b9%96%e7%95%94%e7%be%8e%e8%a1%93%e9%a4%a8%e3%80%91%e3%83%af%e3%83%bc%e3%82%af%e3%82%b7%e3%83%a7%e3%83%83%e3%83%97%e3%80%8c%e5%b0%8f%e6%b9%8a%e9%90%b5%e9%81%93%e8%b7%af-2/
CATEGORIES:わくわくキングダム,今日の未来館
ATTACH;FMTTYPE=image/jpeg:https://www.we-hall.jp/wp-content/uploads/2024/12/26c20b31a7564304e162084202b3d93c.jpg
END:VEVENT
BEGIN:VEVENT
DTSTART;TZID=Asia/Tokyo:20250112T130000
DTEND;TZID=Asia/Tokyo:20250112T160000
DTSTAMP:20260422T130225
CREATED:20241124T150000Z
LAST-MODIFIED:20250207T101625Z
UID:10007451-1736686800-1736697600@www.we-hall.jp
SUMMARY:クリエイティブ・ラボ「ビー玉迷路」
DESCRIPTION:木の板でビー玉迷路を作ろう。 \n\n\n\n申込・定員\n\n\n\n事前申込制　窓口・電話で受付／先着20名
URL:https://www.we-hall.jp/event/%e3%82%af%e3%83%aa%e3%82%a8%e3%82%a4%e3%83%86%e3%82%a3%e3%83%96%e3%83%bb%e3%83%a9%e3%83%9c%e3%80%8c%e3%82%ac%e3%83%a9%e3%82%b9%e3%83%a2%e3%82%b6%e3%82%a4%e3%82%af%e3%80%8d-2/
CATEGORIES:わくわくキングダム,今日の未来館
ATTACH;FMTTYPE=image/jpeg:https://www.we-hall.jp/wp-content/uploads/2024/10/b6f183015aa3cc177d3a33c971d9de9e-scaled.jpg
END:VEVENT
BEGIN:VEVENT
DTSTART;TZID=Asia/Tokyo:20250114T000000
DTEND;TZID=Asia/Tokyo:20250114T235900
DTSTAMP:20260422T130225
CREATED:20240408T044414Z
LAST-MODIFIED:20250213T070303Z
UID:10001785-1736812800-1736899140@www.we-hall.jp
SUMMARY:休館日
DESCRIPTION:いちはら子ども未来館は休館です。いちはら子ども未来館総合受付の一部業務、子育てサロン・プレイルームはお休みとなります。２階 こども家庭センター（「子育てネウボラセンター」「発達支援センター地域支援室」）は、通常通り営業します。（8：30～17：15） \n\n\n\n休館日の各窓口営業時間\n\n\n\nいちはら子ども未来館総合受付9：00～17：45こども家庭センター（「子育てネウボラセンター」「発達支援センター地域支援室」）8：30～17：15\n\n\n\n※開館時間は8：30～17：45です。
URL:https://www.we-hall.jp/event/%e4%bc%91%e9%a4%a8%e6%97%a5-5/2025-01-14/
CATEGORIES:ちびっこプラザ,プレゼーションテラス,わくわくキングダム,今日の未来館
ATTACH;FMTTYPE=image/jpeg:https://www.we-hall.jp/wp-content/uploads/2024/02/fac10490e6719c8e7a5ca5dcb083e200.jpg
END:VEVENT
BEGIN:VEVENT
DTSTART;TZID=Asia/Tokyo:20250115T153000
DTEND;TZID=Asia/Tokyo:20250115T200000
DTSTAMP:20260422T130225
CREATED:20241227T080141Z
LAST-MODIFIED:20241227T080142Z
UID:10007284-1736955000-1736971200@www.we-hall.jp
SUMMARY:ティーンズスポーツ
DESCRIPTION:バスケットボール、バドミントン、卓球など屋内スポーツを楽しめます。 \n\n\n\nご利者様の声から、10月より以下の通りにルール変更を行っております。ご理解・ご協力のほどよろしくお願いいたします。 \n\n\n\n・主な種目：卓球、バドミントン、バレーボール、バスケットボール・用具は、１階総合受付にてお貸し出しいたします。お貸出しの際は、貸出申込書の記入が必要です。用具等の持ち込みは可。 \n\n\n\n※バスケットボール、バレーボールのお貸し出しはございません。 \n\n\n\n※バレーボールコート（ネット）のご用意はございません。 \n\n\n\n※使用できるバスケットボールゴールは、１つだけです。また、バスケットボール用の専用コートではございません。他の種目もプレイできる環境になっています。譲り合ってご利用ください。 \n\n\n\n※更衣室、シャワー室の設備はございません。更衣または制汗スプレーなどの噴霧は共用部（廊下等）で行わないようお願いいたします。
URL:https://www.we-hall.jp/event/%e3%83%86%e3%82%a3%e3%83%bc%e3%83%b3%e3%82%ba%e3%82%b9%e3%83%9d%e3%83%bc%e3%83%84-21/
CATEGORIES:わくわくキングダム,今日の未来館
ATTACH;FMTTYPE=image/jpeg:https://www.we-hall.jp/wp-content/uploads/2024/04/6bc48cbfde4c77b25c6296dedb92044d.jpg
END:VEVENT
BEGIN:VEVENT
DTSTART;TZID=Asia/Tokyo:20250116T153000
DTEND;TZID=Asia/Tokyo:20250116T170000
DTSTAMP:20260422T130225
CREATED:20241227T075347Z
LAST-MODIFIED:20241227T075348Z
UID:10007275-1737041400-1737046800@www.we-hall.jp
SUMMARY:体育室であそぼう
DESCRIPTION:バドミントンや卓球、ゴムボールなど、広々とした体育室でのびのび遊べます。 \n\n\n\n☆申込不要、出入り自由☆ラケットやボールなどは、数に限りがありますが、お貸出し品があります（１Ｆ総合受付にて貸出）☆室内履きをお持ちの方はお持ちください。 \n\n\n\n【注意事項】 \n\n\n\n※サッカーボール、バスケットボールなど、ボール類の持ち込みは禁止です。※子ども未来館で貸出ししている道具（遊具）のみご利用いただけます。※道具（遊具）の破損が多くなっています。ご自身が使用した物は、使用が終わるまで丁寧に　使用することを心掛け、使用後は元あった場所に必ずお戻しください。また、使用中にあやまって壊した、または壊れた等については、すみやかに施設スタッフに　申し出をおこない、そのまま放置しないようお願いいたします。再三の注意にも関わらずご使用方法をお守りいただけない場合はお貸出しをお断りする場合があります。※各種目の遊べる場所を指定しています。会場の案内板をご確認の上、指定の場所であそんでください。※道具類や場所は占有できません。譲り合ってあそんでください。※保護者の方は、お子様の見守りをお願いいたします。※大人の方のみで利用する目的での入場はお断りいたします。 \n\n\n\n費用無料
URL:https://www.we-hall.jp/event/%e4%bd%93%e8%82%b2%e5%ae%a4%e3%81%a7%e3%81%82%e3%81%9d%e3%81%bc%e3%81%86-39/
CATEGORIES:わくわくキングダム,今日の未来館
ATTACH;FMTTYPE=image/jpeg:https://www.we-hall.jp/wp-content/uploads/2024/09/24989165_l-scaled.jpg
END:VEVENT
BEGIN:VEVENT
DTSTART;TZID=Asia/Tokyo:20250117T153000
DTEND;TZID=Asia/Tokyo:20250117T170000
DTSTAMP:20260422T130225
CREATED:20250105T053723Z
LAST-MODIFIED:20250105T053724Z
UID:10007350-1737127800-1737133200@www.we-hall.jp
SUMMARY:アートファクトリー
DESCRIPTION:様々な画材を使って、自由にアート作品を作ります。
URL:https://www.we-hall.jp/event/%e3%82%a2%e3%83%bc%e3%83%88%e3%83%95%e3%82%a1%e3%82%af%e3%83%88%e3%83%aa%e3%83%bc-21/
CATEGORIES:ちびっこプラザ,プレゼーションテラス,わくわくキングダム,今日の未来館
ATTACH;FMTTYPE=image/jpeg:https://www.we-hall.jp/wp-content/uploads/2024/10/b6f183015aa3cc177d3a33c971d9de9e-scaled.jpg
END:VEVENT
BEGIN:VEVENT
DTSTART;TZID=Asia/Tokyo:20250118T090000
DTEND;TZID=Asia/Tokyo:20250118T170000
DTSTAMP:20260422T130225
CREATED:20241227T075437Z
LAST-MODIFIED:20241227T075437Z
UID:10007276-1737190800-1737219600@www.we-hall.jp
SUMMARY:体育室であそぼう（９時～）
DESCRIPTION:バドミントンや卓球、ゴムボールなど、広々とした体育室でのびのび遊べます。 \n\n\n\n☆申込不要、出入り自由☆ラケットやボールなどは、数に限りがありますが、お貸出し品があります（１Ｆ総合受付にて貸出）☆室内履きをお持ちの方はお持ちください。 \n\n\n\n【注意事項】 \n\n\n\n※サッカーボール、バスケットボールなど、ボール類の持ち込みは禁止です。※子ども未来館で貸出ししている道具（遊具）のみご利用いただけます。※道具（遊具）の破損が多くなっています。ご自身が使用した物は、使用が終わるまで丁寧に　使用することを心掛け、使用後は元あった場所に必ずお戻しください。また、使用中にあやまって壊した、または壊れた等については、すみやかに施設スタッフに　申し出をおこない、そのまま放置しないようお願いいたします。再三の注意にも関わらずご使用方法をお守りいただけない場合はお貸出しをお断りする場合があります。※各種目の遊べる場所を指定しています。会場の案内板をご確認の上、指定の場所であそんでください。※道具類や場所は占有できません。譲り合ってあそんでください。※保護者の方は、お子様の見守りをお願いいたします。※大人の方のみで利用する目的での入場はお断りいたします。 \n\n\n\n費用無料
URL:https://www.we-hall.jp/event/%e4%bd%93%e8%82%b2%e5%ae%a4%e3%81%a7%e3%81%82%e3%81%9d%e3%81%bc%e3%81%86%ef%bc%88%ef%bc%99%e6%99%82%ef%bd%9e%ef%bc%89-2/
CATEGORIES:わくわくキングダム,今日の未来館
ATTACH;FMTTYPE=image/jpeg:https://www.we-hall.jp/wp-content/uploads/2024/09/24989165_l-scaled.jpg
END:VEVENT
BEGIN:VEVENT
DTSTART;TZID=Asia/Tokyo:20250118T100000
DTEND;TZID=Asia/Tokyo:20250118T120000
DTSTAMP:20260422T130225
CREATED:20250105T053947Z
LAST-MODIFIED:20250105T053948Z
UID:10007354-1737194400-1737201600@www.we-hall.jp
SUMMARY:ウッドファクトリー
DESCRIPTION:板や木材を使って自由に作品を作ってみよう！ \n\n\n\n \n\n\n\n木材のご用意がありますので、自由に組み合わせて工作してください。 \n\n\n\n※くぎ、ねじ、トンカチ、のこぎり、電動ドライバー、グルーガン等の工具が使用できます。 \n\n\n\n※お子さまだけでもご参加いただけますが、特に低年齢のお子さまには保護者が同伴くださいますようお願いいたします。
URL:https://www.we-hall.jp/event/%e3%82%a6%e3%83%83%e3%83%89%e3%83%95%e3%82%a1%e3%82%af%e3%83%88%e3%83%aa%e3%83%bc-13/
CATEGORIES:プレゼーションテラス,わくわくキングダム,今日の未来館
ATTACH;FMTTYPE=image/jpeg:https://www.we-hall.jp/wp-content/uploads/2024/06/2807317_l-scaled.jpg
END:VEVENT
BEGIN:VEVENT
DTSTART;TZID=Asia/Tokyo:20250119T100000
DTEND;TZID=Asia/Tokyo:20250119T170000
DTSTAMP:20260422T130225
CREATED:20241227T075542Z
LAST-MODIFIED:20250113T033519Z
UID:10007277-1737280800-1737306000@www.we-hall.jp
SUMMARY:体育室であそぼう（10時〜）
DESCRIPTION:バドミントンや卓球、ゴムボールなど、広々とした体育室でのびのび遊べます。 \n\n\n\n☆申込不要、出入り自由☆ラケットやボールなどは、数に限りがありますが、お貸出し品があります（１Ｆ総合受付にて貸出）☆室内履きをお持ちの方はお持ちください。 \n\n\n\n【注意事項】 \n\n\n\n※サッカーボール、バスケットボールなど、ボール類の持ち込みは禁止です。※子ども未来館で貸出ししている道具（遊具）のみご利用いただけます。※道具（遊具）の破損が多くなっています。ご自身が使用した物は、使用が終わるまで丁寧に　使用することを心掛け、使用後は元あった場所に必ずお戻しください。また、使用中にあやまって壊した、または壊れた等については、すみやかに施設スタッフに　申し出をおこない、そのまま放置しないようお願いいたします。再三の注意にも関わらずご使用方法をお守りいただけない場合はお貸出しをお断りする場合があります。※各種目の遊べる場所を指定しています。会場の案内板をご確認の上、指定の場所であそんでください。※道具類や場所は占有できません。譲り合ってあそんでください。※保護者の方は、お子様の見守りをお願いいたします。※大人の方のみで利用する目的での入場はお断りいたします。 \n\n\n\n費用無料
URL:https://www.we-hall.jp/event/%e4%bd%93%e8%82%b2%e5%ae%a4%e3%81%a7%e3%81%82%e3%81%9d%e3%81%bc%e3%81%86%ef%bc%8813%e6%99%82%ef%bd%9e%ef%bc%89/
CATEGORIES:わくわくキングダム,今日の未来館
ATTACH;FMTTYPE=image/jpeg:https://www.we-hall.jp/wp-content/uploads/2024/09/24989165_l-scaled.jpg
END:VEVENT
BEGIN:VEVENT
DTSTART;TZID=Asia/Tokyo:20250120T153000
DTEND;TZID=Asia/Tokyo:20250120T170000
DTSTAMP:20260422T130225
CREATED:20250105T052524Z
LAST-MODIFIED:20250105T052524Z
UID:10007347-1737387000-1737392400@www.we-hall.jp
SUMMARY:eスポーツチャレンジ
DESCRIPTION:iPadで気軽にeスポーツを楽しもう！
URL:https://www.we-hall.jp/event/e%e3%82%b9%e3%83%9d%e3%83%bc%e3%83%84%e3%83%81%e3%83%a3%e3%83%ac%e3%83%b3%e3%82%b8-10/
CATEGORIES:プレゼーションテラス,わくわくキングダム,今日の未来館
ATTACH;FMTTYPE=image/jpeg:https://www.we-hall.jp/wp-content/uploads/2024/06/d77cfaceda2d92f51dbdbb2e2b1fb7ee-scaled.jpg
END:VEVENT
BEGIN:VEVENT
DTSTART;TZID=Asia/Tokyo:20250121T153000
DTEND;TZID=Asia/Tokyo:20250121T170000
DTSTAMP:20260422T130225
CREATED:20241227T075627Z
LAST-MODIFIED:20241227T075628Z
UID:10007278-1737473400-1737478800@www.we-hall.jp
SUMMARY:体育室であそぼう
DESCRIPTION:バドミントンや卓球、ゴムボールなど、広々とした体育室でのびのび遊べます。 \n\n\n\n☆申込不要、出入り自由☆ラケットやボールなどは、数に限りがありますが、お貸出し品があります（１Ｆ総合受付にて貸出）☆室内履きをお持ちの方はお持ちください。 \n\n\n\n【注意事項】 \n\n\n\n※サッカーボール、バスケットボールなど、ボール類の持ち込みは禁止です。※子ども未来館で貸出ししている道具（遊具）のみご利用いただけます。※道具（遊具）の破損が多くなっています。ご自身が使用した物は、使用が終わるまで丁寧に　使用することを心掛け、使用後は元あった場所に必ずお戻しください。また、使用中にあやまって壊した、または壊れた等については、すみやかに施設スタッフに　申し出をおこない、そのまま放置しないようお願いいたします。再三の注意にも関わらずご使用方法をお守りいただけない場合はお貸出しをお断りする場合があります。※各種目の遊べる場所を指定しています。会場の案内板をご確認の上、指定の場所であそんでください。※道具類や場所は占有できません。譲り合ってあそんでください。※保護者の方は、お子様の見守りをお願いいたします。※大人の方のみで利用する目的での入場はお断りいたします。 \n\n\n\n費用無料
URL:https://www.we-hall.jp/event/%e4%bd%93%e8%82%b2%e5%ae%a4%e3%81%a7%e3%81%82%e3%81%9d%e3%81%bc%e3%81%86-40/
CATEGORIES:わくわくキングダム,今日の未来館
ATTACH;FMTTYPE=image/jpeg:https://www.we-hall.jp/wp-content/uploads/2024/09/24989165_l-scaled.jpg
END:VEVENT
BEGIN:VEVENT
DTSTART;TZID=Asia/Tokyo:20250121T160000
DTEND;TZID=Asia/Tokyo:20250121T170000
DTSTAMP:20260422T130225
CREATED:20250120T234134Z
LAST-MODIFIED:20250120T234135Z
UID:10007408-1737475200-1737478800@www.we-hall.jp
SUMMARY:プログラミングであそぼう
DESCRIPTION:プログラミングを楽しく体験しよう！
URL:https://www.we-hall.jp/event/%e3%83%97%e3%83%ad%e3%82%b0%e3%83%a9%e3%83%9f%e3%83%b3%e3%82%b0%e3%81%a7%e3%81%82%e3%81%9d%e3%81%bc%e3%81%86-7/
CATEGORIES:プレゼーションテラス,わくわくキングダム,今日の未来館
ATTACH;FMTTYPE=image/jpeg:https://www.we-hall.jp/wp-content/uploads/2024/09/ebeb14209462d559f68381095dcfc210.jpg
END:VEVENT
BEGIN:VEVENT
DTSTART;TZID=Asia/Tokyo:20250122T153000
DTEND;TZID=Asia/Tokyo:20250122T200000
DTSTAMP:20260422T130225
CREATED:20241227T080217Z
LAST-MODIFIED:20241227T080218Z
UID:10007285-1737559800-1737576000@www.we-hall.jp
SUMMARY:ティーンズスポーツ
DESCRIPTION:バスケットボール、バドミントン、卓球など屋内スポーツを楽しめます。 \n\n\n\nご利者様の声から、10月より以下の通りにルール変更を行っております。ご理解・ご協力のほどよろしくお願いいたします。 \n\n\n\n・主な種目：卓球、バドミントン、バレーボール、バスケットボール・用具は、１階総合受付にてお貸し出しいたします。お貸出しの際は、貸出申込書の記入が必要です。用具等の持ち込みは可。 \n\n\n\n※バスケットボール、バレーボールのお貸し出しはございません。 \n\n\n\n※バレーボールコート（ネット）のご用意はございません。 \n\n\n\n※使用できるバスケットボールゴールは、１つだけです。また、バスケットボール用の専用コートではございません。他の種目もプレイできる環境になっています。譲り合ってご利用ください。 \n\n\n\n※更衣室、シャワー室の設備はございません。更衣または制汗スプレーなどの噴霧は共用部（廊下等）で行わないようお願いいたします。
URL:https://www.we-hall.jp/event/%e3%83%86%e3%82%a3%e3%83%bc%e3%83%b3%e3%82%ba%e3%82%b9%e3%83%9d%e3%83%bc%e3%83%84-22/
CATEGORIES:わくわくキングダム,今日の未来館
ATTACH;FMTTYPE=image/jpeg:https://www.we-hall.jp/wp-content/uploads/2024/04/6bc48cbfde4c77b25c6296dedb92044d.jpg
END:VEVENT
BEGIN:VEVENT
DTSTART;TZID=Asia/Tokyo:20250123T153000
DTEND;TZID=Asia/Tokyo:20250123T170000
DTSTAMP:20260422T130225
CREATED:20241227T075657Z
LAST-MODIFIED:20241227T075658Z
UID:10007279-1737646200-1737651600@www.we-hall.jp
SUMMARY:体育室であそぼう
DESCRIPTION:バドミントンや卓球、ゴムボールなど、広々とした体育室でのびのび遊べます。 \n\n\n\n☆申込不要、出入り自由☆ラケットやボールなどは、数に限りがありますが、お貸出し品があります（１Ｆ総合受付にて貸出）☆室内履きをお持ちの方はお持ちください。 \n\n\n\n【注意事項】 \n\n\n\n※サッカーボール、バスケットボールなど、ボール類の持ち込みは禁止です。※子ども未来館で貸出ししている道具（遊具）のみご利用いただけます。※道具（遊具）の破損が多くなっています。ご自身が使用した物は、使用が終わるまで丁寧に　使用することを心掛け、使用後は元あった場所に必ずお戻しください。また、使用中にあやまって壊した、または壊れた等については、すみやかに施設スタッフに　申し出をおこない、そのまま放置しないようお願いいたします。再三の注意にも関わらずご使用方法をお守りいただけない場合はお貸出しをお断りする場合があります。※各種目の遊べる場所を指定しています。会場の案内板をご確認の上、指定の場所であそんでください。※道具類や場所は占有できません。譲り合ってあそんでください。※保護者の方は、お子様の見守りをお願いいたします。※大人の方のみで利用する目的での入場はお断りいたします。 \n\n\n\n費用無料
URL:https://www.we-hall.jp/event/%e4%bd%93%e8%82%b2%e5%ae%a4%e3%81%a7%e3%81%82%e3%81%9d%e3%81%bc%e3%81%86-41/
CATEGORIES:わくわくキングダム,今日の未来館
ATTACH;FMTTYPE=image/jpeg:https://www.we-hall.jp/wp-content/uploads/2024/09/24989165_l-scaled.jpg
END:VEVENT
BEGIN:VEVENT
DTSTART;TZID=Asia/Tokyo:20250124T153000
DTEND;TZID=Asia/Tokyo:20250124T170000
DTSTAMP:20260422T130225
CREATED:20250105T053744Z
LAST-MODIFIED:20250105T053745Z
UID:10007351-1737732600-1737738000@www.we-hall.jp
SUMMARY:アートファクトリー
DESCRIPTION:様々な画材を使って、自由にアート作品を作ります。
URL:https://www.we-hall.jp/event/%e3%82%a2%e3%83%bc%e3%83%88%e3%83%95%e3%82%a1%e3%82%af%e3%83%88%e3%83%aa%e3%83%bc-22/
CATEGORIES:ちびっこプラザ,プレゼーションテラス,わくわくキングダム,今日の未来館
ATTACH;FMTTYPE=image/jpeg:https://www.we-hall.jp/wp-content/uploads/2024/10/b6f183015aa3cc177d3a33c971d9de9e-scaled.jpg
END:VEVENT
BEGIN:VEVENT
DTSTART;TZID=Asia/Tokyo:20250125T100000
DTEND;TZID=Asia/Tokyo:20250125T120000
DTSTAMP:20260422T130225
CREATED:20250105T054018Z
LAST-MODIFIED:20250105T054019Z
UID:10007355-1737799200-1737806400@www.we-hall.jp
SUMMARY:ウッドファクトリー
DESCRIPTION:板や木材を使って自由に作品を作ってみよう！ \n\n\n\n \n\n\n\n木材のご用意がありますので、自由に組み合わせて工作してください。 \n\n\n\n※くぎ、ねじ、トンカチ、のこぎり、電動ドライバー、グルーガン等の工具が使用できます。 \n\n\n\n※お子さまだけでもご参加いただけますが、特に低年齢のお子さまには保護者が同伴くださいますようお願いいたします。
URL:https://www.we-hall.jp/event/%e3%82%a6%e3%83%83%e3%83%89%e3%83%95%e3%82%a1%e3%82%af%e3%83%88%e3%83%aa%e3%83%bc-14/
CATEGORIES:プレゼーションテラス,わくわくキングダム,今日の未来館
ATTACH;FMTTYPE=image/jpeg:https://www.we-hall.jp/wp-content/uploads/2024/06/2807317_l-scaled.jpg
END:VEVENT
BEGIN:VEVENT
DTSTART;TZID=Asia/Tokyo:20250125T130000
DTEND;TZID=Asia/Tokyo:20250125T170000
DTSTAMP:20260422T130225
CREATED:20250124T104857Z
LAST-MODIFIED:20250124T104858Z
UID:10007409-1737810000-1737824400@www.we-hall.jp
SUMMARY:体育室であそぼう
DESCRIPTION:バドミントンや卓球、ゴムボールなど、広々とした体育室でのびのび遊べます。 \n\n\n\n☆申込不要、出入り自由☆ラケットやボールなどは、数に限りがありますが、お貸出し品があります（１Ｆ総合受付にて貸出）☆室内履きをお持ちの方はお持ちください。 \n\n\n\n【注意事項】 \n\n\n\n※サッカーボール、バスケットボールなど、ボール類の持ち込みは禁止です。※子ども未来館で貸出ししている道具（遊具）のみご利用いただけます。※道具（遊具）の破損が多くなっています。ご自身が使用した物は、使用が終わるまで丁寧に　使用することを心掛け、使用後は元あった場所に必ずお戻しください。また、使用中にあやまって壊した、または壊れた等については、すみやかに施設スタッフに　申し出をおこない、そのまま放置しないようお願いいたします。再三の注意にも関わらずご使用方法をお守りいただけない場合はお貸出しをお断りする場合があります。※各種目の遊べる場所を指定しています。会場の案内板をご確認の上、指定の場所であそんでください。※道具類や場所は占有できません。譲り合ってあそんでください。※保護者の方は、お子様の見守りをお願いいたします。※大人の方のみで利用する目的での入場はお断りいたします。 \n\n\n\n費用無料
URL:https://www.we-hall.jp/event/%e4%bd%93%e8%82%b2%e5%ae%a4%e3%81%a7%e3%81%82%e3%81%9d%e3%81%bc%e3%81%86-45/
CATEGORIES:わくわくキングダム,今日の未来館
ATTACH;FMTTYPE=image/jpeg:https://www.we-hall.jp/wp-content/uploads/2024/09/24989165_l-scaled.jpg
END:VEVENT
BEGIN:VEVENT
DTSTART;TZID=Asia/Tokyo:20250126T100000
DTEND;TZID=Asia/Tokyo:20250126T103000
DTSTAMP:20260422T130225
CREATED:20241206T033343Z
LAST-MODIFIED:20241213T071947Z
UID:10007259-1737885600-1737887400@www.we-hall.jp
SUMMARY:たのしっく♪クラシック～みんな あつまれ ちびっこコンサート～（1回目）
DESCRIPTION:みんなで歌って楽しめる、愉快でかわいいコンサートだよ！声楽家とピアノも交えた童謡もお贈りします。みんなで歌える曲の説明や、演奏をバックに参加者全員で歌ったりして楽しみましょう！0歳から参加OK★ \n\n\n\n出演\n\n\n\nはぴるん　福田 聡恵（ソプラノ）、四十八願 舞子（メゾソプラノ）、竹山 美輝（ピアノ） \n\n\n\n時間\n\n\n\n①10：00～10：30　②11：30～12：00 \n\n\n\n申込\n\n\n\n不要。当日直接会場へ
URL:https://www.we-hall.jp/event/%e3%81%9f%e3%81%ae%e3%81%97%e3%81%a3%e3%81%8f%e2%99%aa%e3%82%af%e3%83%a9%e3%82%b7%e3%83%83%e3%82%af%ef%bd%9e%e3%81%bf%e3%82%93%e3%81%aa-%e3%81%82%e3%81%a4%e3%81%be%e3%82%8c-%e3%81%a1%e3%81%b3%e3%81%a3/
CATEGORIES:ちびっこプラザ,プレゼーションテラス,わくわくキングダム,今日の未来館
ATTACH;FMTTYPE=image/jpeg:https://www.we-hall.jp/wp-content/uploads/2024/11/lgkx7816.jpg
END:VEVENT
BEGIN:VEVENT
DTSTART;TZID=Asia/Tokyo:20250126T100000
DTEND;TZID=Asia/Tokyo:20250126T120000
DTSTAMP:20260422T130225
CREATED:20241203T104748Z
LAST-MODIFIED:20250207T102935Z
UID:10007256-1737885600-1737892800@www.we-hall.jp
SUMMARY:サイエンス・ラボ
DESCRIPTION:科学の専門家と一緒に実験や観察を通して、サイエンスの楽しさを体験できます。 \n\n\n\n今回のテーマは「動く」です。 \n\n\n\n動くおもちゃづくりを通して、実験・観察をします。 \n\n\n\nゴムのもつ伸びて縮む力、ふるえる力、糸の摩擦力を使い、もどる車、船の汽笛など様々なサイエンスを楽しく学びます。 \n\n\n\n費用\n\n\n\n無料 \n\n\n\n申込方法・定員\n\n\n\n電話・窓口にて12/5より受付開始 \n\n\n\n対象：小学1～6年生定員：20人（先着順）
URL:https://www.we-hall.jp/event/%e3%82%b5%e3%82%a4%e3%82%a8%e3%83%b3%e3%82%b9%e3%83%bb%e3%83%a9%e3%83%9c-10/
CATEGORIES:わくわくキングダム,今日の未来館
ATTACH;FMTTYPE=image/jpeg:https://www.we-hall.jp/wp-content/uploads/2024/04/d38b9992c93fcc9b1c9ace1917fdd31f.jpg
END:VEVENT
BEGIN:VEVENT
DTSTART;TZID=Asia/Tokyo:20250126T104000
DTEND;TZID=Asia/Tokyo:20250126T112000
DTSTAMP:20260422T130225
CREATED:20241213T064932Z
LAST-MODIFIED:20241213T072514Z
UID:10007261-1737888000-1737890400@www.we-hall.jp
SUMMARY:みんなで音楽つくってみよう！～０才からの作曲体験～(午前の部）
DESCRIPTION:作曲家『川島素晴』といっしょに音楽をつくってみよう！講師とみんなでいっしょになってつくる音楽はどんな音楽になるのかな？※申込は不要です。当日会場（1階 プレゼンテーションテラス）へお越しください。 \n\n\n\n講師\n\n\n\n川島 素晴 \n\n\n\n時間\n\n\n\n①10：40～11：20　②14：40～15：20
URL:https://www.we-hall.jp/event/%e3%81%bf%e3%82%93%e3%81%aa%e3%81%a7%e9%9f%b3%e6%a5%bd%e3%81%a4%e3%81%8f%e3%81%a3%e3%81%a6%e3%81%bf%e3%82%88%e3%81%86%ef%bc%81%ef%bd%9e%ef%bc%90%e6%89%8d%e3%81%8b%e3%82%89%e3%81%ae%e4%bd%9c%e6%9b%b2-2/
CATEGORIES:ちびっこプラザ,プレゼーションテラス,わくわくキングダム,今日の未来館
ATTACH;FMTTYPE=image/jpeg:https://www.we-hall.jp/wp-content/uploads/2024/11/3fb74b31c44aa9b5219be9b066cd9e91.jpeg
END:VEVENT
END:VCALENDAR